{"text_format":"1","workbook":"xlsx","n_sheets":2,"sheets":["Weekly schedule","Schedule"],"not_rendered":{"charts":0,"images":0,"macros":1,"external_links":0,"defined_names":4,"comments":0,"pivot_tables":0},"unopened":[],"bounds":{"document_bytes":16777216,"sheet_cells":100000,"rows_first":2000,"rows_last":500,"rows_between":2000,"halvings":0,"cell_chars":16384,"cell_head_chars":4096},"cells_cut":0,"cells_raw":0,"read":"whole","date_system":"1900"}

{"sheet":"Weekly schedule","index":0,"n_rows":29,"n_cols":9,"rows_kept":29,"cut":false,"hidden":false,"merged":[[33,1,33,2],[34,1,34,2],[35,1,35,2],[36,1,36,2],[37,1,37,2],[38,1,38,2],[39,1,39,2],[40,1,40,2],[41,1,41,2],[42,1,42,2],[43,1,43,2],[44,1,44,2],[45,1,45,2],[46,1,46,2],[47,1,47,2],[48,1,48,2],[49,1,49,2],[50,1,50,2],[51,1,51,2],[52,1,52,2],[53,1,53,2],[54,1,54,2],[55,1,55,2],[56,1,56,2],[63,1,63,2],[57,1,57,2],[58,1,58,2],[59,1,59,2],[60,1,60,2],[61,1,61,2],[62,1,62,2]]}
[]
[null,null,null,null,"Date:","2010-08-01"]
[]
[null,null,{"$f":"$F$2-WEEKDAY($F$2,1)+1","v":"2010-08-01"},{"$f":"C4+1","v":"2010-08-02"},"2010-08-03","2010-08-04","2010-08-05","2010-08-06","2010-08-07"]
[null,null,"Sunday","Monday","Tuesday","Wednesday","Thursday","Friday","Saturday"]
[null,"00:00:00",{"$f":"IFERROR(Lookup_concat(C$4+$B6,Schedule!$C$3:$C$6,Schedule!$D$3:$D$6,Schedule!$B$3:$B$6),\"\")","v":""},{"$f":"IFERROR(Lookup_concat(D$4+$B6,Schedule!$C$3:$C$6,Schedule!$D$3:$D$6,Schedule!$B$3:$B$6),\"\")","v":""},{"$f":"IFERROR(Lookup_concat(E$4+$B6,Schedule!$C$3:$C$6,Schedule!$D$3:$D$6,Schedule!$B$3:$B$6),\"\")","v":""},{"$f":"IFERROR(Lookup_concat(F$4+$B6,Schedule!$C$3:$C$6,Schedule!$D$3:$D$6,Schedule!$B$3:$B$6),\"\")","v":""},{"$f":"IFERROR(Lookup_concat(G$4+$B6,Schedule!$C$3:$C$6,Schedule!$D$3:$D$6,Schedule!$B$3:$B$6),\"\")","v":""},{"$f":"IFERROR(Lookup_concat(H$4+$B6,Schedule!$C$3:$C$6,Schedule!$D$3:$D$6,Schedule!$B$3:$B$6),\"\")","v":""},{"$f":"IFERROR(Lookup_concat(I$4+$B6,Schedule!$C$3:$C$6,Schedule!$D$3:$D$6,Schedule!$B$3:$B$6),\"\")","v":""}]
[null,"01:00:00",{"$f":"IFERROR(Lookup_concat(C$4+$B7,Schedule!$C$3:$C$6,Schedule!$D$3:$D$6,Schedule!$B$3:$B$6),\"\")","v":""},{"$f":"IFERROR(Lookup_concat(D$4+$B7,Schedule!$C$3:$C$6,Schedule!$D$3:$D$6,Schedule!$B$3:$B$6),\"\")","v":""},{"$f":"IFERROR(Lookup_concat(E$4+$B7,Schedule!$C$3:$C$6,Schedule!$D$3:$D$6,Schedule!$B$3:$B$6),\"\")","v":""},{"$f":"IFERROR(Lookup_concat(F$4+$B7,Schedule!$C$3:$C$6,Schedule!$D$3:$D$6,Schedule!$B$3:$B$6),\"\")","v":""},{"$f":"IFERROR(Lookup_concat(G$4+$B7,Schedule!$C$3:$C$6,Schedule!$D$3:$D$6,Schedule!$B$3:$B$6),\"\")","v":""},{"$f":"IFERROR(Lookup_concat(H$4+$B7,Schedule!$C$3:$C$6,Schedule!$D$3:$D$6,Schedule!$B$3:$B$6),\"\")","v":""},{"$f":"IFERROR(Lookup_concat(I$4+$B7,Schedule!$C$3:$C$6,Schedule!$D$3:$D$6,Schedule!$B$3:$B$6),\"\")","v":""}]
[null,"02:00:00",{"$f":"IFERROR(Lookup_concat(C$4+$B8,Schedule!$C$3:$C$6,Schedule!$D$3:$D$6,Schedule!$B$3:$B$6),\"\")","v":""},{"$f":"IFERROR(Lookup_concat(D$4+$B8,Schedule!$C$3:$C$6,Schedule!$D$3:$D$6,Schedule!$B$3:$B$6),\"\")","v":""},{"$f":"IFERROR(Lookup_concat(E$4+$B8,Schedule!$C$3:$C$6,Schedule!$D$3:$D$6,Schedule!$B$3:$B$6),\"\")","v":""},{"$f":"IFERROR(Lookup_concat(F$4+$B8,Schedule!$C$3:$C$6,Schedule!$D$3:$D$6,Schedule!$B$3:$B$6),\"\")","v":""},{"$f":"IFERROR(Lookup_concat(G$4+$B8,Schedule!$C$3:$C$6,Schedule!$D$3:$D$6,Schedule!$B$3:$B$6),\"\")","v":""},{"$f":"IFERROR(Lookup_concat(H$4+$B8,Schedule!$C$3:$C$6,Schedule!$D$3:$D$6,Schedule!$B$3:$B$6),\"\")","v":""},{"$f":"IFERROR(Lookup_concat(I$4+$B8,Schedule!$C$3:$C$6,Schedule!$D$3:$D$6,Schedule!$B$3:$B$6),\"\")","v":""}]
[null,"03:00:00",{"$f":"IFERROR(Lookup_concat(C$4+$B9,Schedule!$C$3:$C$6,Schedule!$D$3:$D$6,Schedule!$B$3:$B$6),\"\")","v":""},{"$f":"IFERROR(Lookup_concat(D$4+$B9,Schedule!$C$3:$C$6,Schedule!$D$3:$D$6,Schedule!$B$3:$B$6),\"\")","v":""},{"$f":"IFERROR(Lookup_concat(E$4+$B9,Schedule!$C$3:$C$6,Schedule!$D$3:$D$6,Schedule!$B$3:$B$6),\"\")","v":""},{"$f":"IFERROR(Lookup_concat(F$4+$B9,Schedule!$C$3:$C$6,Schedule!$D$3:$D$6,Schedule!$B$3:$B$6),\"\")","v":""},{"$f":"IFERROR(Lookup_concat(G$4+$B9,Schedule!$C$3:$C$6,Schedule!$D$3:$D$6,Schedule!$B$3:$B$6),\"\")","v":""},{"$f":"IFERROR(Lookup_concat(H$4+$B9,Schedule!$C$3:$C$6,Schedule!$D$3:$D$6,Schedule!$B$3:$B$6),\"\")","v":""},{"$f":"IFERROR(Lookup_concat(I$4+$B9,Schedule!$C$3:$C$6,Schedule!$D$3:$D$6,Schedule!$B$3:$B$6),\"\")","v":""}]
[null,"04:00:00",{"$f":"IFERROR(Lookup_concat(C$4+$B10,Schedule!$C$3:$C$6,Schedule!$D$3:$D$6,Schedule!$B$3:$B$6),\"\")","v":""},{"$f":"IFERROR(Lookup_concat(D$4+$B10,Schedule!$C$3:$C$6,Schedule!$D$3:$D$6,Schedule!$B$3:$B$6),\"\")","v":""},{"$f":"IFERROR(Lookup_concat(E$4+$B10,Schedule!$C$3:$C$6,Schedule!$D$3:$D$6,Schedule!$B$3:$B$6),\"\")","v":""},{"$f":"IFERROR(Lookup_concat(F$4+$B10,Schedule!$C$3:$C$6,Schedule!$D$3:$D$6,Schedule!$B$3:$B$6),\"\")","v":""},{"$f":"IFERROR(Lookup_concat(G$4+$B10,Schedule!$C$3:$C$6,Schedule!$D$3:$D$6,Schedule!$B$3:$B$6),\"\")","v":""},{"$f":"IFERROR(Lookup_concat(H$4+$B10,Schedule!$C$3:$C$6,Schedule!$D$3:$D$6,Schedule!$B$3:$B$6),\"\")","v":""},{"$f":"IFERROR(Lookup_concat(I$4+$B10,Schedule!$C$3:$C$6,Schedule!$D$3:$D$6,Schedule!$B$3:$B$6),\"\")","v":""}]
[null,"05:00:00",{"$f":"IFERROR(Lookup_concat(C$4+$B11,Schedule!$C$3:$C$6,Schedule!$D$3:$D$6,Schedule!$B$3:$B$6),\"\")","v":""},{"$f":"IFERROR(Lookup_concat(D$4+$B11,Schedule!$C$3:$C$6,Schedule!$D$3:$D$6,Schedule!$B$3:$B$6),\"\")","v":""},{"$f":"IFERROR(Lookup_concat(E$4+$B11,Schedule!$C$3:$C$6,Schedule!$D$3:$D$6,Schedule!$B$3:$B$6),\"\")","v":""},{"$f":"IFERROR(Lookup_concat(F$4+$B11,Schedule!$C$3:$C$6,Schedule!$D$3:$D$6,Schedule!$B$3:$B$6),\"\")","v":""},{"$f":"IFERROR(Lookup_concat(G$4+$B11,Schedule!$C$3:$C$6,Schedule!$D$3:$D$6,Schedule!$B$3:$B$6),\"\")","v":""},{"$f":"IFERROR(Lookup_concat(H$4+$B11,Schedule!$C$3:$C$6,Schedule!$D$3:$D$6,Schedule!$B$3:$B$6),\"\")","v":""},{"$f":"IFERROR(Lookup_concat(I$4+$B11,Schedule!$C$3:$C$6,Schedule!$D$3:$D$6,Schedule!$B$3:$B$6),\"\")","v":""}]
[null,"06:00:00",{"$f":"IFERROR(Lookup_concat(C$4+$B12,Schedule!$C$3:$C$6,Schedule!$D$3:$D$6,Schedule!$B$3:$B$6),\"\")","v":""},{"$f":"IFERROR(Lookup_concat(D$4+$B12,Schedule!$C$3:$C$6,Schedule!$D$3:$D$6,Schedule!$B$3:$B$6),\"\")","v":""},{"$f":"IFERROR(Lookup_concat(E$4+$B12,Schedule!$C$3:$C$6,Schedule!$D$3:$D$6,Schedule!$B$3:$B$6),\"\")","v":""},{"$f":"IFERROR(Lookup_concat(F$4+$B12,Schedule!$C$3:$C$6,Schedule!$D$3:$D$6,Schedule!$B$3:$B$6),\"\")","v":""},{"$f":"IFERROR(Lookup_concat(G$4+$B12,Schedule!$C$3:$C$6,Schedule!$D$3:$D$6,Schedule!$B$3:$B$6),\"\")","v":""},{"$f":"IFERROR(Lookup_concat(H$4+$B12,Schedule!$C$3:$C$6,Schedule!$D$3:$D$6,Schedule!$B$3:$B$6),\"\")","v":""},{"$f":"IFERROR(Lookup_concat(I$4+$B12,Schedule!$C$3:$C$6,Schedule!$D$3:$D$6,Schedule!$B$3:$B$6),\"\")","v":""}]
[null,"07:00:00",{"$f":"IFERROR(Lookup_concat(C$4+$B13,Schedule!$C$3:$C$6,Schedule!$D$3:$D$6,Schedule!$B$3:$B$6),\"\")","v":""},{"$f":"IFERROR(Lookup_concat(D$4+$B13,Schedule!$C$3:$C$6,Schedule!$D$3:$D$6,Schedule!$B$3:$B$6),\"\")","v":""},{"$f":"IFERROR(Lookup_concat(E$4+$B13,Schedule!$C$3:$C$6,Schedule!$D$3:$D$6,Schedule!$B$3:$B$6),\"\")","v":""},{"$f":"IFERROR(Lookup_concat(F$4+$B13,Schedule!$C$3:$C$6,Schedule!$D$3:$D$6,Schedule!$B$3:$B$6),\"\")","v":""},{"$f":"IFERROR(Lookup_concat(G$4+$B13,Schedule!$C$3:$C$6,Schedule!$D$3:$D$6,Schedule!$B$3:$B$6),\"\")","v":""},{"$f":"IFERROR(Lookup_concat(H$4+$B13,Schedule!$C$3:$C$6,Schedule!$D$3:$D$6,Schedule!$B$3:$B$6),\"\")","v":""},{"$f":"IFERROR(Lookup_concat(I$4+$B13,Schedule!$C$3:$C$6,Schedule!$D$3:$D$6,Schedule!$B$3:$B$6),\"\")","v":""}]
[null,"08:00:00",{"$f":"IFERROR(Lookup_concat(C$4+$B14,Schedule!$C$3:$C$6,Schedule!$D$3:$D$6,Schedule!$B$3:$B$6),\"\")","v":"Weekly meeting | Budget"},{"$f":"IFERROR(Lookup_concat(D$4+$B14,Schedule!$C$3:$C$6,Schedule!$D$3:$D$6,Schedule!$B$3:$B$6),\"\")","v":""},{"$f":"IFERROR(Lookup_concat(E$4+$B14,Schedule!$C$3:$C$6,Schedule!$D$3:$D$6,Schedule!$B$3:$B$6),\"\")","v":""},{"$f":"IFERROR(Lookup_concat(F$4+$B14,Schedule!$C$3:$C$6,Schedule!$D$3:$D$6,Schedule!$B$3:$B$6),\"\")","v":""},{"$f":"IFERROR(Lookup_concat(G$4+$B14,Schedule!$C$3:$C$6,Schedule!$D$3:$D$6,Schedule!$B$3:$B$6),\"\")","v":""},{"$f":"IFERROR(Lookup_concat(H$4+$B14,Schedule!$C$3:$C$6,Schedule!$D$3:$D$6,Schedule!$B$3:$B$6),\"\")","v":""},{"$f":"IFERROR(Lookup_concat(I$4+$B14,Schedule!$C$3:$C$6,Schedule!$D$3:$D$6,Schedule!$B$3:$B$6),\"\")","v":""}]
[null,"09:00:00",{"$f":"IFERROR(Lookup_concat(C$4+$B15,Schedule!$C$3:$C$6,Schedule!$D$3:$D$6,Schedule!$B$3:$B$6),\"\")","v":"Weekly meeting | Budget"},{"$f":"IFERROR(Lookup_concat(D$4+$B15,Schedule!$C$3:$C$6,Schedule!$D$3:$D$6,Schedule!$B$3:$B$6),\"\")","v":""},{"$f":"IFERROR(Lookup_concat(E$4+$B15,Schedule!$C$3:$C$6,Schedule!$D$3:$D$6,Schedule!$B$3:$B$6),\"\")","v":""},{"$f":"IFERROR(Lookup_concat(F$4+$B15,Schedule!$C$3:$C$6,Schedule!$D$3:$D$6,Schedule!$B$3:$B$6),\"\")","v":""},{"$f":"IFERROR(Lookup_concat(G$4+$B15,Schedule!$C$3:$C$6,Schedule!$D$3:$D$6,Schedule!$B$3:$B$6),\"\")","v":""},{"$f":"IFERROR(Lookup_concat(H$4+$B15,Schedule!$C$3:$C$6,Schedule!$D$3:$D$6,Schedule!$B$3:$B$6),\"\")","v":""},{"$f":"IFERROR(Lookup_concat(I$4+$B15,Schedule!$C$3:$C$6,Schedule!$D$3:$D$6,Schedule!$B$3:$B$6),\"\")","v":""}]
[null,"10:00:00",{"$f":"IFERROR(Lookup_concat(C$4+$B16,Schedule!$C$3:$C$6,Schedule!$D$3:$D$6,Schedule!$B$3:$B$6),\"\")","v":""},{"$f":"IFERROR(Lookup_concat(D$4+$B16,Schedule!$C$3:$C$6,Schedule!$D$3:$D$6,Schedule!$B$3:$B$6),\"\")","v":""},{"$f":"IFERROR(Lookup_concat(E$4+$B16,Schedule!$C$3:$C$6,Schedule!$D$3:$D$6,Schedule!$B$3:$B$6),\"\")","v":""},{"$f":"IFERROR(Lookup_concat(F$4+$B16,Schedule!$C$3:$C$6,Schedule!$D$3:$D$6,Schedule!$B$3:$B$6),\"\")","v":""},{"$f":"IFERROR(Lookup_concat(G$4+$B16,Schedule!$C$3:$C$6,Schedule!$D$3:$D$6,Schedule!$B$3:$B$6),\"\")","v":""},{"$f":"IFERROR(Lookup_concat(H$4+$B16,Schedule!$C$3:$C$6,Schedule!$D$3:$D$6,Schedule!$B$3:$B$6),\"\")","v":""},{"$f":"IFERROR(Lookup_concat(I$4+$B16,Schedule!$C$3:$C$6,Schedule!$D$3:$D$6,Schedule!$B$3:$B$6),\"\")","v":""}]
[null,"11:00:00",{"$f":"IFERROR(Lookup_concat(C$4+$B17,Schedule!$C$3:$C$6,Schedule!$D$3:$D$6,Schedule!$B$3:$B$6),\"\")","v":""},{"$f":"IFERROR(Lookup_concat(D$4+$B17,Schedule!$C$3:$C$6,Schedule!$D$3:$D$6,Schedule!$B$3:$B$6),\"\")","v":""},{"$f":"IFERROR(Lookup_concat(E$4+$B17,Schedule!$C$3:$C$6,Schedule!$D$3:$D$6,Schedule!$B$3:$B$6),\"\")","v":""},{"$f":"IFERROR(Lookup_concat(F$4+$B17,Schedule!$C$3:$C$6,Schedule!$D$3:$D$6,Schedule!$B$3:$B$6),\"\")","v":""},{"$f":"IFERROR(Lookup_concat(G$4+$B17,Schedule!$C$3:$C$6,Schedule!$D$3:$D$6,Schedule!$B$3:$B$6),\"\")","v":""},{"$f":"IFERROR(Lookup_concat(H$4+$B17,Schedule!$C$3:$C$6,Schedule!$D$3:$D$6,Schedule!$B$3:$B$6),\"\")","v":""},{"$f":"IFERROR(Lookup_concat(I$4+$B17,Schedule!$C$3:$C$6,Schedule!$D$3:$D$6,Schedule!$B$3:$B$6),\"\")","v":""}]
[null,"12:00:00",{"$f":"IFERROR(Lookup_concat(C$4+$B18,Schedule!$C$3:$C$6,Schedule!$D$3:$D$6,Schedule!$B$3:$B$6),\"\")","v":""},{"$f":"IFERROR(Lookup_concat(D$4+$B18,Schedule!$C$3:$C$6,Schedule!$D$3:$D$6,Schedule!$B$3:$B$6),\"\")","v":""},{"$f":"IFERROR(Lookup_concat(E$4+$B18,Schedule!$C$3:$C$6,Schedule!$D$3:$D$6,Schedule!$B$3:$B$6),\"\")","v":"Strategies"},{"$f":"IFERROR(Lookup_concat(F$4+$B18,Schedule!$C$3:$C$6,Schedule!$D$3:$D$6,Schedule!$B$3:$B$6),\"\")","v":""},{"$f":"IFERROR(Lookup_concat(G$4+$B18,Schedule!$C$3:$C$6,Schedule!$D$3:$D$6,Schedule!$B$3:$B$6),\"\")","v":""},{"$f":"IFERROR(Lookup_concat(H$4+$B18,Schedule!$C$3:$C$6,Schedule!$D$3:$D$6,Schedule!$B$3:$B$6),\"\")","v":""},{"$f":"IFERROR(Lookup_concat(I$4+$B18,Schedule!$C$3:$C$6,Schedule!$D$3:$D$6,Schedule!$B$3:$B$6),\"\")","v":""}]
[null,"13:00:00",{"$f":"IFERROR(Lookup_concat(C$4+$B19,Schedule!$C$3:$C$6,Schedule!$D$3:$D$6,Schedule!$B$3:$B$6),\"\")","v":"Design"},{"$f":"IFERROR(Lookup_concat(D$4+$B19,Schedule!$C$3:$C$6,Schedule!$D$3:$D$6,Schedule!$B$3:$B$6),\"\")","v":""},{"$f":"IFERROR(Lookup_concat(E$4+$B19,Schedule!$C$3:$C$6,Schedule!$D$3:$D$6,Schedule!$B$3:$B$6),\"\")","v":"Strategies"},{"$f":"IFERROR(Lookup_concat(F$4+$B19,Schedule!$C$3:$C$6,Schedule!$D$3:$D$6,Schedule!$B$3:$B$6),\"\")","v":""},{"$f":"IFERROR(Lookup_concat(G$4+$B19,Schedule!$C$3:$C$6,Schedule!$D$3:$D$6,Schedule!$B$3:$B$6),\"\")","v":""},{"$f":"IFERROR(Lookup_concat(H$4+$B19,Schedule!$C$3:$C$6,Schedule!$D$3:$D$6,Schedule!$B$3:$B$6),\"\")","v":""},{"$f":"IFERROR(Lookup_concat(I$4+$B19,Schedule!$C$3:$C$6,Schedule!$D$3:$D$6,Schedule!$B$3:$B$6),\"\")","v":""}]
[null,"14:00:00",{"$f":"IFERROR(Lookup_concat(C$4+$B20,Schedule!$C$3:$C$6,Schedule!$D$3:$D$6,Schedule!$B$3:$B$6),\"\")","v":"Design"},{"$f":"IFERROR(Lookup_concat(D$4+$B20,Schedule!$C$3:$C$6,Schedule!$D$3:$D$6,Schedule!$B$3:$B$6),\"\")","v":""},{"$f":"IFERROR(Lookup_concat(E$4+$B20,Schedule!$C$3:$C$6,Schedule!$D$3:$D$6,Schedule!$B$3:$B$6),\"\")","v":"Strategies"},{"$f":"IFERROR(Lookup_concat(F$4+$B20,Schedule!$C$3:$C$6,Schedule!$D$3:$D$6,Schedule!$B$3:$B$6),\"\")","v":""},{"$f":"IFERROR(Lookup_concat(G$4+$B20,Schedule!$C$3:$C$6,Schedule!$D$3:$D$6,Schedule!$B$3:$B$6),\"\")","v":""},{"$f":"IFERROR(Lookup_concat(H$4+$B20,Schedule!$C$3:$C$6,Schedule!$D$3:$D$6,Schedule!$B$3:$B$6),\"\")","v":""},{"$f":"IFERROR(Lookup_concat(I$4+$B20,Schedule!$C$3:$C$6,Schedule!$D$3:$D$6,Schedule!$B$3:$B$6),\"\")","v":""}]
[null,"15:00:00",{"$f":"IFERROR(Lookup_concat(C$4+$B21,Schedule!$C$3:$C$6,Schedule!$D$3:$D$6,Schedule!$B$3:$B$6),\"\")","v":""},{"$f":"IFERROR(Lookup_concat(D$4+$B21,Schedule!$C$3:$C$6,Schedule!$D$3:$D$6,Schedule!$B$3:$B$6),\"\")","v":""},{"$f":"IFERROR(Lookup_concat(E$4+$B21,Schedule!$C$3:$C$6,Schedule!$D$3:$D$6,Schedule!$B$3:$B$6),\"\")","v":"Strategies"},{"$f":"IFERROR(Lookup_concat(F$4+$B21,Schedule!$C$3:$C$6,Schedule!$D$3:$D$6,Schedule!$B$3:$B$6),\"\")","v":""},{"$f":"IFERROR(Lookup_concat(G$4+$B21,Schedule!$C$3:$C$6,Schedule!$D$3:$D$6,Schedule!$B$3:$B$6),\"\")","v":""},{"$f":"IFERROR(Lookup_concat(H$4+$B21,Schedule!$C$3:$C$6,Schedule!$D$3:$D$6,Schedule!$B$3:$B$6),\"\")","v":""},{"$f":"IFERROR(Lookup_concat(I$4+$B21,Schedule!$C$3:$C$6,Schedule!$D$3:$D$6,Schedule!$B$3:$B$6),\"\")","v":""}]
[null,"16:00:00",{"$f":"IFERROR(Lookup_concat(C$4+$B22,Schedule!$C$3:$C$6,Schedule!$D$3:$D$6,Schedule!$B$3:$B$6),\"\")","v":""},{"$f":"IFERROR(Lookup_concat(D$4+$B22,Schedule!$C$3:$C$6,Schedule!$D$3:$D$6,Schedule!$B$3:$B$6),\"\")","v":""},{"$f":"IFERROR(Lookup_concat(E$4+$B22,Schedule!$C$3:$C$6,Schedule!$D$3:$D$6,Schedule!$B$3:$B$6),\"\")","v":""},{"$f":"IFERROR(Lookup_concat(F$4+$B22,Schedule!$C$3:$C$6,Schedule!$D$3:$D$6,Schedule!$B$3:$B$6),\"\")","v":""},{"$f":"IFERROR(Lookup_concat(G$4+$B22,Schedule!$C$3:$C$6,Schedule!$D$3:$D$6,Schedule!$B$3:$B$6),\"\")","v":""},{"$f":"IFERROR(Lookup_concat(H$4+$B22,Schedule!$C$3:$C$6,Schedule!$D$3:$D$6,Schedule!$B$3:$B$6),\"\")","v":""},{"$f":"IFERROR(Lookup_concat(I$4+$B22,Schedule!$C$3:$C$6,Schedule!$D$3:$D$6,Schedule!$B$3:$B$6),\"\")","v":""}]
[null,"17:00:00",{"$f":"IFERROR(Lookup_concat(C$4+$B23,Schedule!$C$3:$C$6,Schedule!$D$3:$D$6,Schedule!$B$3:$B$6),\"\")","v":""},{"$f":"IFERROR(Lookup_concat(D$4+$B23,Schedule!$C$3:$C$6,Schedule!$D$3:$D$6,Schedule!$B$3:$B$6),\"\")","v":""},{"$f":"IFERROR(Lookup_concat(E$4+$B23,Schedule!$C$3:$C$6,Schedule!$D$3:$D$6,Schedule!$B$3:$B$6),\"\")","v":""},{"$f":"IFERROR(Lookup_concat(F$4+$B23,Schedule!$C$3:$C$6,Schedule!$D$3:$D$6,Schedule!$B$3:$B$6),\"\")","v":""},{"$f":"IFERROR(Lookup_concat(G$4+$B23,Schedule!$C$3:$C$6,Schedule!$D$3:$D$6,Schedule!$B$3:$B$6),\"\")","v":""},{"$f":"IFERROR(Lookup_concat(H$4+$B23,Schedule!$C$3:$C$6,Schedule!$D$3:$D$6,Schedule!$B$3:$B$6),\"\")","v":""},{"$f":"IFERROR(Lookup_concat(I$4+$B23,Schedule!$C$3:$C$6,Schedule!$D$3:$D$6,Schedule!$B$3:$B$6),\"\")","v":""}]
[null,"18:00:00",{"$f":"IFERROR(Lookup_concat(C$4+$B24,Schedule!$C$3:$C$6,Schedule!$D$3:$D$6,Schedule!$B$3:$B$6),\"\")","v":""},{"$f":"IFERROR(Lookup_concat(D$4+$B24,Schedule!$C$3:$C$6,Schedule!$D$3:$D$6,Schedule!$B$3:$B$6),\"\")","v":""},{"$f":"IFERROR(Lookup_concat(E$4+$B24,Schedule!$C$3:$C$6,Schedule!$D$3:$D$6,Schedule!$B$3:$B$6),\"\")","v":""},{"$f":"IFERROR(Lookup_concat(F$4+$B24,Schedule!$C$3:$C$6,Schedule!$D$3:$D$6,Schedule!$B$3:$B$6),\"\")","v":""},{"$f":"IFERROR(Lookup_concat(G$4+$B24,Schedule!$C$3:$C$6,Schedule!$D$3:$D$6,Schedule!$B$3:$B$6),\"\")","v":""},{"$f":"IFERROR(Lookup_concat(H$4+$B24,Schedule!$C$3:$C$6,Schedule!$D$3:$D$6,Schedule!$B$3:$B$6),\"\")","v":""},{"$f":"IFERROR(Lookup_concat(I$4+$B24,Schedule!$C$3:$C$6,Schedule!$D$3:$D$6,Schedule!$B$3:$B$6),\"\")","v":""}]
[null,"19:00:00",{"$f":"IFERROR(Lookup_concat(C$4+$B25,Schedule!$C$3:$C$6,Schedule!$D$3:$D$6,Schedule!$B$3:$B$6),\"\")","v":""},{"$f":"IFERROR(Lookup_concat(D$4+$B25,Schedule!$C$3:$C$6,Schedule!$D$3:$D$6,Schedule!$B$3:$B$6),\"\")","v":""},{"$f":"IFERROR(Lookup_concat(E$4+$B25,Schedule!$C$3:$C$6,Schedule!$D$3:$D$6,Schedule!$B$3:$B$6),\"\")","v":""},{"$f":"IFERROR(Lookup_concat(F$4+$B25,Schedule!$C$3:$C$6,Schedule!$D$3:$D$6,Schedule!$B$3:$B$6),\"\")","v":""},{"$f":"IFERROR(Lookup_concat(G$4+$B25,Schedule!$C$3:$C$6,Schedule!$D$3:$D$6,Schedule!$B$3:$B$6),\"\")","v":""},{"$f":"IFERROR(Lookup_concat(H$4+$B25,Schedule!$C$3:$C$6,Schedule!$D$3:$D$6,Schedule!$B$3:$B$6),\"\")","v":""},{"$f":"IFERROR(Lookup_concat(I$4+$B25,Schedule!$C$3:$C$6,Schedule!$D$3:$D$6,Schedule!$B$3:$B$6),\"\")","v":""}]
[null,"20:00:00",{"$f":"IFERROR(Lookup_concat(C$4+$B26,Schedule!$C$3:$C$6,Schedule!$D$3:$D$6,Schedule!$B$3:$B$6),\"\")","v":""},{"$f":"IFERROR(Lookup_concat(D$4+$B26,Schedule!$C$3:$C$6,Schedule!$D$3:$D$6,Schedule!$B$3:$B$6),\"\")","v":""},{"$f":"IFERROR(Lookup_concat(E$4+$B26,Schedule!$C$3:$C$6,Schedule!$D$3:$D$6,Schedule!$B$3:$B$6),\"\")","v":""},{"$f":"IFERROR(Lookup_concat(F$4+$B26,Schedule!$C$3:$C$6,Schedule!$D$3:$D$6,Schedule!$B$3:$B$6),\"\")","v":""},{"$f":"IFERROR(Lookup_concat(G$4+$B26,Schedule!$C$3:$C$6,Schedule!$D$3:$D$6,Schedule!$B$3:$B$6),\"\")","v":""},{"$f":"IFERROR(Lookup_concat(H$4+$B26,Schedule!$C$3:$C$6,Schedule!$D$3:$D$6,Schedule!$B$3:$B$6),\"\")","v":""},{"$f":"IFERROR(Lookup_concat(I$4+$B26,Schedule!$C$3:$C$6,Schedule!$D$3:$D$6,Schedule!$B$3:$B$6),\"\")","v":""}]
[null,"21:00:00",{"$f":"IFERROR(Lookup_concat(C$4+$B27,Schedule!$C$3:$C$6,Schedule!$D$3:$D$6,Schedule!$B$3:$B$6),\"\")","v":""},{"$f":"IFERROR(Lookup_concat(D$4+$B27,Schedule!$C$3:$C$6,Schedule!$D$3:$D$6,Schedule!$B$3:$B$6),\"\")","v":""},{"$f":"IFERROR(Lookup_concat(E$4+$B27,Schedule!$C$3:$C$6,Schedule!$D$3:$D$6,Schedule!$B$3:$B$6),\"\")","v":""},{"$f":"IFERROR(Lookup_concat(F$4+$B27,Schedule!$C$3:$C$6,Schedule!$D$3:$D$6,Schedule!$B$3:$B$6),\"\")","v":""},{"$f":"IFERROR(Lookup_concat(G$4+$B27,Schedule!$C$3:$C$6,Schedule!$D$3:$D$6,Schedule!$B$3:$B$6),\"\")","v":""},{"$f":"IFERROR(Lookup_concat(H$4+$B27,Schedule!$C$3:$C$6,Schedule!$D$3:$D$6,Schedule!$B$3:$B$6),\"\")","v":""},{"$f":"IFERROR(Lookup_concat(I$4+$B27,Schedule!$C$3:$C$6,Schedule!$D$3:$D$6,Schedule!$B$3:$B$6),\"\")","v":""}]
[null,"22:00:00",{"$f":"IFERROR(Lookup_concat(C$4+$B28,Schedule!$C$3:$C$6,Schedule!$D$3:$D$6,Schedule!$B$3:$B$6),\"\")","v":""},{"$f":"IFERROR(Lookup_concat(D$4+$B28,Schedule!$C$3:$C$6,Schedule!$D$3:$D$6,Schedule!$B$3:$B$6),\"\")","v":""},{"$f":"IFERROR(Lookup_concat(E$4+$B28,Schedule!$C$3:$C$6,Schedule!$D$3:$D$6,Schedule!$B$3:$B$6),\"\")","v":""},{"$f":"IFERROR(Lookup_concat(F$4+$B28,Schedule!$C$3:$C$6,Schedule!$D$3:$D$6,Schedule!$B$3:$B$6),\"\")","v":""},{"$f":"IFERROR(Lookup_concat(G$4+$B28,Schedule!$C$3:$C$6,Schedule!$D$3:$D$6,Schedule!$B$3:$B$6),\"\")","v":""},{"$f":"IFERROR(Lookup_concat(H$4+$B28,Schedule!$C$3:$C$6,Schedule!$D$3:$D$6,Schedule!$B$3:$B$6),\"\")","v":""},{"$f":"IFERROR(Lookup_concat(I$4+$B28,Schedule!$C$3:$C$6,Schedule!$D$3:$D$6,Schedule!$B$3:$B$6),\"\")","v":""}]
[null,"23:00:00",{"$f":"IFERROR(Lookup_concat(C$4+$B29,Schedule!$C$3:$C$6,Schedule!$D$3:$D$6,Schedule!$B$3:$B$6),\"\")","v":""},{"$f":"IFERROR(Lookup_concat(D$4+$B29,Schedule!$C$3:$C$6,Schedule!$D$3:$D$6,Schedule!$B$3:$B$6),\"\")","v":""},{"$f":"IFERROR(Lookup_concat(E$4+$B29,Schedule!$C$3:$C$6,Schedule!$D$3:$D$6,Schedule!$B$3:$B$6),\"\")","v":""},{"$f":"IFERROR(Lookup_concat(F$4+$B29,Schedule!$C$3:$C$6,Schedule!$D$3:$D$6,Schedule!$B$3:$B$6),\"\")","v":""},{"$f":"IFERROR(Lookup_concat(G$4+$B29,Schedule!$C$3:$C$6,Schedule!$D$3:$D$6,Schedule!$B$3:$B$6),\"\")","v":""},{"$f":"IFERROR(Lookup_concat(H$4+$B29,Schedule!$C$3:$C$6,Schedule!$D$3:$D$6,Schedule!$B$3:$B$6),\"\")","v":""},{"$f":"IFERROR(Lookup_concat(I$4+$B29,Schedule!$C$3:$C$6,Schedule!$D$3:$D$6,Schedule!$B$3:$B$6),\"\")","v":""}]

{"sheet":"Schedule","index":1,"n_rows":11,"n_cols":4,"rows_kept":11,"cut":false,"hidden":false,"merged":[]}
[]
[null,"Title","Start time","End time"]
[null,"Weekly meeting","2010-08-01T08:00:00","2010-08-01T10:00:00"]
[null,"Design","2010-08-01T13:00:00","2010-08-01T15:00:00"]
[null,"Strategies","2010-08-03T12:00:00","2010-08-03T16:00:00"]
[null,"Budget","2010-08-01T08:00:00","2010-08-01T10:00:00"]
[]
[]
[]
[]
[null,null,{"$f":"C6=C3","v":true},{"$f":"C3=('Weekly schedule'!C4+'Weekly schedule'!B14)","v":true}]