{"text_format":"1","workbook":"xlsx","n_sheets":2,"sheets":["Overview","Calculation"],"not_rendered":{"charts":1,"images":0,"macros":1,"external_links":0,"defined_names":0,"comments":0,"pivot_tables":0},"unopened":[],"bounds":{"document_bytes":16777216,"sheet_cells":100000,"rows_first":2000,"rows_last":500,"rows_between":2000,"halvings":0,"cell_chars":16384,"cell_head_chars":4096},"cells_cut":0,"cells_raw":0,"read":"whole","date_system":"1900"}

{"sheet":"Overview","index":0,"n_rows":69,"n_cols":4,"rows_kept":69,"cut":false,"hidden":false,"merged":[]}
[null,"#1 Moving average:",15]
[null,"#2 Moving average:",7]
[]
[]
[]
[]
[]
[]
[]
[]
[]
[]
[]
[]
[]
[]
[]
[]
[]
[]
[]
[]
[]
[null,"Date","Action","Price"]
[null,{"$f":"IFERROR(INDEX(Calculation!$D$2:$D$247,LARGE(IF((IFERROR(Calculation!$M$2:$M$247,\"\")<>\"\")+(IFERROR(Calculation!$N$2:$N$247,\"\")<>\"\"),MATCH(ROW(Calculation!$M$2:$M$247),ROW(Calculation!$M$2:$M$247)),\"\"),ROW(A1))),\"\")","v":"1994-07-01"},{"$f":"IFERROR(IF(INDEX(Calculation!$M$2:$M$300,MATCH(B25,Calculation!$D$2:$D$300,0))=\"\",\"Sell\",\"Buy\"),\"\")","v":"Sell"},{"$f":"IFERROR(INDEX(Calculation!$H$2:$H$300,MATCH(B25,Calculation!$D$2:$D$300,0)),\"\")","v":458.26}]
[null,{"$f":"IFERROR(INDEX(Calculation!$D$2:$D$247,LARGE(IF((IFERROR(Calculation!$M$2:$M$247,\"\")<>\"\")+(IFERROR(Calculation!$N$2:$N$247,\"\")<>\"\"),MATCH(ROW(Calculation!$M$2:$M$247),ROW(Calculation!$M$2:$M$247)),\"\"),ROW(A2))),\"\")","v":"1995-01-03"},{"$f":"IFERROR(IF(INDEX(Calculation!$M$2:$M$300,MATCH(B26,Calculation!$D$2:$D$300,0))=\"\",\"Sell\",\"Buy\"),\"\")","v":"Buy"},{"$f":"IFERROR(INDEX(Calculation!$H$2:$H$300,MATCH(B26,Calculation!$D$2:$D$300,0)),\"\")","v":470.42}]
[null,{"$f":"IFERROR(INDEX(Calculation!$D$2:$D$247,LARGE(IF((IFERROR(Calculation!$M$2:$M$247,\"\")<>\"\")+(IFERROR(Calculation!$N$2:$N$247,\"\")<>\"\"),MATCH(ROW(Calculation!$M$2:$M$247),ROW(Calculation!$M$2:$M$247)),\"\"),ROW(A3))),\"\")","v":"2000-12-01"},{"$f":"IFERROR(IF(INDEX(Calculation!$M$2:$M$300,MATCH(B27,Calculation!$D$2:$D$300,0))=\"\",\"Sell\",\"Buy\"),\"\")","v":"Sell"},{"$f":"IFERROR(INDEX(Calculation!$H$2:$H$300,MATCH(B27,Calculation!$D$2:$D$300,0)),\"\")","v":1320.28}]
[null,{"$f":"IFERROR(INDEX(Calculation!$D$2:$D$247,LARGE(IF((IFERROR(Calculation!$M$2:$M$247,\"\")<>\"\")+(IFERROR(Calculation!$N$2:$N$247,\"\")<>\"\"),MATCH(ROW(Calculation!$M$2:$M$247),ROW(Calculation!$M$2:$M$247)),\"\"),ROW(A4))),\"\")","v":"2003-08-01"},{"$f":"IFERROR(IF(INDEX(Calculation!$M$2:$M$300,MATCH(B28,Calculation!$D$2:$D$300,0))=\"\",\"Sell\",\"Buy\"),\"\")","v":"Buy"},{"$f":"IFERROR(INDEX(Calculation!$H$2:$H$300,MATCH(B28,Calculation!$D$2:$D$300,0)),\"\")","v":1008.01}]
[null,{"$f":"IFERROR(INDEX(Calculation!$D$2:$D$247,LARGE(IF((IFERROR(Calculation!$M$2:$M$247,\"\")<>\"\")+(IFERROR(Calculation!$N$2:$N$247,\"\")<>\"\"),MATCH(ROW(Calculation!$M$2:$M$247),ROW(Calculation!$M$2:$M$247)),\"\"),ROW(A5))),\"\")","v":"2008-03-03"},{"$f":"IFERROR(IF(INDEX(Calculation!$M$2:$M$300,MATCH(B29,Calculation!$D$2:$D$300,0))=\"\",\"Sell\",\"Buy\"),\"\")","v":"Sell"},{"$f":"IFERROR(INDEX(Calculation!$H$2:$H$300,MATCH(B29,Calculation!$D$2:$D$300,0)),\"\")","v":1322.7}]
[null,{"$f":"IFERROR(INDEX(Calculation!$D$2:$D$247,LARGE(IF((IFERROR(Calculation!$M$2:$M$247,\"\")<>\"\")+(IFERROR(Calculation!$N$2:$N$247,\"\")<>\"\"),MATCH(ROW(Calculation!$M$2:$M$247),ROW(Calculation!$M$2:$M$247)),\"\"),ROW(A6))),\"\")","v":"2009-10-01"},{"$f":"IFERROR(IF(INDEX(Calculation!$M$2:$M$300,MATCH(B30,Calculation!$D$2:$D$300,0))=\"\",\"Sell\",\"Buy\"),\"\")","v":"Buy"},{"$f":"IFERROR(INDEX(Calculation!$H$2:$H$300,MATCH(B30,Calculation!$D$2:$D$300,0)),\"\")","v":1036.19}]
[null,{"$f":"IFERROR(INDEX(Calculation!$D$2:$D$247,LARGE(IF((IFERROR(Calculation!$M$2:$M$247,\"\")<>\"\")+(IFERROR(Calculation!$N$2:$N$247,\"\")<>\"\"),MATCH(ROW(Calculation!$M$2:$M$247),ROW(Calculation!$M$2:$M$247)),\"\"),ROW(A7))),\"\")","v":"2011-12-01"},{"$f":"IFERROR(IF(INDEX(Calculation!$M$2:$M$300,MATCH(B31,Calculation!$D$2:$D$300,0))=\"\",\"Sell\",\"Buy\"),\"\")","v":"Sell"},{"$f":"IFERROR(INDEX(Calculation!$H$2:$H$300,MATCH(B31,Calculation!$D$2:$D$300,0)),\"\")","v":1257.5999999999999}]
[null,{"$f":"IFERROR(INDEX(Calculation!$D$2:$D$247,LARGE(IF((IFERROR(Calculation!$M$2:$M$247,\"\")<>\"\")+(IFERROR(Calculation!$N$2:$N$247,\"\")<>\"\"),MATCH(ROW(Calculation!$M$2:$M$247),ROW(Calculation!$M$2:$M$247)),\"\"),ROW(A8))),\"\")","v":"2012-04-02"},{"$f":"IFERROR(IF(INDEX(Calculation!$M$2:$M$300,MATCH(B32,Calculation!$D$2:$D$300,0))=\"\",\"Sell\",\"Buy\"),\"\")","v":"Buy"},{"$f":"IFERROR(INDEX(Calculation!$H$2:$H$300,MATCH(B32,Calculation!$D$2:$D$300,0)),\"\")","v":1397.91}]
[null,{"$f":"IFERROR(INDEX(Calculation!$D$2:$D$247,LARGE(IF((IFERROR(Calculation!$M$2:$M$247,\"\")<>\"\")+(IFERROR(Calculation!$N$2:$N$247,\"\")<>\"\"),MATCH(ROW(Calculation!$M$2:$M$247),ROW(Calculation!$M$2:$M$247)),\"\"),ROW(A9))),\"\")","v":""},{"$f":"IFERROR(IF(INDEX(Calculation!$M$2:$M$300,MATCH(B33,Calculation!$D$2:$D$300,0))=\"\",\"Sell\",\"Buy\"),\"\")","v":""},{"$f":"IFERROR(INDEX(Calculation!$H$2:$H$300,MATCH(B33,Calculation!$D$2:$D$300,0)),\"\")","v":""}]
[null,{"$f":"IFERROR(INDEX(Calculation!$D$2:$D$247,LARGE(IF((IFERROR(Calculation!$M$2:$M$247,\"\")<>\"\")+(IFERROR(Calculation!$N$2:$N$247,\"\")<>\"\"),MATCH(ROW(Calculation!$M$2:$M$247),ROW(Calculation!$M$2:$M$247)),\"\"),ROW(A10))),\"\")","v":""},{"$f":"IFERROR(IF(INDEX(Calculation!$M$2:$M$300,MATCH(B34,Calculation!$D$2:$D$300,0))=\"\",\"Sell\",\"Buy\"),\"\")","v":""},{"$f":"IFERROR(INDEX(Calculation!$H$2:$H$300,MATCH(B34,Calculation!$D$2:$D$300,0)),\"\")","v":""}]
[null,{"$f":"IFERROR(INDEX(Calculation!$D$2:$D$247,LARGE(IF((IFERROR(Calculation!$M$2:$M$247,\"\")<>\"\")+(IFERROR(Calculation!$N$2:$N$247,\"\")<>\"\"),MATCH(ROW(Calculation!$M$2:$M$247),ROW(Calculation!$M$2:$M$247)),\"\"),ROW(A11))),\"\")","v":""},{"$f":"IFERROR(IF(INDEX(Calculation!$M$2:$M$300,MATCH(B35,Calculation!$D$2:$D$300,0))=\"\",\"Sell\",\"Buy\"),\"\")","v":""},{"$f":"IFERROR(INDEX(Calculation!$H$2:$H$300,MATCH(B35,Calculation!$D$2:$D$300,0)),\"\")","v":""}]
[null,{"$f":"IFERROR(INDEX(Calculation!$D$2:$D$247,LARGE(IF((IFERROR(Calculation!$M$2:$M$247,\"\")<>\"\")+(IFERROR(Calculation!$N$2:$N$247,\"\")<>\"\"),MATCH(ROW(Calculation!$M$2:$M$247),ROW(Calculation!$M$2:$M$247)),\"\"),ROW(A12))),\"\")","v":""},{"$f":"IFERROR(IF(INDEX(Calculation!$M$2:$M$300,MATCH(B36,Calculation!$D$2:$D$300,0))=\"\",\"Sell\",\"Buy\"),\"\")","v":""},{"$f":"IFERROR(INDEX(Calculation!$H$2:$H$300,MATCH(B36,Calculation!$D$2:$D$300,0)),\"\")","v":""}]
[null,{"$f":"IFERROR(INDEX(Calculation!$D$2:$D$247,LARGE(IF((IFERROR(Calculation!$M$2:$M$247,\"\")<>\"\")+(IFERROR(Calculation!$N$2:$N$247,\"\")<>\"\"),MATCH(ROW(Calculation!$M$2:$M$247),ROW(Calculation!$M$2:$M$247)),\"\"),ROW(A13))),\"\")","v":""},{"$f":"IFERROR(IF(INDEX(Calculation!$M$2:$M$300,MATCH(B37,Calculation!$D$2:$D$300,0))=\"\",\"Sell\",\"Buy\"),\"\")","v":""},{"$f":"IFERROR(INDEX(Calculation!$H$2:$H$300,MATCH(B37,Calculation!$D$2:$D$300,0)),\"\")","v":""}]
[null,{"$f":"IFERROR(INDEX(Calculation!$D$2:$D$247,LARGE(IF((IFERROR(Calculation!$M$2:$M$247,\"\")<>\"\")+(IFERROR(Calculation!$N$2:$N$247,\"\")<>\"\"),MATCH(ROW(Calculation!$M$2:$M$247),ROW(Calculation!$M$2:$M$247)),\"\"),ROW(A14))),\"\")","v":""},{"$f":"IFERROR(IF(INDEX(Calculation!$M$2:$M$300,MATCH(B38,Calculation!$D$2:$D$300,0))=\"\",\"Sell\",\"Buy\"),\"\")","v":""},{"$f":"IFERROR(INDEX(Calculation!$H$2:$H$300,MATCH(B38,Calculation!$D$2:$D$300,0)),\"\")","v":""}]
[null,{"$f":"IFERROR(INDEX(Calculation!$D$2:$D$247,LARGE(IF((IFERROR(Calculation!$M$2:$M$247,\"\")<>\"\")+(IFERROR(Calculation!$N$2:$N$247,\"\")<>\"\"),MATCH(ROW(Calculation!$M$2:$M$247),ROW(Calculation!$M$2:$M$247)),\"\"),ROW(A15))),\"\")","v":""},{"$f":"IFERROR(IF(INDEX(Calculation!$M$2:$M$300,MATCH(B39,Calculation!$D$2:$D$300,0))=\"\",\"Sell\",\"Buy\"),\"\")","v":""},{"$f":"IFERROR(INDEX(Calculation!$H$2:$H$300,MATCH(B39,Calculation!$D$2:$D$300,0)),\"\")","v":""}]
[null,{"$f":"IFERROR(INDEX(Calculation!$D$2:$D$247,LARGE(IF((IFERROR(Calculation!$M$2:$M$247,\"\")<>\"\")+(IFERROR(Calculation!$N$2:$N$247,\"\")<>\"\"),MATCH(ROW(Calculation!$M$2:$M$247),ROW(Calculation!$M$2:$M$247)),\"\"),ROW(A16))),\"\")","v":""},{"$f":"IFERROR(IF(INDEX(Calculation!$M$2:$M$300,MATCH(B40,Calculation!$D$2:$D$300,0))=\"\",\"Sell\",\"Buy\"),\"\")","v":""},{"$f":"IFERROR(INDEX(Calculation!$H$2:$H$300,MATCH(B40,Calculation!$D$2:$D$300,0)),\"\")","v":""}]
[null,{"$f":"IFERROR(INDEX(Calculation!$D$2:$D$247,LARGE(IF((IFERROR(Calculation!$M$2:$M$247,\"\")<>\"\")+(IFERROR(Calculation!$N$2:$N$247,\"\")<>\"\"),MATCH(ROW(Calculation!$M$2:$M$247),ROW(Calculation!$M$2:$M$247)),\"\"),ROW(A17))),\"\")","v":""},{"$f":"IFERROR(IF(INDEX(Calculation!$M$2:$M$300,MATCH(B41,Calculation!$D$2:$D$300,0))=\"\",\"Sell\",\"Buy\"),\"\")","v":""},{"$f":"IFERROR(INDEX(Calculation!$H$2:$H$300,MATCH(B41,Calculation!$D$2:$D$300,0)),\"\")","v":""}]
[null,{"$f":"IFERROR(INDEX(Calculation!$D$2:$D$247,LARGE(IF((IFERROR(Calculation!$M$2:$M$247,\"\")<>\"\")+(IFERROR(Calculation!$N$2:$N$247,\"\")<>\"\"),MATCH(ROW(Calculation!$M$2:$M$247),ROW(Calculation!$M$2:$M$247)),\"\"),ROW(A18))),\"\")","v":""},{"$f":"IFERROR(IF(INDEX(Calculation!$M$2:$M$300,MATCH(B42,Calculation!$D$2:$D$300,0))=\"\",\"Sell\",\"Buy\"),\"\")","v":""},{"$f":"IFERROR(INDEX(Calculation!$H$2:$H$300,MATCH(B42,Calculation!$D$2:$D$300,0)),\"\")","v":""}]
[null,{"$f":"IFERROR(INDEX(Calculation!$D$2:$D$247,LARGE(IF((IFERROR(Calculation!$M$2:$M$247,\"\")<>\"\")+(IFERROR(Calculation!$N$2:$N$247,\"\")<>\"\"),MATCH(ROW(Calculation!$M$2:$M$247),ROW(Calculation!$M$2:$M$247)),\"\"),ROW(A19))),\"\")","v":""},{"$f":"IFERROR(IF(INDEX(Calculation!$M$2:$M$300,MATCH(B43,Calculation!$D$2:$D$300,0))=\"\",\"Sell\",\"Buy\"),\"\")","v":""},{"$f":"IFERROR(INDEX(Calculation!$H$2:$H$300,MATCH(B43,Calculation!$D$2:$D$300,0)),\"\")","v":""}]
[null,{"$f":"IFERROR(INDEX(Calculation!$D$2:$D$247,LARGE(IF((IFERROR(Calculation!$M$2:$M$247,\"\")<>\"\")+(IFERROR(Calculation!$N$2:$N$247,\"\")<>\"\"),MATCH(ROW(Calculation!$M$2:$M$247),ROW(Calculation!$M$2:$M$247)),\"\"),ROW(A20))),\"\")","v":""},{"$f":"IFERROR(IF(INDEX(Calculation!$M$2:$M$300,MATCH(B44,Calculation!$D$2:$D$300,0))=\"\",\"Sell\",\"Buy\"),\"\")","v":""},{"$f":"IFERROR(INDEX(Calculation!$H$2:$H$300,MATCH(B44,Calculation!$D$2:$D$300,0)),\"\")","v":""}]
[null,{"$f":"IFERROR(INDEX(Calculation!$D$2:$D$247,LARGE(IF((IFERROR(Calculation!$M$2:$M$247,\"\")<>\"\")+(IFERROR(Calculation!$N$2:$N$247,\"\")<>\"\"),MATCH(ROW(Calculation!$M$2:$M$247),ROW(Calculation!$M$2:$M$247)),\"\"),ROW(A21))),\"\")","v":""},{"$f":"IFERROR(IF(INDEX(Calculation!$M$2:$M$300,MATCH(B45,Calculation!$D$2:$D$300,0))=\"\",\"Sell\",\"Buy\"),\"\")","v":""},{"$f":"IFERROR(INDEX(Calculation!$H$2:$H$300,MATCH(B45,Calculation!$D$2:$D$300,0)),\"\")","v":""}]
[null,{"$f":"IFERROR(INDEX(Calculation!$D$2:$D$247,LARGE(IF((IFERROR(Calculation!$M$2:$M$247,\"\")<>\"\")+(IFERROR(Calculation!$N$2:$N$247,\"\")<>\"\"),MATCH(ROW(Calculation!$M$2:$M$247),ROW(Calculation!$M$2:$M$247)),\"\"),ROW(A22))),\"\")","v":""},{"$f":"IFERROR(IF(INDEX(Calculation!$M$2:$M$300,MATCH(B46,Calculation!$D$2:$D$300,0))=\"\",\"Sell\",\"Buy\"),\"\")","v":""},{"$f":"IFERROR(INDEX(Calculation!$H$2:$H$300,MATCH(B46,Calculation!$D$2:$D$300,0)),\"\")","v":""}]
[null,{"$f":"IFERROR(INDEX(Calculation!$D$2:$D$247,LARGE(IF((IFERROR(Calculation!$M$2:$M$247,\"\")<>\"\")+(IFERROR(Calculation!$N$2:$N$247,\"\")<>\"\"),MATCH(ROW(Calculation!$M$2:$M$247),ROW(Calculation!$M$2:$M$247)),\"\"),ROW(A23))),\"\")","v":""},{"$f":"IFERROR(IF(INDEX(Calculation!$M$2:$M$300,MATCH(B47,Calculation!$D$2:$D$300,0))=\"\",\"Sell\",\"Buy\"),\"\")","v":""},{"$f":"IFERROR(INDEX(Calculation!$H$2:$H$300,MATCH(B47,Calculation!$D$2:$D$300,0)),\"\")","v":""}]
[null,{"$f":"IFERROR(INDEX(Calculation!$D$2:$D$247,LARGE(IF((IFERROR(Calculation!$M$2:$M$247,\"\")<>\"\")+(IFERROR(Calculation!$N$2:$N$247,\"\")<>\"\"),MATCH(ROW(Calculation!$M$2:$M$247),ROW(Calculation!$M$2:$M$247)),\"\"),ROW(A24))),\"\")","v":""},{"$f":"IFERROR(IF(INDEX(Calculation!$M$2:$M$300,MATCH(B48,Calculation!$D$2:$D$300,0))=\"\",\"Sell\",\"Buy\"),\"\")","v":""},{"$f":"IFERROR(INDEX(Calculation!$H$2:$H$300,MATCH(B48,Calculation!$D$2:$D$300,0)),\"\")","v":""}]
[null,{"$f":"IFERROR(INDEX(Calculation!$D$2:$D$247,LARGE(IF((IFERROR(Calculation!$M$2:$M$247,\"\")<>\"\")+(IFERROR(Calculation!$N$2:$N$247,\"\")<>\"\"),MATCH(ROW(Calculation!$M$2:$M$247),ROW(Calculation!$M$2:$M$247)),\"\"),ROW(A25))),\"\")","v":""},{"$f":"IFERROR(IF(INDEX(Calculation!$M$2:$M$300,MATCH(B49,Calculation!$D$2:$D$300,0))=\"\",\"Sell\",\"Buy\"),\"\")","v":""},{"$f":"IFERROR(INDEX(Calculation!$H$2:$H$300,MATCH(B49,Calculation!$D$2:$D$300,0)),\"\")","v":""}]
[null,{"$f":"IFERROR(INDEX(Calculation!$D$2:$D$247,LARGE(IF((IFERROR(Calculation!$M$2:$M$247,\"\")<>\"\")+(IFERROR(Calculation!$N$2:$N$247,\"\")<>\"\"),MATCH(ROW(Calculation!$M$2:$M$247),ROW(Calculation!$M$2:$M$247)),\"\"),ROW(A26))),\"\")","v":""},{"$f":"IFERROR(IF(INDEX(Calculation!$M$2:$M$300,MATCH(B50,Calculation!$D$2:$D$300,0))=\"\",\"Sell\",\"Buy\"),\"\")","v":""},{"$f":"IFERROR(INDEX(Calculation!$H$2:$H$300,MATCH(B50,Calculation!$D$2:$D$300,0)),\"\")","v":""}]
[null,{"$f":"IFERROR(INDEX(Calculation!$D$2:$D$247,LARGE(IF((IFERROR(Calculation!$M$2:$M$247,\"\")<>\"\")+(IFERROR(Calculation!$N$2:$N$247,\"\")<>\"\"),MATCH(ROW(Calculation!$M$2:$M$247),ROW(Calculation!$M$2:$M$247)),\"\"),ROW(A27))),\"\")","v":""},{"$f":"IFERROR(IF(INDEX(Calculation!$M$2:$M$300,MATCH(B51,Calculation!$D$2:$D$300,0))=\"\",\"Sell\",\"Buy\"),\"\")","v":""},{"$f":"IFERROR(INDEX(Calculation!$H$2:$H$300,MATCH(B51,Calculation!$D$2:$D$300,0)),\"\")","v":""}]
[null,{"$f":"IFERROR(INDEX(Calculation!$D$2:$D$247,LARGE(IF((IFERROR(Calculation!$M$2:$M$247,\"\")<>\"\")+(IFERROR(Calculation!$N$2:$N$247,\"\")<>\"\"),MATCH(ROW(Calculation!$M$2:$M$247),ROW(Calculation!$M$2:$M$247)),\"\"),ROW(A28))),\"\")","v":""},{"$f":"IFERROR(IF(INDEX(Calculation!$M$2:$M$300,MATCH(B52,Calculation!$D$2:$D$300,0))=\"\",\"Sell\",\"Buy\"),\"\")","v":""},{"$f":"IFERROR(INDEX(Calculation!$H$2:$H$300,MATCH(B52,Calculation!$D$2:$D$300,0)),\"\")","v":""}]
[null,{"$f":"IFERROR(INDEX(Calculation!$D$2:$D$247,LARGE(IF((IFERROR(Calculation!$M$2:$M$247,\"\")<>\"\")+(IFERROR(Calculation!$N$2:$N$247,\"\")<>\"\"),MATCH(ROW(Calculation!$M$2:$M$247),ROW(Calculation!$M$2:$M$247)),\"\"),ROW(A29))),\"\")","v":""},{"$f":"IFERROR(IF(INDEX(Calculation!$M$2:$M$300,MATCH(B53,Calculation!$D$2:$D$300,0))=\"\",\"Sell\",\"Buy\"),\"\")","v":""},{"$f":"IFERROR(INDEX(Calculation!$H$2:$H$300,MATCH(B53,Calculation!$D$2:$D$300,0)),\"\")","v":""}]
[null,{"$f":"IFERROR(INDEX(Calculation!$D$2:$D$247,LARGE(IF((IFERROR(Calculation!$M$2:$M$247,\"\")<>\"\")+(IFERROR(Calculation!$N$2:$N$247,\"\")<>\"\"),MATCH(ROW(Calculation!$M$2:$M$247),ROW(Calculation!$M$2:$M$247)),\"\"),ROW(A30))),\"\")","v":""},{"$f":"IFERROR(IF(INDEX(Calculation!$M$2:$M$300,MATCH(B54,Calculation!$D$2:$D$300,0))=\"\",\"Sell\",\"Buy\"),\"\")","v":""},{"$f":"IFERROR(INDEX(Calculation!$H$2:$H$300,MATCH(B54,Calculation!$D$2:$D$300,0)),\"\")","v":""}]
[null,{"$f":"IFERROR(INDEX(Calculation!$D$2:$D$247,LARGE(IF((IFERROR(Calculation!$M$2:$M$247,\"\")<>\"\")+(IFERROR(Calculation!$N$2:$N$247,\"\")<>\"\"),MATCH(ROW(Calculation!$M$2:$M$247),ROW(Calculation!$M$2:$M$247)),\"\"),ROW(A31))),\"\")","v":""},{"$f":"IFERROR(IF(INDEX(Calculation!$M$2:$M$300,MATCH(B55,Calculation!$D$2:$D$300,0))=\"\",\"Sell\",\"Buy\"),\"\")","v":""},{"$f":"IFERROR(INDEX(Calculation!$H$2:$H$300,MATCH(B55,Calculation!$D$2:$D$300,0)),\"\")","v":""}]
[null,{"$f":"IFERROR(INDEX(Calculation!$D$2:$D$247,LARGE(IF((IFERROR(Calculation!$M$2:$M$247,\"\")<>\"\")+(IFERROR(Calculation!$N$2:$N$247,\"\")<>\"\"),MATCH(ROW(Calculation!$M$2:$M$247),ROW(Calculation!$M$2:$M$247)),\"\"),ROW(A32))),\"\")","v":""},{"$f":"IFERROR(IF(INDEX(Calculation!$M$2:$M$300,MATCH(B56,Calculation!$D$2:$D$300,0))=\"\",\"Sell\",\"Buy\"),\"\")","v":""},{"$f":"IFERROR(INDEX(Calculation!$H$2:$H$300,MATCH(B56,Calculation!$D$2:$D$300,0)),\"\")","v":""}]
[null,{"$f":"IFERROR(INDEX(Calculation!$D$2:$D$247,LARGE(IF((IFERROR(Calculation!$M$2:$M$247,\"\")<>\"\")+(IFERROR(Calculation!$N$2:$N$247,\"\")<>\"\"),MATCH(ROW(Calculation!$M$2:$M$247),ROW(Calculation!$M$2:$M$247)),\"\"),ROW(A33))),\"\")","v":""},{"$f":"IFERROR(IF(INDEX(Calculation!$M$2:$M$300,MATCH(B57,Calculation!$D$2:$D$300,0))=\"\",\"Sell\",\"Buy\"),\"\")","v":""},{"$f":"IFERROR(INDEX(Calculation!$H$2:$H$300,MATCH(B57,Calculation!$D$2:$D$300,0)),\"\")","v":""}]
[null,{"$f":"IFERROR(INDEX(Calculation!$D$2:$D$247,LARGE(IF((IFERROR(Calculation!$M$2:$M$247,\"\")<>\"\")+(IFERROR(Calculation!$N$2:$N$247,\"\")<>\"\"),MATCH(ROW(Calculation!$M$2:$M$247),ROW(Calculation!$M$2:$M$247)),\"\"),ROW(A34))),\"\")","v":""},{"$f":"IFERROR(IF(INDEX(Calculation!$M$2:$M$300,MATCH(B58,Calculation!$D$2:$D$300,0))=\"\",\"Sell\",\"Buy\"),\"\")","v":""},{"$f":"IFERROR(INDEX(Calculation!$H$2:$H$300,MATCH(B58,Calculation!$D$2:$D$300,0)),\"\")","v":""}]
[null,{"$f":"IFERROR(INDEX(Calculation!$D$2:$D$247,LARGE(IF((IFERROR(Calculation!$M$2:$M$247,\"\")<>\"\")+(IFERROR(Calculation!$N$2:$N$247,\"\")<>\"\"),MATCH(ROW(Calculation!$M$2:$M$247),ROW(Calculation!$M$2:$M$247)),\"\"),ROW(A35))),\"\")","v":""},{"$f":"IFERROR(IF(INDEX(Calculation!$M$2:$M$300,MATCH(B59,Calculation!$D$2:$D$300,0))=\"\",\"Sell\",\"Buy\"),\"\")","v":""},{"$f":"IFERROR(INDEX(Calculation!$H$2:$H$300,MATCH(B59,Calculation!$D$2:$D$300,0)),\"\")","v":""}]
[null,{"$f":"IFERROR(INDEX(Calculation!$D$2:$D$247,LARGE(IF((IFERROR(Calculation!$M$2:$M$247,\"\")<>\"\")+(IFERROR(Calculation!$N$2:$N$247,\"\")<>\"\"),MATCH(ROW(Calculation!$M$2:$M$247),ROW(Calculation!$M$2:$M$247)),\"\"),ROW(A36))),\"\")","v":""},{"$f":"IFERROR(IF(INDEX(Calculation!$M$2:$M$300,MATCH(B60,Calculation!$D$2:$D$300,0))=\"\",\"Sell\",\"Buy\"),\"\")","v":""},{"$f":"IFERROR(INDEX(Calculation!$H$2:$H$300,MATCH(B60,Calculation!$D$2:$D$300,0)),\"\")","v":""}]
[null,{"$f":"IFERROR(INDEX(Calculation!$D$2:$D$247,LARGE(IF((IFERROR(Calculation!$M$2:$M$247,\"\")<>\"\")+(IFERROR(Calculation!$N$2:$N$247,\"\")<>\"\"),MATCH(ROW(Calculation!$M$2:$M$247),ROW(Calculation!$M$2:$M$247)),\"\"),ROW(A37))),\"\")","v":""},{"$f":"IFERROR(IF(INDEX(Calculation!$M$2:$M$300,MATCH(B61,Calculation!$D$2:$D$300,0))=\"\",\"Sell\",\"Buy\"),\"\")","v":""},{"$f":"IFERROR(INDEX(Calculation!$H$2:$H$300,MATCH(B61,Calculation!$D$2:$D$300,0)),\"\")","v":""}]
[null,{"$f":"IFERROR(INDEX(Calculation!$D$2:$D$247,LARGE(IF((IFERROR(Calculation!$M$2:$M$247,\"\")<>\"\")+(IFERROR(Calculation!$N$2:$N$247,\"\")<>\"\"),MATCH(ROW(Calculation!$M$2:$M$247),ROW(Calculation!$M$2:$M$247)),\"\"),ROW(A38))),\"\")","v":""},{"$f":"IFERROR(IF(INDEX(Calculation!$M$2:$M$300,MATCH(B62,Calculation!$D$2:$D$300,0))=\"\",\"Sell\",\"Buy\"),\"\")","v":""},{"$f":"IFERROR(INDEX(Calculation!$H$2:$H$300,MATCH(B62,Calculation!$D$2:$D$300,0)),\"\")","v":""}]
[null,{"$f":"IFERROR(INDEX(Calculation!$D$2:$D$247,LARGE(IF((IFERROR(Calculation!$M$2:$M$247,\"\")<>\"\")+(IFERROR(Calculation!$N$2:$N$247,\"\")<>\"\"),MATCH(ROW(Calculation!$M$2:$M$247),ROW(Calculation!$M$2:$M$247)),\"\"),ROW(A39))),\"\")","v":""},{"$f":"IFERROR(IF(INDEX(Calculation!$M$2:$M$300,MATCH(B63,Calculation!$D$2:$D$300,0))=\"\",\"Sell\",\"Buy\"),\"\")","v":""},{"$f":"IFERROR(INDEX(Calculation!$H$2:$H$300,MATCH(B63,Calculation!$D$2:$D$300,0)),\"\")","v":""}]
[null,{"$f":"IFERROR(INDEX(Calculation!$D$2:$D$247,LARGE(IF((IFERROR(Calculation!$M$2:$M$247,\"\")<>\"\")+(IFERROR(Calculation!$N$2:$N$247,\"\")<>\"\"),MATCH(ROW(Calculation!$M$2:$M$247),ROW(Calculation!$M$2:$M$247)),\"\"),ROW(A40))),\"\")","v":""},{"$f":"IFERROR(IF(INDEX(Calculation!$M$2:$M$300,MATCH(B64,Calculation!$D$2:$D$300,0))=\"\",\"Sell\",\"Buy\"),\"\")","v":""},{"$f":"IFERROR(INDEX(Calculation!$H$2:$H$300,MATCH(B64,Calculation!$D$2:$D$300,0)),\"\")","v":""}]
[null,{"$f":"IFERROR(INDEX(Calculation!$D$2:$D$247,LARGE(IF((IFERROR(Calculation!$M$2:$M$247,\"\")<>\"\")+(IFERROR(Calculation!$N$2:$N$247,\"\")<>\"\"),MATCH(ROW(Calculation!$M$2:$M$247),ROW(Calculation!$M$2:$M$247)),\"\"),ROW(A41))),\"\")","v":""},{"$f":"IFERROR(IF(INDEX(Calculation!$M$2:$M$300,MATCH(B65,Calculation!$D$2:$D$300,0))=\"\",\"Sell\",\"Buy\"),\"\")","v":""},{"$f":"IFERROR(INDEX(Calculation!$H$2:$H$300,MATCH(B65,Calculation!$D$2:$D$300,0)),\"\")","v":""}]
[null,{"$f":"IFERROR(INDEX(Calculation!$D$2:$D$247,LARGE(IF((IFERROR(Calculation!$M$2:$M$247,\"\")<>\"\")+(IFERROR(Calculation!$N$2:$N$247,\"\")<>\"\"),MATCH(ROW(Calculation!$M$2:$M$247),ROW(Calculation!$M$2:$M$247)),\"\"),ROW(A42))),\"\")","v":""},{"$f":"IFERROR(IF(INDEX(Calculation!$M$2:$M$300,MATCH(B66,Calculation!$D$2:$D$300,0))=\"\",\"Sell\",\"Buy\"),\"\")","v":""},{"$f":"IFERROR(INDEX(Calculation!$H$2:$H$300,MATCH(B66,Calculation!$D$2:$D$300,0)),\"\")","v":""}]
[null,{"$f":"IFERROR(INDEX(Calculation!$D$2:$D$247,LARGE(IF((IFERROR(Calculation!$M$2:$M$247,\"\")<>\"\")+(IFERROR(Calculation!$N$2:$N$247,\"\")<>\"\"),MATCH(ROW(Calculation!$M$2:$M$247),ROW(Calculation!$M$2:$M$247)),\"\"),ROW(A43))),\"\")","v":""},{"$f":"IFERROR(IF(INDEX(Calculation!$M$2:$M$300,MATCH(B67,Calculation!$D$2:$D$300,0))=\"\",\"Sell\",\"Buy\"),\"\")","v":""},{"$f":"IFERROR(INDEX(Calculation!$H$2:$H$300,MATCH(B67,Calculation!$D$2:$D$300,0)),\"\")","v":""}]
[null,{"$f":"IFERROR(INDEX(Calculation!$D$2:$D$247,LARGE(IF((IFERROR(Calculation!$M$2:$M$247,\"\")<>\"\")+(IFERROR(Calculation!$N$2:$N$247,\"\")<>\"\"),MATCH(ROW(Calculation!$M$2:$M$247),ROW(Calculation!$M$2:$M$247)),\"\"),ROW(A44))),\"\")","v":""},{"$f":"IFERROR(IF(INDEX(Calculation!$M$2:$M$300,MATCH(B68,Calculation!$D$2:$D$300,0))=\"\",\"Sell\",\"Buy\"),\"\")","v":""},{"$f":"IFERROR(INDEX(Calculation!$H$2:$H$300,MATCH(B68,Calculation!$D$2:$D$300,0)),\"\")","v":""}]
[null,{"$f":"IFERROR(INDEX(Calculation!$D$2:$D$247,LARGE(IF((IFERROR(Calculation!$M$2:$M$247,\"\")<>\"\")+(IFERROR(Calculation!$N$2:$N$247,\"\")<>\"\"),MATCH(ROW(Calculation!$M$2:$M$247),ROW(Calculation!$M$2:$M$247)),\"\"),ROW(A45))),\"\")","v":""},{"$f":"IFERROR(IF(INDEX(Calculation!$M$2:$M$300,MATCH(B69,Calculation!$D$2:$D$300,0))=\"\",\"Sell\",\"Buy\"),\"\")","v":""},{"$f":"IFERROR(INDEX(Calculation!$H$2:$H$300,MATCH(B69,Calculation!$D$2:$D$300,0)),\"\")","v":""}]

{"sheet":"Calculation","index":1,"n_rows":1000,"n_cols":14,"rows_kept":1000,"cut":false,"hidden":false,"merged":[]}
[null,"Year","Month",{"$f":"YahooStockQuotes(1990,9,1,2012,5,31,\"m\",\"^GSPC\")","v":"Date"},"Open","High","Low","Close","Volume","Adj Close","#1 m-avg","#2 m-avg","Buy","Sell"]
[null,{"$f":"IF(YEAR(D2)=YEAR(D3),\"\",YEAR(D2))","v":""},{"$f":"IF(TEXT(D2,\"MMM\")=TEXT(D3,\"MMM\"),\"\",TEXT(D2,\"MMM\"))","v":"maj"},"2012-05-01",1397.86,1415.32,1291.98,1310.33,4158095900,1310.33,{"$f":"AVERAGE(OFFSET(H2,0,0,Overview!$C$1))","v":1303.3686666666665},{"$f":"AVERAGE(OFFSET(H2,0,0,Overview!$C$2))","v":1328.48},{"$f":"IF((L3<K3)*(L2>K2),K2,\"\")","v":""},{"$f":"IF((L3>K3)*(L2<K2),K2,\"\")","v":""}]
[null,{"$f":"IF(YEAR(D3)=YEAR(D4),\"\",YEAR(D3))","v":""},"apr","2012-04-02",1408.47,1422.38,1357.38,1397.91,3916786000,1397.91,{"$f":"AVERAGE(OFFSET(H3,0,0,Overview!$C$1))","v":1304.4946666666665},{"$f":"AVERAGE(OFFSET(H3,0,0,Overview!$C$2))","v":1320.3328571428572},{"$f":"IF((L4<K4)*(L3>K3),K3,\"\")","v":1304.4946666666665},{"$f":"IF((L4>K4)*(L3<K3),K3,\"\")","v":""}]
[null,{"$f":"IF(YEAR(D4)=YEAR(D5),\"\",YEAR(D4))","v":""},"mar","2012-03-01",1365.9,1419.15,1340.03,1408.47,3980752200,1408.47,{"$f":"AVERAGE(OFFSET(H4,0,0,Overview!$C$1))","v":1297.0420000000001},{"$f":"AVERAGE(OFFSET(H4,0,0,Overview!$C$2))","v":1282.2628571428572},"",""]
[null,"","feb","2012-02-01",1312.45,1378.04,1312.45,1365.68,4143404000,1365.68,{"$f":"AVERAGE(OFFSET(H5,0,0,Overview!$C$1))","v":1286.9866666666667},{"$f":"AVERAGE(OFFSET(H5,0,0,Overview!$C$2))","v":1255.18},"",""]
[null,2012,"jan","2012-01-03",1258.8599999999999,1333.47,1258.8599999999999,1312.41,4190155500,1312.41,{"$f":"AVERAGE(OFFSET(H6,0,0,Overview!$C$1))","v":1274.6446666666666},{"$f":"AVERAGE(OFFSET(H6,0,0,Overview!$C$2))","v":1244.6942857142858},"",""]
[null,"","dec","2011-12-01",1246.9100000000001,1269.3699999999999,1202.3699999999999,1257.5999999999999,3667346600,1257.5999999999999,{"$f":"AVERAGE(OFFSET(H7,0,0,Overview!$C$1))","v":1266.0346666666665},{"$f":"AVERAGE(OFFSET(H7,0,0,Overview!$C$2))","v":1245.8700000000001},"",1266.0346666666665]
[null,"","nov","2011-11-01",1251,1277.55,1158.6600000000001,1246.96,4288791900,1246.96,{"$f":"AVERAGE(OFFSET(H8,0,0,Overview!$C$1))","v":1258.2746666666667},{"$f":"AVERAGE(OFFSET(H8,0,0,Overview!$C$2))","v":1258.3842857142859},"",""]
[null,"","okt","2011-10-03",1131.21,1292.6600000000001,1074.77,1253.3,4874946600,1253.3,{"$f":"AVERAGE(OFFSET(H9,0,0,Overview!$C$1))","v":1245.0993333333331},{"$f":"AVERAGE(OFFSET(H9,0,0,Overview!$C$2))","v":1275.0485714285714},"",""]
[null,"","sep","2011-09-01",1219.1199999999999,1229.29,1114.22,1131.42,5104933800,1131.42,{"$f":"AVERAGE(OFFSET(H10,0,0,Overview!$C$1))","v":1234.9859999999999},{"$f":"AVERAGE(OFFSET(H10,0,0,Overview!$C$2))","v":1285.4099999999999},"",""]
[null,"","aug","2011-08-01",1292.5899999999999,1307.3800000000001,1101.54,1218.8900000000001,4942913400,1218.8900000000001,{"$f":"AVERAGE(OFFSET(H11,0,0,Overview!$C$1))","v":1228.2719999999999},{"$f":"AVERAGE(OFFSET(H11,0,0,Overview!$C$2))","v":1313.3814285714286},"",""]
[null,"","jul","2011-07-01",1320.64,1356.48,1282.8599999999999,1292.28,4308168000,1292.28,{"$f":"AVERAGE(OFFSET(H12,0,0,Overview!$C$1))","v":1219.6399999999999},{"$f":"AVERAGE(OFFSET(H12,0,0,Overview!$C$2))","v":1322.9857142857143},"",""]
[null,"","jun","2011-06-01",1345.2,1345.2,1258.07,1320.64,4105601300,1320.64,{"$f":"AVERAGE(OFFSET(H13,0,0,Overview!$C$1))","v":1212.6006666666665},{"$f":"AVERAGE(OFFSET(H13,0,0,Overview!$C$2))","v":1318.037142857143},"",""]
[null,"","maj","2011-05-02",1365.21,1370.58,1311.8,1345.2,4114534200,1345.2,{"$f":"AVERAGE(OFFSET(H14,0,0,Overview!$C$1))","v":1202.52},{"$f":"AVERAGE(OFFSET(H14,0,0,Overview!$C$2))","v":1298.0242857142857},"",""]
[null,"","apr","2011-04-01",1329.48,1364.56,1294.7,1363.61,4042194000,1363.61,{"$f":"AVERAGE(OFFSET(H15,0,0,Overview!$C$1))","v":1186.4726666666668},{"$f":"AVERAGE(OFFSET(H15,0,0,Overview!$C$2))","v":1274.8899999999999},"",""]
[null,"","mar","2011-03-01",1328.64,1332.28,1249.05,1325.83,4046691700,1325.83,{"$f":"AVERAGE(OFFSET(H16,0,0,Overview!$C$1))","v":1167.1566666666668},{"$f":"AVERAGE(OFFSET(H16,0,0,Overview!$C$2))","v":1243.1171428571431},"",""]
[null,"","feb","2011-02-01",1289.1400000000001,1344.07,1289.1400000000001,1327.22,3225297300,1327.22,{"$f":"AVERAGE(OFFSET(H17,0,0,Overview!$C$1))","v":1153.1079999999999},{"$f":"AVERAGE(OFFSET(H17,0,0,Overview!$C$2))","v":1203.6171428571429},"",""]
[null,2011,"jan","2011-01-03",1257.6199999999999,1302.67,1257.6199999999999,1286.1199999999999,4816605000,1286.1199999999999,{"$f":"AVERAGE(OFFSET(H18,0,0,Overview!$C$1))","v":1137.6686666666667},{"$f":"AVERAGE(OFFSET(H18,0,0,Overview!$C$2))","v":1171.3857142857144},"",""]
[null,"","dec","2010-12-01",1186.5999999999999,1262.5999999999999,1186.5999999999999,1257.6400000000001,3762922700,1257.6400000000001,{"$f":"AVERAGE(OFFSET(H19,0,0,Overview!$C$1))","v":1121.0066666666667},{"$f":"AVERAGE(OFFSET(H19,0,0,Overview!$C$2))","v":1134.8985714285714},"",""]
[null,"","nov","2010-11-01",1185.71,1227.08,1173,1180.55,4354084200,1180.55,{"$f":"AVERAGE(OFFSET(H20,0,0,Overview!$C$1))","v":1107.636},{"$f":"AVERAGE(OFFSET(H20,0,0,Overview!$C$2))","v":1110.8657142857144},"",""]
[null,"","okt","2010-10-01",1143.49,1196.1400000000001,1131.8699999999999,1183.26,4432102300,1183.26,{"$f":"AVERAGE(OFFSET(H21,0,0,Overview!$C$1))","v":1096.9739999999997},{"$f":"AVERAGE(OFFSET(H21,0,0,Overview!$C$2))","v":1111.742857142857},"",""]
[null,"","sep","2010-09-01",1049.72,1157.1600000000001,1049.72,1141.2,3993981400,1141.2,{"$f":"AVERAGE(OFFSET(H22,0,0,Overview!$C$1))","v":1083.922},{"$f":"AVERAGE(OFFSET(H22,0,0,Overview!$C$2))","v":1109.767142857143},"",""]
[null,"","aug","2010-08-02",1107.53,1129.24,1039.7,1049.33,4044967700,1049.33,{"$f":"AVERAGE(OFFSET(H23,0,0,Overview!$C$1))","v":1069.1299999999999},{"$f":"AVERAGE(OFFSET(H23,0,0,Overview!$C$2))","v":1104.5228571428572},"",""]
[null,"","jul","2010-07-01",1031.0999999999999,1120.95,1010.91,1101.5999999999999,4704026600,1101.5999999999999,{"$f":"AVERAGE(OFFSET(H24,0,0,Overview!$C$1))","v":1060.4506666666666},{"$f":"AVERAGE(OFFSET(H24,0,0,Overview!$C$2))","v":1108.0285714285715},"",""]
[null,"","jun","2010-06-01",1087.3,1131.23,1028.33,1030.71,5235174000,1030.71,{"$f":"AVERAGE(OFFSET(H25,0,0,Overview!$C$1))","v":1045.1979999999999},{"$f":"AVERAGE(OFFSET(H25,0,0,Overview!$C$2))","v":1109.9571428571428},"",""]
[null,"","maj","2010-05-03",1188.58,1205.1300000000001,1040.78,1089.4100000000001,6626699400,1089.4100000000001,{"$f":"AVERAGE(OFFSET(H26,0,0,Overview!$C$1))","v":1029.6753333333334},{"$f":"AVERAGE(OFFSET(H26,0,0,Overview!$C$2))","v":1119.2314285714285},"",""]
[null,"","apr","2010-04-01",1171.23,1219.8,1170.69,1186.69,5847150900,1186.69,{"$f":"AVERAGE(OFFSET(H27,0,0,Overview!$C$1))","v":1006.054},{"$f":"AVERAGE(OFFSET(H27,0,0,Overview!$C$2))","v":1111.6285714285714},"",""]
[null,"","mar","2010-03-01",1105.3599999999999,1180.69,1105.3599999999999,1169.43,4702951700,1169.43,{"$f":"AVERAGE(OFFSET(H28,0,0,Overview!$C$1))","v":981.99999999999989},{"$f":"AVERAGE(OFFSET(H28,0,0,Overview!$C$2))","v":1093.1128571428569},"",""]
[null,"","feb","2010-02-01",1073.8900000000001,1112.42,1044.5,1104.49,4658238400,1104.49,{"$f":"AVERAGE(OFFSET(H29,0,0,Overview!$C$1))","v":964.25466666666659},{"$f":"AVERAGE(OFFSET(H29,0,0,Overview!$C$2))","v":1071.8542857142859},"",""]
[null,2010,"jan","2010-01-04",1116.56,1150.45,1071.5899999999999,1073.8699999999999,5071601500,1073.8699999999999,{"$f":"AVERAGE(OFFSET(H30,0,0,Overview!$C$1))","v":950.37133333333315},{"$f":"AVERAGE(OFFSET(H30,0,0,Overview!$C$2))","v":1055.1385714285714},"",""]
[null,"","dec","2009-12-01",1098.8900000000001,1130.3800000000001,1085.8900000000001,1115.0999999999999,4163287200,1115.0999999999999,{"$f":"AVERAGE(OFFSET(H31,0,0,Overview!$C$1))","v":943.36333333333334},{"$f":"AVERAGE(OFFSET(H31,0,0,Overview!$C$2))","v":1033.06},"",""]
[null,"","nov","2009-11-02",1036.18,1113.69,1029.3800000000001,1095.6300000000001,4443852500,1095.6300000000001,{"$f":"AVERAGE(OFFSET(H32,0,0,Overview!$C$1))","v":946.78066666666678},{"$f":"AVERAGE(OFFSET(H32,0,0,Overview!$C$2))","v":1005.0657142857143},"",""]
[null,"","okt","2009-10-01",1054.9100000000001,1101.3599999999999,1019.95,1036.19,5451064000,1036.19,{"$f":"AVERAGE(OFFSET(H33,0,0,Overview!$C$1))","v":959.26066666666657},{"$f":"AVERAGE(OFFSET(H33,0,0,Overview!$C$2))","v":973.23428571428565},959.26066666666657,""]
[null,"","sep","2009-09-01",1019.52,1080.1500000000001,991.97,1057.08,5633064200,1057.08,{"$f":"AVERAGE(OFFSET(H34,0,0,Overview!$C$1))","v":974.67333333333352},{"$f":"AVERAGE(OFFSET(H34,0,0,Overview!$C$2))","v":939.18857142857155},"",""]
[null,"","aug","2009-08-03",990.22,1039.47,978.51,1020.62,5764944200,1020.62,{"$f":"AVERAGE(OFFSET(H35,0,0,Overview!$C$1))","v":989.53466666666668},{"$f":"AVERAGE(OFFSET(H35,0,0,Overview!$C$2))","v":893.18999999999994},"",""]
[null,"","jul","2009-07-01",920.82,996.68,869.32,987.48,5080675400,987.48,{"$f":"AVERAGE(OFFSET(H36,0,0,Overview!$C$1))","v":1014.8520000000002},{"$f":"AVERAGE(OFFSET(H36,0,0,Overview!$C$2))","v":865.37},"",""]
[null,"","jun","2009-06-01",923.26,956.23,888.86,919.32,5330941800,919.32,{"$f":"AVERAGE(OFFSET(H37,0,0,Overview!$C$1))","v":1041.3926666666666},{"$f":"AVERAGE(OFFSET(H37,0,0,Overview!$C$2))","v":853.33714285714279},"",""]
[null,"","maj","2009-05-01",872.74,930.17,866.1,919.14,6883268000,919.14,{"$f":"AVERAGE(OFFSET(H38,0,0,Overview!$C$1))","v":1068.2846666666667},{"$f":"AVERAGE(OFFSET(H38,0,0,Overview!$C$2))","v":850.04},"",""]
[null,"","apr","2009-04-01",793.59,888.7,783.32,872.81,6938945600,872.81,{"$f":"AVERAGE(OFFSET(H39,0,0,Overview!$C$1))","v":1095.7173333333335},{"$f":"AVERAGE(OFFSET(H39,0,0,Overview!$C$2))","v":857.12714285714276},"",""]
[null,"","mar","2009-03-02",729.57,832.98,666.79,797.87,7633306300,797.87,{"$f":"AVERAGE(OFFSET(H40,0,0,Overview!$C$1))","v":1129.4333333333334},{"$f":"AVERAGE(OFFSET(H40,0,0,Overview!$C$2))","v":899.06285714285707},"",""]
[null,"","feb","2009-02-02",823.09,875.01,734.52,735.09,7022036200,735.09,{"$f":"AVERAGE(OFFSET(H41,0,0,Overview!$C$1))","v":1174.1326666666669},{"$f":"AVERAGE(OFFSET(H41,0,0,Overview!$C$2))","v":968.34285714285704},"",""]
[null,2009,"jan","2009-01-02",902.99,943.85,804.3,825.88,5844561500,825.88,{"$f":"AVERAGE(OFFSET(H42,0,0,Overview!$C$1))","v":1223.8693333333333},{"$f":"AVERAGE(OFFSET(H42,0,0,Overview!$C$2))","v":1044.3842857142856},"",""]
[null,"","dec","2008-12-01",888.61,918.85,815.69,903.25,5320791300,903.25,{"$f":"AVERAGE(OFFSET(H43,0,0,Overview!$C$1))","v":1272.1026666666667},{"$f":"AVERAGE(OFFSET(H43,0,0,Overview!$C$2))","v":1109.2585714285713},"",""]
[null,"","nov","2008-11-03",968.67,1007.51,741.02,896.24,6231635200,896.24,{"$f":"AVERAGE(OFFSET(H44,0,0,Overview!$C$1))","v":1313.6693333333335},{"$f":"AVERAGE(OFFSET(H44,0,0,Overview!$C$2))","v":1180.277142857143},"",""]
[null,"","okt","2008-10-01",1164.17,1167.03,839.8,968.75,7226593900,968.75,{"$f":"AVERAGE(OFFSET(H45,0,0,Overview!$C$1))","v":1352.1860000000001},{"$f":"AVERAGE(OFFSET(H45,0,0,Overview!$C$2))","v":1250.1842857142856},"",""]
[null,"","sep","2008-09-02",1287.83,1303.04,1106.42,1166.3599999999999,6900428500,1166.3599999999999,{"$f":"AVERAGE(OFFSET(H46,0,0,Overview!$C$1))","v":1384.6206666666667},{"$f":"AVERAGE(OFFSET(H46,0,0,Overview!$C$2))","v":1300.7485714285715},"",""]
[null,"","aug","2008-08-01",1269.42,1313.15,1247.45,1282.83,4264482300,1282.83,{"$f":"AVERAGE(OFFSET(H47,0,0,Overview!$C$1))","v":1407.0866666666666},{"$f":"AVERAGE(OFFSET(H47,0,0,Overview!$C$2))","v":1324.2157142857143},"",""]
[null,"","jul","2008-07-01",1276.69,1292.17,1200.44,1267.3800000000001,5923937200,1267.3800000000001,{"$f":"AVERAGE(OFFSET(H48,0,0,Overview!$C$1))","v":1423.606},{"$f":"AVERAGE(OFFSET(H48,0,0,Overview!$C$2))","v":1337.8899999999999},"",""]
[null,"","jun","2008-06-02",1399.62,1404.05,1272,1280,4840303300,1280,{"$f":"AVERAGE(OFFSET(H49,0,0,Overview!$C$1))","v":1437.9386666666662},{"$f":"AVERAGE(OFFSET(H49,0,0,Overview!$C$2))","v":1366.6014285714286},"",""]
[null,"","maj","2008-05-01",1385.97,1440.24,1373.07,1400.38,4039814700,1400.38,{"$f":"AVERAGE(OFFSET(H50,0,0,Overview!$C$1))","v":1447.3293333333334},{"$f":"AVERAGE(OFFSET(H50,0,0,Overview!$C$2))","v":1395.3357142857144},"",""]
[null,"","apr","2008-04-01",1326.41,1404.57,1324.35,1385.59,4113069000,1385.59,{"$f":"AVERAGE(OFFSET(H51,0,0,Overview!$C$1))","v":1447.7586666666664},{"$f":"AVERAGE(OFFSET(H51,0,0,Overview!$C$2))","v":1416.6214285714284},"",""]
[null,"","mar","2008-03-03",1330.45,1359.68,1256.98,1322.7,4661172000,1322.7,{"$f":"AVERAGE(OFFSET(H52,0,0,Overview!$C$1))","v":1451.2686666666668},{"$f":"AVERAGE(OFFSET(H52,0,0,Overview!$C$2))","v":1436.787142857143},"",1451.2686666666668]
[null,"","feb","2008-02-01",1378.6,1396.02,1316.75,1330.63,4148143000,1330.63,{"$f":"AVERAGE(OFFSET(H53,0,0,Overview!$C$1))","v":1457.6420000000001},{"$f":"AVERAGE(OFFSET(H53,0,0,Overview!$C$2))","v":1458.4},"",""]
[null,2008,"jan","2008-01-02",1467.97,1471.77,1270.05,1378.55,4925982300,1378.55,{"$f":"AVERAGE(OFFSET(H54,0,0,Overview!$C$1))","v":1462.3086666666668},{"$f":"AVERAGE(OFFSET(H54,0,0,Overview!$C$2))","v":1476.2057142857143},"",""]
[null,"","dec","2007-12-03",1479.63,1523.57,1435.65,1468.36,3363127500,1468.36,{"$f":"AVERAGE(OFFSET(H55,0,0,Overview!$C$1))","v":1462.268},{"$f":"AVERAGE(OFFSET(H55,0,0,Overview!$C$2))","v":1494.0342857142857},"",""]
[null,"","nov","2007-11-01",1545.79,1545.79,1406.1,1481.14,4317578500,1481.14,{"$f":"AVERAGE(OFFSET(H56,0,0,Overview!$C$1))","v":1453.434},{"$f":"AVERAGE(OFFSET(H56,0,0,Overview!$C$2))","v":1502.9285714285713},"",""]
[null,"","okt","2007-10-01",1527.29,1576.09,1489.56,1549.38,3477202100,1549.38,{"$f":"AVERAGE(OFFSET(H57,0,0,Overview!$C$1))","v":1441.6126666666664},{"$f":"AVERAGE(OFFSET(H57,0,0,Overview!$C$2))","v":1503.1042857142857},"",""]
[null,"","sep","2007-09-04",1473.96,1538.74,1439.29,1526.75,3196581500,1526.75,{"$f":"AVERAGE(OFFSET(H58,0,0,Overview!$C$1))","v":1423.4313333333332},{"$f":"AVERAGE(OFFSET(H58,0,0,Overview!$C$2))","v":1484.7442857142858},"",""]
[null,"","aug","2007-08-01",1455.18,1503.89,1370.6,1473.99,4091885600,1473.99,{"$f":"AVERAGE(OFFSET(H59,0,0,Overview!$C$1))","v":1406.3280000000002},{"$f":"AVERAGE(OFFSET(H59,0,0,Overview!$C$2))","v":1467.6114285714286},"",""]
[null,"","jul","2007-07-02",1504.66,1555.9,1454.25,1455.27,3564664200,1455.27,{"$f":"AVERAGE(OFFSET(H60,0,0,Overview!$C$1))","v":1392.7346666666667},{"$f":"AVERAGE(OFFSET(H60,0,0,Overview!$C$2))","v":1462.5042857142855},"",""]
[null,"","jun","2007-06-01",1530.62,1540.56,1484.18,1503.35,3261343300,1503.35,{"$f":"AVERAGE(OFFSET(H61,0,0,Overview!$C$1))","v":1383.0906666666667},{"$f":"AVERAGE(OFFSET(H61,0,0,Overview!$C$2))","v":1457.222857142857},"",""]
[null,"","maj","2007-05-01",1482.37,1535.56,1476.7,1530.62,3104253600,1530.62,{"$f":"AVERAGE(OFFSET(H62,0,0,Overview!$C$1))","v":1369.192},{"$f":"AVERAGE(OFFSET(H62,0,0,Overview!$C$2))","v":1442.5485714285714},"",""]
[null,"","apr","2007-04-02",1420.83,1498.02,1416.37,1482.37,3006294500,1482.37,{"$f":"AVERAGE(OFFSET(H63,0,0,Overview!$C$1))","v":1352.5279999999998},{"$f":"AVERAGE(OFFSET(H63,0,0,Overview!$C$2))","v":1420.7371428571428},"",""]
[null,"","mar","2007-03-01",1406.8,1438.89,1363.98,1420.86,3205736800,1420.86,{"$f":"AVERAGE(OFFSET(H64,0,0,Overview!$C$1))","v":1339.0420000000004},{"$f":"AVERAGE(OFFSET(H64,0,0,Overview!$C$2))","v":1399.8057142857144},"",""]
[null,"","feb","2007-02-01",1437.9,1461.57,1389.42,1406.82,2935275700,1406.82,{"$f":"AVERAGE(OFFSET(H65,0,0,Overview!$C$1))","v":1327.5373333333337},{"$f":"AVERAGE(OFFSET(H65,0,0,Overview!$C$2))","v":1383.0857142857144},"",""]
[null,2007,{"$f":"IF(TEXT(D66,\"MMM\")=TEXT(D67,\"MMM\"),\"\",TEXT(D66,\"MMM\"))","v":"jan"},"2007-01-03",1418.03,1441.61,1403.97,1438.24,2983144500,1438.24,{"$f":"AVERAGE(OFFSET(H66,0,0,Overview!$C$1))","v":1317.0480000000002},{"$f":"AVERAGE(OFFSET(H66,0,0,Overview!$C$2))","v":1364.4914285714287},"",""]
[null,"","dec","2006-12-01",1400.63,1431.81,1385.93,1418.3,2462849000,1418.3,{"$f":"AVERAGE(OFFSET(H67,0,0,Overview!$C$1))","v":1301.6326666666666},{"$f":"AVERAGE(OFFSET(H67,0,0,Overview!$C$2))","v":1340.4857142857145},{"$f":"IF((L68<K68)*(L67>K67),K67,\"\")","v":""},{"$f":"IF((L68>K68)*(L67<K67),K67,\"\")","v":""}]
[null,{"$f":"IF(YEAR(D68)=YEAR(D69),\"\",YEAR(D68))","v":""},"nov","2006-11-01",1377.76,1407.89,1360.98,1400.63,2826198000,1400.63,{"$f":"AVERAGE(OFFSET(H68,0,0,Overview!$C$1))","v":1288.9999999999998},{"$f":"AVERAGE(OFFSET(H68,0,0,Overview!$C$2))","v":1319.312857142857},"",""]
[null,"","okt","2006-10-02",1335.82,1389.45,1327.1,1377.94,2708938600,1377.94,{"$f":"AVERAGE(OFFSET(H69,0,0,Overview!$C$1))","v":1276.9799999999998},{"$f":"AVERAGE(OFFSET(H69,0,0,Overview!$C$2))","v":1306.4528571428571},"",""]
[null,"","sep","2006-09-01",1303.8,1340.28,1290.93,1335.85,2563743500,1335.85,{"$f":"AVERAGE(OFFSET(H70,0,0,Overview!$C$1))","v":1267.3959999999997},{"$f":"AVERAGE(OFFSET(H70,0,0,Overview!$C$2))","v":1294.5857142857142},"",""]
[null,"","aug","2006-08-01",1278.53,1306.74,1261.3,1303.82,2280876500,1303.82,{"$f":"AVERAGE(OFFSET(H71,0,0,Overview!$C$1))","v":1257.7613333333331},{"$f":"AVERAGE(OFFSET(H71,0,0,Overview!$C$2))","v":1286.7014285714286},"",""]
[null,"","jul","2006-07-03",1270.06,1280.42,1224.54,1276.6600000000001,2440476000,1276.6600000000001,{"$f":"AVERAGE(OFFSET(H72,0,0,Overview!$C$1))","v":1250.2733333333333},{"$f":"AVERAGE(OFFSET(H72,0,0,Overview!$C$2))","v":1283.3099999999997},"",""]
[null,"","jun","2006-06-01",1270.05,1290.68,1219.29,1270.2,2632855400,1270.2,{"$f":"AVERAGE(OFFSET(H73,0,0,Overview!$C$1))","v":1242.2859999999998},{"$f":"AVERAGE(OFFSET(H73,0,0,Overview!$C$2))","v":1279.2571428571428},"",""]
[null,"","maj","2006-05-01",1310.6099999999999,1326.7,1245.3399999999999,1270.0899999999999,2591135900,1270.0899999999999,{"$f":"AVERAGE(OFFSET(H74,0,0,Overview!$C$1))","v":1236.3120000000001},{"$f":"AVERAGE(OFFSET(H74,0,0,Overview!$C$2))","v":1276.2971428571429},"",""]
[null,"","apr","2006-04-03",1302.8800000000001,1318.16,1280.74,1310.6099999999999,2406755200,1310.6099999999999,{"$f":"AVERAGE(OFFSET(H75,0,0,Overview!$C$1))","v":1231.8793333333333},{"$f":"AVERAGE(OFFSET(H75,0,0,Overview!$C$2))","v":1267.2857142857142},"",""]
[null,"","mar","2006-03-01",1280.6600000000001,1310.88,1268.42,1294.8699999999999,2310510800,1294.8699999999999,{"$f":"AVERAGE(OFFSET(H76,0,0,Overview!$C$1))","v":1223.2566666666667},{"$f":"AVERAGE(OFFSET(H76,0,0,Overview!$C$2))","v":1255.5999999999999},"",""]
[null,"","feb","2006-02-01",1280.08,1297.57,1253.6099999999999,1280.6600000000001,2380568400,1280.6600000000001,{"$f":"AVERAGE(OFFSET(H77,0,0,Overview!$C$1))","v":1217.7266666666667},{"$f":"AVERAGE(OFFSET(H77,0,0,Overview!$C$2))","v":1244.9514285714286},"",""]
[null,2006,"jan","2006-01-03",1248.29,1294.9000000000001,1245.74,1280.08,2595998000,1280.08,{"$f":"AVERAGE(OFFSET(H78,0,0,Overview!$C$1))","v":1210.604},{"$f":"AVERAGE(OFFSET(H78,0,0,Overview!$C$2))","v":1238.3114285714287},"",""]
[null,"","dec","2005-12-01",1249.48,1275.8,1246.5899999999999,1248.29,2057125200,1248.29,{"$f":"AVERAGE(OFFSET(H79,0,0,Overview!$C$1))","v":1200.6120000000003},{"$f":"AVERAGE(OFFSET(H79,0,0,Overview!$C$2))","v":1225.6328571428571},"",""]
[null,"","nov","2005-11-01",1207.01,1270.6400000000001,1201.07,1249.48,2260836100,1249.48,{"$f":"AVERAGE(OFFSET(H80,0,0,Overview!$C$1))","v":1191.6980000000001},{"$f":"AVERAGE(OFFSET(H80,0,0,Overview!$C$2))","v":1217.52},"",""]
[null,"","okt","2005-10-03",1228.81,1233.3399999999999,1168.2,1207.01,2493393300,1207.01,{"$f":"AVERAGE(OFFSET(H81,0,0,Overview!$C$1))","v":1182.0153333333335},{"$f":"AVERAGE(OFFSET(H81,0,0,Overview!$C$2))","v":1204.287142857143},"",""]
[null,"","sep","2005-09-01",1220.33,1243.1300000000001,1205.3499999999999,1228.81,2232144200,1228.81,{"$f":"AVERAGE(OFFSET(H82,0,0,Overview!$C$1))","v":1174.9960000000001},{"$f":"AVERAGE(OFFSET(H82,0,0,Overview!$C$2))","v":1200.5128571428572},"",""]
[null,"","aug","2005-08-01",1234.18,1245.8599999999999,1201.07,1220.33,1930243400,1220.33,{"$f":"AVERAGE(OFFSET(H83,0,0,Overview!$C$1))","v":1169.1313333333335},{"$f":"AVERAGE(OFFSET(H83,0,0,Overview!$C$2))","v":1196.9114285714288},"",""]
[null,"","jul","2005-07-01",1191.33,1245.1500000000001,1183.55,1234.18,1962713500,1234.18,{"$f":"AVERAGE(OFFSET(H84,0,0,Overview!$C$1))","v":1162.4880000000001},{"$f":"AVERAGE(OFFSET(H84,0,0,Overview!$C$2))","v":1191.3314285714289},"",""]
[null,"","jun","2005-06-01",1191.5,1219.5899999999999,1188.3,1191.33,1929251300,1191.33,{"$f":"AVERAGE(OFFSET(H85,0,0,Overview!$C$1))","v":1154.0293333333332},{"$f":"AVERAGE(OFFSET(H85,0,0,Overview!$C$2))","v":1188.1514285714286},"",""]
[null,"","maj","2005-05-02",1156.8499999999999,1199.56,1146.18,1191.5,1960127100,1191.5,{"$f":"AVERAGE(OFFSET(H86,0,0,Overview!$C$1))","v":1149.6879999999999},{"$f":"AVERAGE(OFFSET(H86,0,0,Overview!$C$2))","v":1185.6499999999999},"",""]
[null,"","apr","2005-04-01",1180.5899999999999,1191.8800000000001,1136.1500000000001,1156.8499999999999,2180315700,1156.8499999999999,{"$f":"AVERAGE(OFFSET(H87,0,0,Overview!$C$1))","v":1146.5839999999998},{"$f":"AVERAGE(OFFSET(H87,0,0,Overview!$C$2))","v":1176.8928571428571},"",""]
[null,"","mar","2005-03-01",1203.5999999999999,1229.1099999999999,1163.69,1180.5899999999999,1874017200,1180.5899999999999,{"$f":"AVERAGE(OFFSET(H88,0,0,Overview!$C$1))","v":1144.8693333333331},{"$f":"AVERAGE(OFFSET(H88,0,0,Overview!$C$2))","v":1170.8542857142857},"",""]
[null,"","feb","2005-02-01",1181.27,1212.44,1180.95,1203.5999999999999,1636467800,1203.5999999999999,{"$f":"AVERAGE(OFFSET(H89,0,0,Overview!$C$1))","v":1140.2913333333331},{"$f":"AVERAGE(OFFSET(H89,0,0,Overview!$C$2))","v":1159.9471428571428},"",""]
[null,2005,"jan","2005-01-03",1211.92,1217.8,1163.75,1181.27,1658930000,1181.27,{"$f":"AVERAGE(OFFSET(H90,0,0,Overview!$C$1))","v":1130.5979999999997},{"$f":"AVERAGE(OFFSET(H90,0,0,Overview!$C$2))","v":1145.3928571428571},"",""]
[null,"","dec","2004-12-01",1173.78,1217.33,1173.78,1211.92,1449518100,1211.92,{"$f":"AVERAGE(OFFSET(H91,0,0,Overview!$C$1))","v":1121.894},{"$f":"AVERAGE(OFFSET(H91,0,0,Overview!$C$2))","v":1139.6171428571429},"",""]
[null,"","nov","2004-11-01",1130.2,1188.46,1127.5999999999999,1173.82,1524465700,1173.82,{"$f":"AVERAGE(OFFSET(H92,0,0,Overview!$C$1))","v":1107.4973333333335},{"$f":"AVERAGE(OFFSET(H92,0,0,Overview!$C$2))","v":1126.5828571428572},"",""]
[null,"","okt","2004-10-01",1114.58,1142.05,1090.29,1130.2,1571990400,1130.2,{"$f":"AVERAGE(OFFSET(H93,0,0,Overview!$C$1))","v":1096.4433333333334},{"$f":"AVERAGE(OFFSET(H93,0,0,Overview!$C$2))","v":1117.0800000000002},"",""]
[null,"","sep","2004-09-01",1104.24,1131.54,1099.18,1114.58,1360850900,1114.58,{"$f":"AVERAGE(OFFSET(H94,0,0,Overview!$C$1))","v":1087.1173333333334},{"$f":"AVERAGE(OFFSET(H94,0,0,Overview!$C$2))","v":1116.51},"",""]
[null,"","aug","2004-08-02",1101.72,1109.68,1060.72,1104.24,1260227200,1104.24,{"$f":"AVERAGE(OFFSET(H95,0,0,Overview!$C$1))","v":1077.7786666666668},{"$f":"AVERAGE(OFFSET(H95,0,0,Overview!$C$2))","v":1120.8471428571429},"",""]
[null,"","jul","2004-07-01",1140.8399999999999,1140.8399999999999,1078.78,1101.72,1456371400,1101.72,{"$f":"AVERAGE(OFFSET(H96,0,0,Overview!$C$1))","v":1068.402},{"$f":"AVERAGE(OFFSET(H96,0,0,Overview!$C$2))","v":1124.6885714285715},"",""]
[null,"","jun","2004-06-01",1120.68,1146.3399999999999,1113.32,1140.8399999999999,1381109500,1140.8399999999999,{"$f":"AVERAGE(OFFSET(H97,0,0,Overview!$C$1))","v":1056.0819999999999},{"$f":"AVERAGE(OFFSET(H97,0,0,Overview!$C$2))","v":1126.1457142857141},"",""]
[null,"","maj","2004-05-03",1107.3,1127.74,1076.32,1120.68,1524950000,1120.68,{"$f":"AVERAGE(OFFSET(H98,0,0,Overview!$C$1))","v":1036.5713333333333},{"$f":"AVERAGE(OFFSET(H98,0,0,Overview!$C$2))","v":1114.3399999999999},"",""]
[null,"","apr","2004-04-01",1126.21,1150.57,1107.23,1107.3,1583171400,1107.3,{"$f":"AVERAGE(OFFSET(H99,0,0,Overview!$C$1))","v":1017.9359999999999},{"$f":"AVERAGE(OFFSET(H99,0,0,Overview!$C$2))","v":1104.3442857142857},"",""]
[null,"","mar","2004-03-01",1144.94,1163.23,1087.1600000000001,1126.21,1528634700,1126.21,{"$f":"AVERAGE(OFFSET(H100,0,0,Overview!$C$1))","v":1001.1626666666667},{"$f":"AVERAGE(OFFSET(H100,0,0,Overview!$C$2))","v":1088.44},"",""]
[null,"","feb","2004-02-02",1131.1300000000001,1158.98,1124.44,1144.94,1554000000,1144.94,{"$f":"AVERAGE(OFFSET(H101,0,0,Overview!$C$1))","v":984.73666666666679},{"$f":"AVERAGE(OFFSET(H101,0,0,Overview!$C$2))","v":1071.5542857142859},"",""]
[null,2004,"jan","2004-01-02",1111.92,1155.3800000000001,1105.08,1131.1300000000001,1722750000,1131.1300000000001,{"$f":"AVERAGE(OFFSET(H102,0,0,Overview!$C$1))","v":970.82799999999997},{"$f":"AVERAGE(OFFSET(H102,0,0,Overview!$C$2))","v":1049.4642857142858},"",""]
[null,"","dec","2003-12-01",1058.2,1112.56,1053.4100000000001,1111.92,1312119500,1111.92,{"$f":"AVERAGE(OFFSET(H103,0,0,Overview!$C$1))","v":954.47},{"$f":"AVERAGE(OFFSET(H103,0,0,Overview!$C$2))","v":1027.0885714285716},"",""]
[null,"","nov","2003-11-03",1050.71,1063.6500000000001,1031.2,1058.2,1313181000,1058.2,{"$f":"AVERAGE(OFFSET(H104,0,0,Overview!$C$1))","v":934.69400000000007},{"$f":"AVERAGE(OFFSET(H104,0,0,Overview!$C$2))","v":1005.8985714285716},"",""]
[null,"","okt","2003-10-01",995.97,1053.79,995.97,1050.71,1469452100,1050.71,{"$f":"AVERAGE(OFFSET(H105,0,0,Overview!$C$1))","v":925.21866666666676},{"$f":"AVERAGE(OFFSET(H105,0,0,Overview!$C$2))","v":985.71571428571428},"",""]
[null,"","sep","2003-09-02",1008.01,1040.29,990.36,995.97,1501457600,995.97,{"$f":"AVERAGE(OFFSET(H106,0,0,Overview!$C$1))","v":915.94600000000003},{"$f":"AVERAGE(OFFSET(H106,0,0,Overview!$C$2))","v":956.78285714285721},"",""]
[null,"","aug","2003-08-01",990.31,1011.01,960.84,1008.01,1229836600,1008.01,{"$f":"AVERAGE(OFFSET(H107,0,0,Overview!$C$1))","v":915.53600000000006},{"$f":"AVERAGE(OFFSET(H107,0,0,Overview!$C$2))","v":934.66571428571422},915.53600000000006,""]
[null,"","jul","2003-07-01",974.5,1015.41,962.1,990.31,1507327200,990.31,{"$f":"AVERAGE(OFFSET(H108,0,0,Overview!$C$1))","v":919.47799999999995},{"$f":"AVERAGE(OFFSET(H108,0,0,Overview!$C$2))","v":912.90714285714273},"",""]
[null,"","jun","2003-06-02",963.59,1015.33,963.59,974.5,1562219000,974.5,{"$f":"AVERAGE(OFFSET(H109,0,0,Overview!$C$1))","v":925.25200000000007},{"$f":"AVERAGE(OFFSET(H109,0,0,Overview!$C$2))","v":897.12285714285713},"",""]
[null,"","maj","2003-05-01",916.92,965.38,902.83,963.59,1554328500,963.59,{"$f":"AVERAGE(OFFSET(H110,0,0,Overview!$C$1))","v":936.77800000000002},{"$f":"AVERAGE(OFFSET(H110,0,0,Overview!$C$2))","v":891.66714285714284},"",""]
[null,"","apr","2003-04-01",848.18,924.24,847.85,916.92,1498005700,916.92,{"$f":"AVERAGE(OFFSET(H111,0,0,Overview!$C$1))","v":946.32066666666651},{"$f":"AVERAGE(OFFSET(H111,0,0,Overview!$C$2))","v":880.54857142857145},"",""]
[null,"","mar","2003-03-03",841.15,895.9,788.9,848.18,1503596600,848.18,{"$f":"AVERAGE(OFFSET(H112,0,0,Overview!$C$1))","v":960.53933333333327},{"$f":"AVERAGE(OFFSET(H112,0,0,Overview!$C$2))","v":866.02857142857135},"",""]
[null,"","feb","2003-02-03",855.7,864.64,806.29,841.15,1400452600,841.15,{"$f":"AVERAGE(OFFSET(H113,0,0,Overview!$C$1))","v":980.5326666666665},{"$f":"AVERAGE(OFFSET(H113,0,0,Overview!$C$2))","v":875.72714285714278},"",""]
[null,2003,"jan","2003-01-02",879.82,935.05,840.34,855.7,1539433800,855.7,{"$f":"AVERAGE(OFFSET(H114,0,0,Overview!$C$1))","v":1000.4193333333333},{"$f":"AVERAGE(OFFSET(H114,0,0,Overview!$C$2))","v":885.79428571428559},"",""]
[null,"","dec","2002-12-02",936.31,954.28,869.45,879.82,1289625700,879.82,{"$f":"AVERAGE(OFFSET(H115,0,0,Overview!$C$1))","v":1014.0246666666667},{"$f":"AVERAGE(OFFSET(H115,0,0,Overview!$C$2))","v":904.95428571428567},"",""]
[null,"","nov","2002-11-01",885.76,941.82,872.05,936.31,1492221000,936.31,{"$f":"AVERAGE(OFFSET(H116,0,0,Overview!$C$1))","v":1024.7660000000001},{"$f":"AVERAGE(OFFSET(H116,0,0,Overview!$C$2))","v":931.71428571428567},"",""]
[null,"","okt","2002-10-01",815.28,907.44,768.63,885.76,1717287300,885.76,{"$f":"AVERAGE(OFFSET(H117,0,0,Overview!$C$1))","v":1037.9173333333335},{"$f":"AVERAGE(OFFSET(H117,0,0,Overview!$C$2))","v":951.80142857142869},"",""]
[null,"","sep","2002-09-03",916.07,924.02,800.2,815.28,1472279000,815.28,{"$f":"AVERAGE(OFFSET(H118,0,0,Overview!$C$1))","v":1059.6153333333336},{"$f":"AVERAGE(OFFSET(H118,0,0,Overview!$C$2))","v":989.17714285714294},"",""]
[null,"","aug","2002-08-01",911.62,965,833.44,916.07,1374013600,916.07,{"$f":"AVERAGE(OFFSET(H119,0,0,Overview!$C$1))","v":1086.8886666666667},{"$f":"AVERAGE(OFFSET(H119,0,0,Overview!$C$2))","v":1030.8128571428572},"",""]
[null,"","jul","2002-07-01",989.82,994.46,775.68,911.62,2012640000,911.62,{"$f":"AVERAGE(OFFSET(H120,0,0,Overview!$C$1))","v":1109.5386666666668},{"$f":"AVERAGE(OFFSET(H120,0,0,Overview!$C$2))","v":1061.4028571428573},"",""]
[null,"","jun","2002-06-03",1067.1400000000001,1070.74,952.92,989.82,1604925500,989.82,{"$f":"AVERAGE(OFFSET(H121,0,0,Overview!$C$1))","v":1132.0613333333333},{"$f":"AVERAGE(OFFSET(H121,0,0,Overview!$C$2))","v":1095.1828571428571},"",""]
[null,"","maj","2002-05-01",1076.92,1106.5899999999999,1048.96,1067.1400000000001,1281036300,1067.1400000000001,{"$f":"AVERAGE(OFFSET(H122,0,0,Overview!$C$1))","v":1143.4286666666667},{"$f":"AVERAGE(OFFSET(H122,0,0,Overview!$C$2))","v":1116.5585714285714},"",""]
[null,"","apr","2002-04-01",1147.3900000000001,1147.8399999999999,1063.46,1076.92,1372613600,1076.92,{"$f":"AVERAGE(OFFSET(H123,0,0,Overview!$C$1))","v":1154.9486666666667},{"$f":"AVERAGE(OFFSET(H123,0,0,Overview!$C$2))","v":1115.507142857143},"",""]
[null,"","mar","2002-03-01",1106.73,1173.94,1106.73,1147.3900000000001,1385540000,1147.3900000000001,{"$f":"AVERAGE(OFFSET(H124,0,0,Overview!$C$1))","v":1174.2213333333332},{"$f":"AVERAGE(OFFSET(H124,0,0,Overview!$C$2))","v":1110.3671428571429},"",""]
[null,"","feb","2002-02-01",1130.2,1130.2,1074.3599999999999,1106.73,1444200000,1106.73,{"$f":"AVERAGE(OFFSET(H125,0,0,Overview!$C$1))","v":1185.747333333333},{"$f":"AVERAGE(OFFSET(H125,0,0,Overview!$C$2))","v":1108.3942857142858},"",""]
[null,2002,"jan","2002-01-02",1148.08,1176.97,1081.6600000000001,1130.2,1490628500,1130.2,{"$f":"AVERAGE(OFFSET(H126,0,0,Overview!$C$1))","v":1199.6286666666667},{"$f":"AVERAGE(OFFSET(H126,0,0,Overview!$C$2))","v":1123.3228571428569},"",""]
[null,"","dec","2001-12-03",1139.45,1173.6199999999999,1114.53,1148.08,1303608500,1148.08,{"$f":"AVERAGE(OFFSET(H127,0,0,Overview!$C$1))","v":1219.5753333333337},{"$f":"AVERAGE(OFFSET(H127,0,0,Overview!$C$2))","v":1136.7771428571427},"",""]
[null,"","nov","2001-11-01",1059.78,1163.3800000000001,1054.31,1139.45,1317790400,1139.45,{"$f":"AVERAGE(OFFSET(H128,0,0,Overview!$C$1))","v":1238.8040000000001},{"$f":"AVERAGE(OFFSET(H128,0,0,Overview!$C$2))","v":1152.1685714285713},"",""]
[null,"","okt","2001-10-01",1040.94,1110.6099999999999,1026.76,1059.78,1361033900,1059.78,{"$f":"AVERAGE(OFFSET(H129,0,0,Overview!$C$1))","v":1264.0193333333334},{"$f":"AVERAGE(OFFSET(H129,0,0,Overview!$C$2))","v":1167.8842857142859},"",""]
[null,"",{"$f":"IF(TEXT(D130,\"MMM\")=TEXT(D131,\"MMM\"),\"\",TEXT(D130,\"MMM\"))","v":"sep"},"2001-09-04",1133.58,1155.4000000000001,944.75,1040.94,1777119300,1040.94,{"$f":"AVERAGE(OFFSET(H130,0,0,Overview!$C$1))","v":1288.7560000000003},{"$f":"AVERAGE(OFFSET(H130,0,0,Overview!$C$2))","v":1182.2485714285715},"",""]
[null,"","aug","2001-08-01",1211.23,1226.27,1124.8699999999999,1133.58,1055621700,1133.58,{"$f":"AVERAGE(OFFSET(H131,0,0,Overview!$C$1))","v":1316.3333333333333},{"$f":"AVERAGE(OFFSET(H131,0,0,Overview!$C$2))","v":1210.6771428571428},{"$f":"IF((L132<K132)*(L131>K131),K131,\"\")","v":""},{"$f":"IF((L132>K132)*(L131<K131),K131,\"\")","v":""}]
[null,{"$f":"IF(YEAR(D132)=YEAR(D133),\"\",YEAR(D132))","v":""},"jul","2001-07-02",1224.42,1239.78,1165.54,1211.23,1186805200,1211.23,{"$f":"AVERAGE(OFFSET(H132,0,0,Overview!$C$1))","v":1335.4679999999998},{"$f":"AVERAGE(OFFSET(H132,0,0,Overview!$C$2))","v":1243.8814285714286},"",""]
[null,"","jun","2001-06-01",1255.82,1286.6199999999999,1203.03,1224.3800000000001,1265732800,1224.3800000000001,{"$f":"AVERAGE(OFFSET(H133,0,0,Overview!$C$1))","v":1351.548},{"$f":"AVERAGE(OFFSET(H133,0,0,Overview!$C$2))","v":1259.4600000000003},"",""]
[null,"","maj","2001-05-01",1249.46,1315.93,1232,1255.82,1170568100,1255.82,{"$f":"AVERAGE(OFFSET(H134,0,0,Overview!$C$1))","v":1369.828},{"$f":"AVERAGE(OFFSET(H134,0,0,Overview!$C$2))","v":1272.3985714285714},"",""]
[null,"","apr","2001-04-02",1160.33,1269.3,1091.99,1249.46,1333839500,1249.46,{"$f":"AVERAGE(OFFSET(H135,0,0,Overview!$C$1))","v":1377.2013333333332},{"$f":"AVERAGE(OFFSET(H135,0,0,Overview!$C$2))","v":1297.1957142857141},"",""]
[null,"","mar","2001-03-01",1239.94,1267.42,1081.19,1160.33,1322155000,1160.33,{"$f":"AVERAGE(OFFSET(H136,0,0,Overview!$C$1))","v":1386.8679999999997},{"$f":"AVERAGE(OFFSET(H136,0,0,Overview!$C$2))","v":1323.9171428571428},"",""]
[null,"","feb","2001-02-01",1366.01,1376.38,1215.44,1239.94,1203668400,1239.94,{"$f":"AVERAGE(OFFSET(H137,0,0,Overview!$C$1))","v":1407.4626666666668},{"$f":"AVERAGE(OFFSET(H137,0,0,Overview!$C$2))","v":1374.967142857143},"",""]
[null,2001,"jan","2001-01-02",1320.28,1383.37,1274.6199999999999,1366.01,1386909500,1366.01,{"$f":"AVERAGE(OFFSET(H138,0,0,Overview!$C$1))","v":1417.394},{"$f":"AVERAGE(OFFSET(H138,0,0,Overview!$C$2))","v":1402.2371428571428},"",""]
[null,"","dec","2000-12-01",1314.95,1389.05,1254.07,1320.28,1232315000,1320.28,{"$f":"AVERAGE(OFFSET(H139,0,0,Overview!$C$1))","v":1417.1886666666667},{"$f":"AVERAGE(OFFSET(H139,0,0,Overview!$C$2))","v":1414.8928571428573},"",1417.1886666666667]
[null,"","nov","2000-11-01",1429.4,1438.46,1294.9000000000001,1314.95,1034230000,1314.95,{"$f":"AVERAGE(OFFSET(H140,0,0,Overview!$C$1))","v":1414.6840000000002},{"$f":"AVERAGE(OFFSET(H140,0,0,Overview!$C$2))","v":1429.224285714286},"",""]
[null,"","okt","2000-10-02",1436.52,1454.82,1305.79,1429.4,1241718100,1429.4,{"$f":"AVERAGE(OFFSET(H141,0,0,Overview!$C$1))","v":1415.048},{"$f":"AVERAGE(OFFSET(H141,0,0,Overview!$C$2))","v":1448.8642857142859},"",""]
[null,"","sep","2000-09-01",1517.68,1530.09,1419.44,1436.51,1101770000,1436.51,{"$f":"AVERAGE(OFFSET(H142,0,0,Overview!$C$1))","v":1408.336},{"$f":"AVERAGE(OFFSET(H142,0,0,Overview!$C$2))","v":1458.747142857143},"",""]
[null,"","aug","2000-08-01",1430.83,1525.21,1425.43,1517.68,931317300,1517.68,{"$f":"AVERAGE(OFFSET(H143,0,0,Overview!$C$1))","v":1404.0826666666667},{"$f":"AVERAGE(OFFSET(H143,0,0,Overview!$C$2))","v":1448.734285714286},"",""]
[null,"","jul","2000-07-03",1454.6,1517.32,1413.89,1430.83,1002085000,1430.83,{"$f":"AVERAGE(OFFSET(H144,0,0,Overview!$C$1))","v":1389.6933333333332},{"$f":"AVERAGE(OFFSET(H144,0,0,Overview!$C$2))","v":1431.1314285714284},"",""]
[null,"","jun","2000-06-01",1420.6,1488.93,1420.6,1454.6,1054454500,1454.6,{"$f":"AVERAGE(OFFSET(H145,0,0,Overview!$C$1))","v":1383.3166666666666},{"$f":"AVERAGE(OFFSET(H145,0,0,Overview!$C$2))","v":1436.6200000000001},"",""]
[null,"","maj","2000-05-01",1452.43,1481.51,1361.09,1420.6,948127200,1420.6,{"$f":"AVERAGE(OFFSET(H146,0,0,Overview!$C$1))","v":1372.1013333333333},{"$f":"AVERAGE(OFFSET(H146,0,0,Overview!$C$2))","v":1427.2357142857143},"",""]
[null,"","apr","2000-04-03",1498.58,1527.19,1339.4,1452.43,1110055700,1452.43,{"$f":"AVERAGE(OFFSET(H147,0,0,Overview!$C$1))","v":1359.95},{"$f":"AVERAGE(OFFSET(H147,0,0,Overview!$C$2))","v":1418.997142857143},"",""]
[null,"","mar","2000-03-01",1366.42,1552.87,1346.62,1498.58,1190591300,1498.58,{"$f":"AVERAGE(OFFSET(H148,0,0,Overview!$C$1))","v":1348.4306666666666},{"$f":"AVERAGE(OFFSET(H148,0,0,Overview!$C$2))","v":1394.7514285714283},"",""]
[null,"","feb","2000-02-01",1394.46,1444.55,1325.07,1366.42,1105815000,1366.42,{"$f":"AVERAGE(OFFSET(H149,0,0,Overview!$C$1))","v":1330.4739999999997},{"$f":"AVERAGE(OFFSET(H149,0,0,Overview!$C$2))","v":1369.2985714285714},"",""]
[null,2000,"jan","2000-01-03",1469.25,1478,1350.14,1394.46,1124410000,1394.46,{"$f":"AVERAGE(OFFSET(H150,0,0,Overview!$C$1))","v":1316.9546666666668},{"$f":"AVERAGE(OFFSET(H150,0,0,Overview!$C$2))","v":1363.9128571428571},"",""]
[null,"","dec","1999-12-01",1388.91,1473.1,1387.38,1469.25,909760900,1469.25,{"$f":"AVERAGE(OFFSET(H151,0,0,Overview!$C$1))","v":1297.2353333333333},{"$f":"AVERAGE(OFFSET(H151,0,0,Overview!$C$2))","v":1360.8057142857142},"",""]
[null,"","nov","1999-11-01",1362.93,1425.31,1346.41,1388.91,920777100,1388.91,{"$f":"AVERAGE(OFFSET(H152,0,0,Overview!$C$1))","v":1267.0859999999998},{"$f":"AVERAGE(OFFSET(H152,0,0,Overview!$C$2))","v":1336.8899999999999},"",""]
[null,"","okt","1999-10-01",1282.71,1373.17,1233.7,1362.93,950119000,1362.93,{"$f":"AVERAGE(OFFSET(H153,0,0,Overview!$C$1))","v":1238.3106666666661},{"$f":"AVERAGE(OFFSET(H153,0,0,Overview!$C$2))","v":1329.2142857142858},"",""]
[null,"","sep","1999-09-01",1320.41,1361.39,1256.26,1282.71,831252300,1282.71,{"$f":"AVERAGE(OFFSET(H154,0,0,Overview!$C$1))","v":1222.1600000000001},{"$f":"AVERAGE(OFFSET(H154,0,0,Overview!$C$2))","v":1318.277142857143},"",""]
[null,"","aug","1999-08-02",1328.72,1382.84,1267.73,1320.41,758193100,1320.41,{"$f":"AVERAGE(OFFSET(H155,0,0,Overview!$C$1))","v":1212.2353333333335},{"$f":"AVERAGE(OFFSET(H155,0,0,Overview!$C$2))","v":1311.937142857143},"",""]
[null,"","jul","1999-07-01",1372.71,1420.33,1328.49,1328.72,765225200,1328.72,{"$f":"AVERAGE(OFFSET(H156,0,0,Overview!$C$1))","v":1196.9293333333335},{"$f":"AVERAGE(OFFSET(H156,0,0,Overview!$C$2))","v":1306.1128571428574},"",""]
[null,"","jun","1999-06-01",1301.8399999999999,1372.93,1277.47,1372.71,781644000,1372.71,{"$f":"AVERAGE(OFFSET(H157,0,0,Overview!$C$1))","v":1182.4646666666667},{"$f":"AVERAGE(OFFSET(H157,0,0,Overview!$C$2))","v":1291.9000000000001},"",""]
[null,"","maj","1999-05-03",1335.18,1375.98,1277.31,1301.8399999999999,826511000,1301.8399999999999,{"$f":"AVERAGE(OFFSET(H158,0,0,Overview!$C$1))","v":1164.4006666666669},{"$f":"AVERAGE(OFFSET(H158,0,0,Overview!$C$2))","v":1262.0314285714287},"",""]
[null,"","apr","1999-04-01",1286.3699999999999,1371.56,1282.56,1335.18,926652300,1335.18,{"$f":"AVERAGE(OFFSET(H159,0,0,Overview!$C$1))","v":1147.5673333333332},{"$f":"AVERAGE(OFFSET(H159,0,0,Overview!$C$2))","v":1233.0071428571428},"",""]
[null,"","mar","1999-03-01",1238.33,1323.82,1216.03,1286.3699999999999,822904300,1286.3699999999999,{"$f":"AVERAGE(OFFSET(H160,0,0,Overview!$C$1))","v":1123.9073333333333},{"$f":"AVERAGE(OFFSET(H160,0,0,Overview!$C$2))","v":1187.5542857142857},"",""]
[null,"","feb","1999-02-01",1279.6400000000001,1283.8399999999999,1211.8900000000001,1238.33,807392600,1238.33,{"$f":"AVERAGE(OFFSET(H161,0,0,Overview!$C$1))","v":1102.8446666666666},{"$f":"AVERAGE(OFFSET(H161,0,0,Overview!$C$2))","v":1140.5414285714285},"",""]
[null,1999,"jan","1999-01-04",1229.23,1280.3699999999999,1205.46,1279.6400000000001,901605200,1279.6400000000001,{"$f":"AVERAGE(OFFSET(H162,0,0,Overview!$C$1))","v":1083.9826666666665},{"$f":"AVERAGE(OFFSET(H162,0,0,Overview!$C$2))","v":1123.7328571428573},"",""]
[null,"","dec","1998-12-01",1163.6300000000001,1244.93,1136.8900000000001,1229.23,722756800,1229.23,{"$f":"AVERAGE(OFFSET(H163,0,0,Overview!$C$1))","v":1059.6480000000001},{"$f":"AVERAGE(OFFSET(H163,0,0,Overview!$C$2))","v":1102.9042857142856},"",""]
[null,"","nov","1998-11-02",1098.67,1192.97,1098.67,1163.6300000000001,706959000,1163.6300000000001,{"$f":"AVERAGE(OFFSET(H164,0,0,Overview!$C$1))","v":1040.8513333333335},{"$f":"AVERAGE(OFFSET(H164,0,0,Overview!$C$2))","v":1083.1314285714286},"",""]
[null,"","okt","1998-10-01",1017.01,1103.78,923.32,1098.67,853938600,1098.67,{"$f":"AVERAGE(OFFSET(H165,0,0,Overview!$C$1))","v":1023.2406666666668},{"$f":"AVERAGE(OFFSET(H165,0,0,Overview!$C$2))","v":1075.72},"",""]
[null,"","sep","1998-09-01",957.28,1066.1099999999999,939.98,1017.01,834008500,1017.01,{"$f":"AVERAGE(OFFSET(H166,0,0,Overview!$C$1))","v":1013.6166666666667},{"$f":"AVERAGE(OFFSET(H166,0,0,Overview!$C$2))","v":1076.1600000000001},"",""]
[null,"","aug","1998-08-03",1120.67,1121.79,957.28,957.28,761383300,957.28,{"$f":"AVERAGE(OFFSET(H167,0,0,Overview!$C$1))","v":1004.8253333333333},{"$f":"AVERAGE(OFFSET(H167,0,0,Overview!$C$2))","v":1080.7785714285715},"",""]
[null,"","jul","1998-07-01",1133.8399999999999,1190.58,1114.3,1120.67,674577700,1120.67,{"$f":"AVERAGE(OFFSET(H168,0,0,Overview!$C$1))","v":997.55866666666657},{"$f":"AVERAGE(OFFSET(H168,0,0,Overview!$C$2))","v":1084.0642857142857},"",""]
[null,"","jun","1998-06-01",1090.82,1145.1500000000001,1074.67,1133.8399999999999,650416800,1133.8399999999999,{"$f":"AVERAGE(OFFSET(H169,0,0,Overview!$C$1))","v":976.2700000000001},{"$f":"AVERAGE(OFFSET(H169,0,0,Overview!$C$2))","v":1062.6014285714286},"",""]
[null,"","maj","1998-05-01",1111.75,1130.52,1074.3900000000001,1090.82,601696000,1090.82,{"$f":"AVERAGE(OFFSET(H170,0,0,Overview!$C$1))","v":951.15533333333337},{"$f":"AVERAGE(OFFSET(H170,0,0,Overview!$C$2))","v":1037.1099999999999},"",""]
[null,"","apr","1998-04-01",1101.75,1132.98,1076.7,1111.75,683412300,1111.75,{"$f":"AVERAGE(OFFSET(H171,0,0,Overview!$C$1))","v":931.15533333333337},{"$f":"AVERAGE(OFFSET(H171,0,0,Overview!$C$2))","v":1011.9385714285714},"",""]
[null,"","mar","1998-03-02",1049.3399999999999,1113.07,1030.8699999999999,1101.75,654296300,1101.75,{"$f":"AVERAGE(OFFSET(H172,0,0,Overview!$C$1))","v":909.44933333333336},{"$f":"AVERAGE(OFFSET(H172,0,0,Overview!$C$2))","v":988.44285714285706},"",""]
[null,"","feb","1998-02-02",980.28,1051.6600000000001,980.28,1049.3399999999999,643738400,1049.3399999999999,{"$f":"AVERAGE(OFFSET(H173,0,0,Overview!$C$1))","v":885.38199999999995},{"$f":"AVERAGE(OFFSET(H173,0,0,Overview!$C$2))","v":959.54571428571421},"",""]
[null,1998,"jan","1998-01-02",970.43,992.65,912.83,980.28,667360500,980.28,{"$f":"AVERAGE(OFFSET(H174,0,0,Overview!$C$1))","v":865.89400000000012},{"$f":"AVERAGE(OFFSET(H174,0,0,Overview!$C$2))","v":945.97000000000014},"",""]
[null,"","dec","1997-12-01",955.4,986.25,924.92,970.43,564825400,970.43,{"$f":"AVERAGE(OFFSET(H175,0,0,Overview!$C$1))","v":847.56000000000006},{"$f":"AVERAGE(OFFSET(H175,0,0,Overview!$C$2))","v":932.37857142857149},"",""]
[null,"","nov","1997-11-03",914.62,964.55,900.61,955.4,545404700,955.4,{"$f":"AVERAGE(OFFSET(H176,0,0,Overview!$C$1))","v":828.68666666666672},{"$f":"AVERAGE(OFFSET(H176,0,0,Overview!$C$2))","v":914.92857142857144},"",""]
[null,"","okt","1997-10-01",947.28,983.12,855.27,914.62,637188200,914.62,{"$f":"AVERAGE(OFFSET(H177,0,0,Overview!$C$1))","v":808.45933333333335},{"$f":"AVERAGE(OFFSET(H177,0,0,Overview!$C$2))","v":892.92},"",""]
[null,"","sep","1997-09-02",899.47,960.59,899.47,947.28,570023800,947.28,{"$f":"AVERAGE(OFFSET(H178,0,0,Overview!$C$1))","v":790.14800000000002},{"$f":"AVERAGE(OFFSET(H178,0,0,Overview!$C$2))","v":870.42},"",""]
[null,"","aug","1997-08-01",954.29,964.17,893.34,899.47,524762300,899.47,{"$f":"AVERAGE(OFFSET(H179,0,0,Overview!$C$1))","v":771.70466666666664},{"$f":"AVERAGE(OFFSET(H179,0,0,Overview!$C$2))","v":848.06857142857132},"",""]
[null,"","jul","1997-07-01",885.14,957.73,884.54,954.31,568452200,954.31,{"$f":"AVERAGE(OFFSET(H180,0,0,Overview!$C$1))","v":756.34799999999996},{"$f":"AVERAGE(OFFSET(H180,0,0,Overview!$C$2))","v":831.8814285714285},"",""]
[null,"","jun","1997-06-02",848.28,902.09,838.82,885.14,543785200,885.14,{"$f":"AVERAGE(OFFSET(H181,0,0,Overview!$C$1))","v":736.33866666666677},{"$f":"AVERAGE(OFFSET(H181,0,0,Overview!$C$2))","v":801.37142857142862},"",""]
[null,"","maj","1997-05-01",801.34,851.87,793.21,848.28,506850000,848.28,{"$f":"AVERAGE(OFFSET(H182,0,0,Overview!$C$1))","v":720.36266666666666},{"$f":"AVERAGE(OFFSET(H182,0,0,Overview!$C$2))","v":783.06857142857132},"",""]
[null,"","apr","1997-04-01",757.12,804.13,733.54,801.34,500497700,801.34,{"$f":"AVERAGE(OFFSET(H183,0,0,Overview!$C$1))","v":706.50600000000009},{"$f":"AVERAGE(OFFSET(H183,0,0,Overview!$C$2))","v":762.63857142857159},"",""]
[null,"","mar","1997-03-03",790.82,814.9,756.13,757.12,533832000,757.12,{"$f":"AVERAGE(OFFSET(H184,0,0,Overview!$C$1))","v":695.48466666666673},{"$f":"AVERAGE(OFFSET(H184,0,0,Overview!$C$2))","v":746.35142857142853},"",""]
[null,"","feb","1997-02-03",786.16,817.68,773.43,790.82,538116300,790.82,{"$f":"AVERAGE(OFFSET(H185,0,0,Overview!$C$1))","v":686.07200000000012},{"$f":"AVERAGE(OFFSET(H185,0,0,Overview!$C$2))","v":731.33285714285716},"",""]
[null,1997,"jan","1997-01-02",740.74,794.67,729.55,786.16,555199000,786.16,{"$f":"AVERAGE(OFFSET(H186,0,0,Overview!$C$1))","v":673.70866666666677},{"$f":"AVERAGE(OFFSET(H186,0,0,Overview!$C$2))","v":709.78},"",""]
[null,"","dec","1996-12-02",757.02,761.75,716.69,740.74,451853800,740.74,{"$f":"AVERAGE(OFFSET(H187,0,0,Overview!$C$1))","v":660.06466666666677},{"$f":"AVERAGE(OFFSET(H187,0,0,Overview!$C$2))","v":693.27571428571423},"",""]
[null,"","nov","1996-11-01",705.27,762.12,701.3,757.02,438942000,757.02,{"$f":"AVERAGE(OFFSET(H188,0,0,Overview!$C$1))","v":649.64266666666674},{"$f":"AVERAGE(OFFSET(H188,0,0,Overview!$C$2))","v":683.04428571428559},"",""]
[null,"","okt","1996-10-01",687.31,714.1,684.44,705.27,442891700,705.27,{"$f":"AVERAGE(OFFSET(H189,0,0,Overview!$C$1))","v":636.63333333333321},{"$f":"AVERAGE(OFFSET(H189,0,0,Overview!$C$2))","v":668.35142857142853},"",""]
[null,"","sep","1996-09-03",651.99,690.88,643.97,687.33,422632000,687.33,{"$f":"AVERAGE(OFFSET(H190,0,0,Overview!$C$1))","v":627.08600000000001},{"$f":"AVERAGE(OFFSET(H190,0,0,Overview!$C$2))","v":659.81285714285718},"",""]
[null,"","aug","1996-08-01",639.95000000000005,670.68,639.49,651.99,347213600,651.99,{"$f":"AVERAGE(OFFSET(H191,0,0,Overview!$C$1))","v":617.58066666666662},{"$f":"AVERAGE(OFFSET(H191,0,0,Overview!$C$2))","v":653.11285714285714},"",""]
[null,"","jul","1996-07-01",670.63,675.88,605.88,639.95000000000005,420610000,639.95000000000005,{"$f":"AVERAGE(OFFSET(H192,0,0,Overview!$C$1))","v":609.67466666666655},{"$f":"AVERAGE(OFFSET(H192,0,0,Overview!$C$2))","v":650.83142857142855},"",""]
[null,"","jun","1996-06-03",669.12,680.32,658.75,670.63,420065000,670.63,{"$f":"AVERAGE(OFFSET(H193,0,0,Overview!$C$1))","v":601.32533333333345},{"$f":"AVERAGE(OFFSET(H193,0,0,Overview!$C$2))","v":647.4},"",""]
[null,"",{"$f":"IF(TEXT(D194,\"MMM\")=TEXT(D195,\"MMM\"),\"\",TEXT(D194,\"MMM\"))","v":"maj"},"1996-05-01",654.16999999999996,681.1,630.07000000000005,669.12,421495000,669.12,{"$f":"AVERAGE(OFFSET(H194,0,0,Overview!$C$1))","v":589.99733333333324},{"$f":"AVERAGE(OFFSET(H194,0,0,Overview!$C$2))","v":638.0771428571428},"",""]
[null,"","apr","1996-04-01",645.5,656.68,624.14,654.16999999999996,441379500,654.16999999999996,{"$f":"AVERAGE(OFFSET(H195,0,0,Overview!$C$1))","v":577.88199999999995},{"$f":"AVERAGE(OFFSET(H195,0,0,Overview!$C$2))","v":625.56000000000006},{"$f":"IF((L196<K196)*(L195>K195),K195,\"\")","v":""},{"$f":"IF((L196>K196)*(L195<K195),K195,\"\")","v":""}]
[null,{"$f":"IF(YEAR(D196)=YEAR(D197),\"\",YEAR(D196))","v":""},"mar","1996-03-01",640.42999999999995,656.97,627.63,645.5,447510000,645.5,{"$f":"AVERAGE(OFFSET(H196,0,0,Overview!$C$1))","v":565.63199999999995},{"$f":"AVERAGE(OFFSET(H196,0,0,Overview!$C$2))","v":615.59428571428566},"",""]
[null,"","feb","1996-02-01",636.02,664.23,633.71,640.42999999999995,460156500,640.42999999999995,{"$f":"AVERAGE(OFFSET(H197,0,0,Overview!$C$1))","v":553.21666666666658},{"$f":"AVERAGE(OFFSET(H197,0,0,Overview!$C$2))","v":603.64857142857124},"",""]
[null,1996,"jan","1996-01-02",615.92999999999995,636.17999999999995,597.29,636.02,439102700,636.02,{"$f":"AVERAGE(OFFSET(H198,0,0,Overview!$C$1))","v":540.76733333333334},{"$f":"AVERAGE(OFFSET(H198,0,0,Overview!$C$2))","v":592.45285714285717},"",""]
[null,"","dec","1995-12-01",605.37,622.88,605.04999999999995,615.92999999999995,400939500,615.92999999999995,{"$f":"AVERAGE(OFFSET(H199,0,0,Overview!$C$1))","v":529.85600000000011},{"$f":"AVERAGE(OFFSET(H199,0,0,Overview!$C$2))","v":579.41428571428571},"",""]
[null,"","nov","1995-11-01",581.5,608.69000000000005,581.04,605.37,382961900,605.37,{"$f":"AVERAGE(OFFSET(H200,0,0,Overview!$C$1))","v":519.64133333333336},{"$f":"AVERAGE(OFFSET(H200,0,0,Overview!$C$2))","v":567.62428571428575},"",""]
[null,"","okt","1995-10-02",584.41,590.66,571.54999999999995,581.5,382759500,581.5,{"$f":"AVERAGE(OFFSET(H201,0,0,Overview!$C$1))","v":510.98266666666666},{"$f":"AVERAGE(OFFSET(H201,0,0,Overview!$C$2))","v":554.6728571428572},"",""]
[null,"","sep","1995-09-01",561.88,587.61,561.01,584.41,369404000,584.41,{"$f":"AVERAGE(OFFSET(H202,0,0,Overview!$C$1))","v":502.76666666666665},{"$f":"AVERAGE(OFFSET(H202,0,0,Overview!$C$2))","v":543.13142857142861},"",""]
[null,"","aug","1995-08-01",562.05999999999995,565.62,553.04,561.88,323806000,561.88,{"$f":"AVERAGE(OFFSET(H203,0,0,Overview!$C$1))","v":493.42400000000004},{"$f":"AVERAGE(OFFSET(H203,0,0,Overview!$C$2))","v":529.2714285714286},"",""]
[null,"","jul","1995-07-03",544.75,565.4,542.51,562.05999999999995,379995500,562.05999999999995,{"$f":"AVERAGE(OFFSET(H204,0,0,Overview!$C$1))","v":486.39866666666666},{"$f":"AVERAGE(OFFSET(H204,0,0,Overview!$C$2))","v":516.20571428571429},"",""]
[null,"","jun","1995-06-01",533.4,551.07000000000005,526,544.75,357604500,544.75,{"$f":"AVERAGE(OFFSET(H205,0,0,Overview!$C$1))","v":478.98866666666669},{"$f":"AVERAGE(OFFSET(H205,0,0,Overview!$C$2))","v":501.5214285714286},"",""]
[null,"","maj","1995-05-01",514.76,533.41,513.03,533.4,359721300,533.4,{"$f":"AVERAGE(OFFSET(H206,0,0,Overview!$C$1))","v":472.39000000000004},{"$f":"AVERAGE(OFFSET(H206,0,0,Overview!$C$2))","v":488.51285714285717},"",""]
[null,"","apr","1995-04-03",500.7,515.29,500.2,514.71,348814200,514.71,{"$f":"AVERAGE(OFFSET(H207,0,0,Overview!$C$1))","v":467.97266666666673},{"$f":"AVERAGE(OFFSET(H207,0,0,Overview!$C$2))","v":479.79142857142858},"",""]
[null,"","mar","1995-03-01",487.39,508.15,479.7,500.71,354150400,500.71,{"$f":"AVERAGE(OFFSET(H208,0,0,Overview!$C$1))","v":465.76599999999996},{"$f":"AVERAGE(OFFSET(H208,0,0,Overview!$C$2))","v":472.36285714285714},"",""]
[null,"","feb","1995-02-01",470.42,489.19,469.29,487.39,349858900,487.39,{"$f":"AVERAGE(OFFSET(H209,0,0,Overview!$C$1))","v":463.48200000000003},{"$f":"AVERAGE(OFFSET(H209,0,0,Overview!$C$2))","v":468.75999999999993},"",""]
[null,1995,"jan","1995-01-03",459.21,471.36,457.2,470.42,345888000,470.42,{"$f":"AVERAGE(OFFSET(H210,0,0,Overview!$C$1))","v":461.77533333333338},{"$f":"AVERAGE(OFFSET(H210,0,0,Overview!$C$2))","v":464.59857142857152},461.77533333333338,""]
[null,"","dec","1994-12-01",453.55,462.73,442.88,459.27,314656600,459.27,{"$f":"AVERAGE(OFFSET(H211,0,0,Overview!$C$1))","v":461.60266666666672},{"$f":"AVERAGE(OFFSET(H211,0,0,Overview!$C$2))","v":460.86285714285719},"",""]
[null,"","nov","1994-11-01",472.26,472.26,444.18,453.69,311899500,453.69,{"$f":"AVERAGE(OFFSET(H212,0,0,Overview!$C$1))","v":461.58},{"$f":"AVERAGE(OFFSET(H212,0,0,Overview!$C$2))","v":460.46714285714285},"",""]
[null,"","okt","1994-10-03",462.69,474.74,449.27,472.35,316548500,472.35,{"$f":"AVERAGE(OFFSET(H213,0,0,Overview!$C$1))","v":462.238},{"$f":"AVERAGE(OFFSET(H213,0,0,Overview!$C$2))","v":460.07},"",""]
[null,"","sep","1994-09-01",475.49,475.49,458.47,462.71,306893800,462.71,{"$f":"AVERAGE(OFFSET(H214,0,0,Overview!$C$1))","v":460.62333333333333},{"$f":"AVERAGE(OFFSET(H214,0,0,Overview!$C$2))","v":456.27285714285711},"",""]
[null,"","aug","1994-08-01",458.28,477.59,456.08,475.49,293626000,475.49,{"$f":"AVERAGE(OFFSET(H215,0,0,Overview!$C$1))","v":459.81133333333332},{"$f":"AVERAGE(OFFSET(H215,0,0,Overview!$C$2))","v":456.90571428571423},"",""]
[null,"","jul","1994-07-01",444.27,459.33,443.58,458.26,262483000,458.26,{"$f":"AVERAGE(OFFSET(H216,0,0,Overview!$C$1))","v":458.12466666666666},{"$f":"AVERAGE(OFFSET(H216,0,0,Overview!$C$2))","v":457.78000000000003},"",458.12466666666666]
[null,"","jun","1994-06-01",456.5,463.23,439.83,444.27,279367200,444.27,{"$f":"AVERAGE(OFFSET(H217,0,0,Overview!$C$1))","v":456.92},{"$f":"AVERAGE(OFFSET(H217,0,0,Overview!$C$2))","v":458.95},"",""]
[null,"","maj","1994-05-02",450.91,457.77,440.78,456.5,280603300,456.5,{"$f":"AVERAGE(OFFSET(H218,0,0,Overview!$C$1))","v":457.4133333333333},{"$f":"AVERAGE(OFFSET(H218,0,0,Overview!$C$2))","v":461.45285714285717},"",""]
[null,"","apr","1994-04-04",445.66,452.79,435.86,450.91,317314700,450.91,{"$f":"AVERAGE(OFFSET(H219,0,0,Overview!$C$1))","v":456.53866666666659},{"$f":"AVERAGE(OFFSET(H219,0,0,Overview!$C$2))","v":463.07142857142856},"",""]
[null,"","mar","1994-03-01",467.19,471.09,436.16,445.77,331677800,445.77,{"$f":"AVERAGE(OFFSET(H220,0,0,Overview!$C$1))","v":455.7299999999999},{"$f":"AVERAGE(OFFSET(H220,0,0,Overview!$C$2))","v":464.21714285714285},"",""]
[null,"","feb","1994-02-01",481.6,482.23,464.26,467.14,322199400,467.14,{"$f":"AVERAGE(OFFSET(H221,0,0,Overview!$C$1))","v":455.05933333333331},{"$f":"AVERAGE(OFFSET(H221,0,0,Overview!$C$2))","v":466.75857142857143},"",""]
[null,1994,"jan","1994-01-03",466.51,482.85,464.36,481.61,330964700,481.61,{"$f":"AVERAGE(OFFSET(H222,0,0,Overview!$C$1))","v":452.67333333333329},{"$f":"AVERAGE(OFFSET(H222,0,0,Overview!$C$2))","v":464.04285714285709},"",""]
[null,"","dec","1993-12-01",461.93,471.29,461.45,466.45,270900000,466.45,{"$f":"AVERAGE(OFFSET(H223,0,0,Overview!$C$1))","v":448.47800000000007},{"$f":"AVERAGE(OFFSET(H223,0,0,Overview!$C$2))","v":459.6028571428572},"",""]
[null,"","nov","1993-11-01",467.83,469.11,454.36,461.79,293489000,461.79,{"$f":"AVERAGE(OFFSET(H224,0,0,Overview!$C$1))","v":445.23466666666667},{"$f":"AVERAGE(OFFSET(H224,0,0,Overview!$C$2))","v":457.27999999999992},"",""]
[null,"","okt","1993-10-01",458.93,471.1,456.4,467.83,295763300,467.83,{"$f":"AVERAGE(OFFSET(H225,0,0,Overview!$C$1))","v":442.0506666666667},{"$f":"AVERAGE(OFFSET(H225,0,0,Overview!$C$2))","v":454.19428571428568},"",""]
[null,"","sep","1993-09-01",463.55,463.8,449.64,458.93,277795200,458.93,{"$f":"AVERAGE(OFFSET(H226,0,0,Overview!$C$1))","v":439.14266666666668},{"$f":"AVERAGE(OFFSET(H226,0,0,Overview!$C$2))","v":451.88571428571424},"",""]
[null,"","aug","1993-08-02",448.13,463.56,446.94,463.56,261774000,463.56,{"$f":"AVERAGE(OFFSET(H227,0,0,Overview!$C$1))","v":435.75666666666677},{"$f":"AVERAGE(OFFSET(H227,0,0,Overview!$C$2))","v":449.66428571428571},"",""]
[null,"","jul","1993-07-01",450.54,451.15,441.4,448.13,264902300,448.13,{"$f":"AVERAGE(OFFSET(H228,0,0,Overview!$C$1))","v":432.54266666666666},{"$f":"AVERAGE(OFFSET(H228,0,0,Overview!$C$2))","v":446.12428571428569},"",""]
[null,"","jun","1993-06-01",450.23,455.63,442.5,450.53,264796300,450.53,{"$f":"AVERAGE(OFFSET(H229,0,0,Overview!$C$1))","v":430.33066666666667},{"$f":"AVERAGE(OFFSET(H229,0,0,Overview!$C$2))","v":444.34999999999997},"",""]
[null,"","maj","1993-05-03",440.19,454.55,436.86,450.19,265823000,450.19,{"$f":"AVERAGE(OFFSET(H230,0,0,Overview!$C$1))","v":427.20799999999997},{"$f":"AVERAGE(OFFSET(H230,0,0,Overview!$C$2))","v":441.61},"",""]
[null,"","apr","1993-04-01",451.67,452.63,432.3,440.19,290506100,440.19,{"$f":"AVERAGE(OFFSET(H231,0,0,Overview!$C$1))","v":424.70866666666666},{"$f":"AVERAGE(OFFSET(H231,0,0,Overview!$C$2))","v":437.10857142857139},"",""]
[null,"","mar","1993-03-01",443.38,456.76,441.07,451.67,262875600,451.67,{"$f":"AVERAGE(OFFSET(H232,0,0,Overview!$C$1))","v":422.61466666666661},{"$f":"AVERAGE(OFFSET(H232,0,0,Overview!$C$2))","v":433.90999999999997},"",""]
[null,"","feb","1993-02-01",438.78,450.04,428.25,443.38,298768900,443.38,{"$f":"AVERAGE(OFFSET(H233,0,0,Overview!$C$1))","v":420.30933333333326},{"$f":"AVERAGE(OFFSET(H233,0,0,Overview!$C$2))","v":428.5328571428571},"",""]
[null,1993,"jan","1993-01-04",435.7,442.66,426.88,438.78,276402500,438.78,{"$f":"AVERAGE(OFFSET(H234,0,0,Overview!$C$1))","v":415.76533333333333},{"$f":"AVERAGE(OFFSET(H234,0,0,Overview!$C$2))","v":425.79428571428576},"",""]
[null,"","dec","1992-12-01",431.35,442.65,428.61,435.71,229184500,435.71,{"$f":"AVERAGE(OFFSET(H235,0,0,Overview!$C$1))","v":412.67666666666656},{"$f":"AVERAGE(OFFSET(H235,0,0,Overview!$C$2))","v":421.41714285714278},"",""]
[null,"","nov","1992-11-02",418.66,431.93,415.58,431.35,218946000,431.35,{"$f":"AVERAGE(OFFSET(H236,0,0,Overview!$C$1))","v":409.48666666666662},{"$f":"AVERAGE(OFFSET(H236,0,0,Overview!$C$2))","v":418.50857142857137},"",""]
[null,"","okt","1992-10-01",417.8,421.16,396.8,418.68,214042700,418.68,{"$f":"AVERAGE(OFFSET(H237,0,0,Overview!$C$1))","v":407.09199999999998},{"$f":"AVERAGE(OFFSET(H237,0,0,Overview!$C$2))","v":416.16571428571427},"",""]
[null,"","sep","1992-09-01",414.03,425.27,412.71,417.8,200396100,417.8,{"$f":"AVERAGE(OFFSET(H238,0,0,Overview!$C$1))","v":405.03399999999999},{"$f":"AVERAGE(OFFSET(H238,0,0,Overview!$C$2))","v":414.02428571428567},"",""]
[null,"","aug","1992-08-03",424.19,425.14,408.3,414.03,181680900,414.03,{"$f":"AVERAGE(OFFSET(H239,0,0,Overview!$C$1))","v":401.92466666666667},{"$f":"AVERAGE(OFFSET(H239,0,0,Overview!$C$2))","v":413.29571428571427},"",""]
[null,"","jul","1992-07-01",408.2,424.8,407.2,424.21,201733600,424.21,{"$f":"AVERAGE(OFFSET(H240,0,0,Overview!$C$1))","v":400.31133333333332},{"$f":"AVERAGE(OFFSET(H240,0,0,Overview!$C$2))","v":412.54571428571427},"",""]
[null,"","jun","1992-06-01",415.35,417.3,399.92,408.14,202516300,408.14,{"$f":"AVERAGE(OFFSET(H241,0,0,Overview!$C$1))","v":397.05333333333334},{"$f":"AVERAGE(OFFSET(H241,0,0,Overview!$C$2))","v":411.52857142857141},"",""]
[null,"","maj","1992-05-01",414.95,418.75,409.85,415.35,192399500,415.35,{"$f":"AVERAGE(OFFSET(H242,0,0,Overview!$C$1))","v":394.85866666666675},{"$f":"AVERAGE(OFFSET(H242,0,0,Overview!$C$2))","v":406.82571428571435},"",""]
[null,"","apr","1992-04-01",403.67,416.28,392.41,414.95,216163300,414.95,{"$f":"AVERAGE(OFFSET(H243,0,0,Overview!$C$1))","v":391.64000000000004},{"$f":"AVERAGE(OFFSET(H243,0,0,Overview!$C$2))","v":403.55428571428575},"",""]
[null,"","mar","1992-03-02",412.68,413.78,401.94,403.69,193118100,403.69,{"$f":"AVERAGE(OFFSET(H244,0,0,Overview!$C$1))","v":386.90533333333332},{"$f":"AVERAGE(OFFSET(H244,0,0,Overview!$C$2))","v":399.68428571428569},"",""]
[null,"","feb","1992-02-03",408.79,418.08,406.34,412.7,235259400,412.7,{"$f":"AVERAGE(OFFSET(H245,0,0,Overview!$C$1))","v":382.00733333333329},{"$f":"AVERAGE(OFFSET(H245,0,0,Overview!$C$2))","v":398.50428571428569},"",""]
[null,1992,"jan","1992-01-02",417.03,421.18,408.64,408.78,249268100,408.78,{"$f":"AVERAGE(OFFSET(H246,0,0,Overview!$C$1))","v":375.97533333333337},{"$f":"AVERAGE(OFFSET(H246,0,0,Overview!$C$2))","v":394.94857142857143},"",""]
[null,"","dec","1991-12-02",375.11,418.32,371.36,417.09,209637600,417.09,{"$f":"AVERAGE(OFFSET(H247,0,0,Overview!$C$1))","v":368.99},{"$f":"AVERAGE(OFFSET(H247,0,0,Overview!$C$2))","v":389.57428571428574},"",""]
[null,"","nov","1991-11-01",392.46,398.22,371.63,375.22,190722500,375.22,{"$f":"AVERAGE(OFFSET(H248,0,0,Overview!$C$1))","v":361.58733333333345},{"$f":"AVERAGE(OFFSET(H248,0,0,Overview!$C$2))","v":385.68},{"$error":"#N/A"},{"$error":"#N/A"}]
[null,"","okt","1991-10-01",387.86,393.81,376.11,392.45,185306900,392.45,{"$f":"AVERAGE(OFFSET(H249,0,0,Overview!$C$1))","v":{"$error":"#N/A"}},{"$f":"AVERAGE(OFFSET(H249,0,0,Overview!$C$2))","v":385.69714285714286},{"$error":"#N/A"},{"$error":"#N/A"}]
[null,"","sep","1991-09-03",395.43,397.62,382.77,387.86,170388500,387.86,{"$f":"AVERAGE(OFFSET(H250,0,0,Overview!$C$1))","v":{"$error":"#N/A"}},{"$f":"AVERAGE(OFFSET(H250,0,0,Overview!$C$2))","v":383.23571428571421},{"$error":"#N/A"},{"$error":"#N/A"}]
[null,"","aug","1991-08-01",387.81,396.82,374.09,395.43,175330000,395.43,{"$f":"AVERAGE(OFFSET(H251,0,0,Overview!$C$1))","v":{"$error":"#N/A"}},{"$f":"AVERAGE(OFFSET(H251,0,0,Overview!$C$2))","v":380.2657142857143},{"$error":"#N/A"},{"$error":"#N/A"}]
[null,"","jul","1991-07-01",371.18,387.81,370.92,387.81,165836300,387.81,{"$f":"AVERAGE(OFFSET(H252,0,0,Overview!$C$1))","v":{"$error":"#N/A"}},{"$f":"AVERAGE(OFFSET(H252,0,0,Overview!$C$2))","v":372.90857142857141},{"$error":"#N/A"},{"$error":"#N/A"}]
[null,"","jun","1991-06-03",389.81,389.81,367.98,371.16,171125000,371.16,{"$f":"AVERAGE(OFFSET(H253,0,0,Overview!$C$1))","v":{"$error":"#N/A"}},{"$f":"AVERAGE(OFFSET(H253,0,0,Overview!$C$2))","v":364.68142857142851},{"$error":"#N/A"},{"$error":"#N/A"}]
[null,"","maj","1991-05-01",375.35,389.85,365.83,389.83,180533600,389.83,{"$f":"AVERAGE(OFFSET(H254,0,0,Overview!$C$1))","v":{"$error":"#N/A"}},{"$f":"AVERAGE(OFFSET(H254,0,0,Overview!$C$2))","v":357.69},{"$error":"#N/A"},{"$error":"#N/A"}]
[null,"","apr","1991-04-01",375.22,391.26,370.27,375.34,191974000,375.34,{"$f":"AVERAGE(OFFSET(H255,0,0,Overview!$C$1))","v":{"$error":"#N/A"}},{"$f":"AVERAGE(OFFSET(H255,0,0,Overview!$C$2))","v":345.42857142857144},{"$error":"#N/A"},{"$error":"#N/A"}]
[null,"","mar","1991-03-01",367.07,379.66,363.73,375.22,203933500,375.22,{"$f":"AVERAGE(OFFSET(H256,0,0,Overview!$C$1))","v":{"$error":"#N/A"}},{"$f":"AVERAGE(OFFSET(H256,0,0,Overview!$C$2))","v":335.53000000000003},{"$error":"#N/A"},{"$error":"#N/A"}]
[null,"","feb","1991-02-01",343.91,370.96,340.37,367.07,238220000,367.07,{"$f":"AVERAGE(OFFSET(H257,0,0,Overview!$C$1))","v":{"$error":"#N/A"}},{"$f":"AVERAGE(OFFSET(H257,0,0,Overview!$C$2))","v":{"$error":"#N/A"}},{"$error":"#N/A"},{"$error":"#N/A"}]
[null,1991,{"$f":"IF(TEXT(D258,\"MMM\")=TEXT(D259,\"MMM\"),\"\",TEXT(D258,\"MMM\"))","v":"jan"},"1991-01-02",330.2,343.93,309.35000000000002,343.93,175670900,343.93,{"$f":"AVERAGE(OFFSET(H258,0,0,Overview!$C$1))","v":{"$error":"#N/A"}},{"$f":"AVERAGE(OFFSET(H258,0,0,Overview!$C$2))","v":{"$error":"#N/A"}},{"$error":"#N/A"},{"$error":"#N/A"}]
[null,"","dec","1990-12-03",322.23,333.98,321.97000000000003,330.22,161548000,330.22,{"$f":"AVERAGE(OFFSET(H259,0,0,Overview!$C$1))","v":{"$error":"#N/A"}},{"$f":"AVERAGE(OFFSET(H259,0,0,Overview!$C$2))","v":{"$error":"#N/A"}},{"$f":"IF((L260<K260)*(L259>K259),K259,\"\")","v":{"$error":"#N/A"}},{"$f":"IF((L260>K260)*(L259<K259),K259,\"\")","v":{"$error":"#N/A"}}]
[null,{"$f":"IF(YEAR(D260)=YEAR(D261),\"\",YEAR(D260))","v":""},"nov","1990-11-01",303.99,323.02,301.61,322.22000000000003,159148500,322.22000000000003,{"$f":"AVERAGE(OFFSET(H260,0,0,Overview!$C$1))","v":{"$error":"#N/A"}},{"$f":"AVERAGE(OFFSET(H260,0,0,Overview!$C$2))","v":{"$error":"#N/A"}},{"$error":"#N/A"},{"$error":"#N/A"}]
[null,"","okt","1990-10-01",306.10000000000002,319.69,294.51,304,166433000,304,{"$f":"AVERAGE(OFFSET(H261,0,0,Overview!$C$1))","v":{"$error":"#N/A"}},{"$f":"AVERAGE(OFFSET(H261,0,0,Overview!$C$2))","v":{"$error":"#N/A"}},{"$error":"#N/A"},{"$error":"#N/A"}]
[null,{"$error":"#N/A"},{"$error":"#N/A"},"1990-09-04",322.56,326.52999999999997,295.98,306.05,152015200,306.05,{"$f":"AVERAGE(OFFSET(H262,0,0,Overview!$C$1))","v":{"$error":"#N/A"}},{"$f":"AVERAGE(OFFSET(H262,0,0,Overview!$C$2))","v":{"$error":"#N/A"}},{"$error":"#N/A"},{"$error":"#N/A"}]
[null,{"$error":"#N/A"},{"$error":"#N/A"},{"$error":"#N/A"},{"$error":"#N/A"},{"$error":"#N/A"},{"$error":"#N/A"},{"$error":"#N/A"},{"$error":"#N/A"},{"$error":"#N/A"},{"$f":"AVERAGE(OFFSET(H263,0,0,Overview!$C$1))","v":{"$error":"#N/A"}},{"$f":"AVERAGE(OFFSET(H263,0,0,Overview!$C$2))","v":{"$error":"#N/A"}},{"$error":"#N/A"},{"$error":"#N/A"}]
[null,{"$error":"#N/A"},{"$error":"#N/A"},{"$error":"#N/A"},{"$error":"#N/A"},{"$error":"#N/A"},{"$error":"#N/A"},{"$error":"#N/A"},{"$error":"#N/A"},{"$error":"#N/A"},{"$f":"AVERAGE(OFFSET(H264,0,0,Overview!$C$1))","v":{"$error":"#N/A"}},{"$f":"AVERAGE(OFFSET(H264,0,0,Overview!$C$2))","v":{"$error":"#N/A"}},{"$error":"#N/A"},{"$error":"#N/A"}]
[null,{"$error":"#N/A"},{"$error":"#N/A"},{"$error":"#N/A"},{"$error":"#N/A"},{"$error":"#N/A"},{"$error":"#N/A"},{"$error":"#N/A"},{"$error":"#N/A"},{"$error":"#N/A"},{"$f":"AVERAGE(OFFSET(H265,0,0,Overview!$C$1))","v":{"$error":"#N/A"}},{"$f":"AVERAGE(OFFSET(H265,0,0,Overview!$C$2))","v":{"$error":"#N/A"}},{"$error":"#N/A"},{"$error":"#N/A"}]
[null,{"$error":"#N/A"},{"$error":"#N/A"},{"$error":"#N/A"},{"$error":"#N/A"},{"$error":"#N/A"},{"$error":"#N/A"},{"$error":"#N/A"},{"$error":"#N/A"},{"$error":"#N/A"},{"$f":"AVERAGE(OFFSET(H266,0,0,Overview!$C$1))","v":{"$error":"#N/A"}},{"$f":"AVERAGE(OFFSET(H266,0,0,Overview!$C$2))","v":{"$error":"#N/A"}},{"$error":"#N/A"},{"$error":"#N/A"}]
[null,{"$error":"#N/A"},{"$error":"#N/A"},{"$error":"#N/A"},{"$error":"#N/A"},{"$error":"#N/A"},{"$error":"#N/A"},{"$error":"#N/A"},{"$error":"#N/A"},{"$error":"#N/A"},{"$f":"AVERAGE(OFFSET(H267,0,0,Overview!$C$1))","v":{"$error":"#N/A"}},{"$f":"AVERAGE(OFFSET(H267,0,0,Overview!$C$2))","v":{"$error":"#N/A"}},{"$error":"#N/A"},{"$error":"#N/A"}]
[null,{"$error":"#N/A"},{"$error":"#N/A"},{"$error":"#N/A"},{"$error":"#N/A"},{"$error":"#N/A"},{"$error":"#N/A"},{"$error":"#N/A"},{"$error":"#N/A"},{"$error":"#N/A"},{"$f":"AVERAGE(OFFSET(H268,0,0,Overview!$C$1))","v":{"$error":"#N/A"}},{"$f":"AVERAGE(OFFSET(H268,0,0,Overview!$C$2))","v":{"$error":"#N/A"}},{"$error":"#N/A"},{"$error":"#N/A"}]
[null,{"$error":"#N/A"},{"$error":"#N/A"},{"$error":"#N/A"},{"$error":"#N/A"},{"$error":"#N/A"},{"$error":"#N/A"},{"$error":"#N/A"},{"$error":"#N/A"},{"$error":"#N/A"},{"$f":"AVERAGE(OFFSET(H269,0,0,Overview!$C$1))","v":{"$error":"#N/A"}},{"$f":"AVERAGE(OFFSET(H269,0,0,Overview!$C$2))","v":{"$error":"#N/A"}},{"$error":"#N/A"},{"$error":"#N/A"}]
[null,{"$error":"#N/A"},{"$error":"#N/A"},{"$error":"#N/A"},{"$error":"#N/A"},{"$error":"#N/A"},{"$error":"#N/A"},{"$error":"#N/A"},{"$error":"#N/A"},{"$error":"#N/A"},{"$f":"AVERAGE(OFFSET(H270,0,0,Overview!$C$1))","v":{"$error":"#N/A"}},{"$f":"AVERAGE(OFFSET(H270,0,0,Overview!$C$2))","v":{"$error":"#N/A"}},{"$error":"#N/A"},{"$error":"#N/A"}]
[null,{"$error":"#N/A"},{"$error":"#N/A"},{"$error":"#N/A"},{"$error":"#N/A"},{"$error":"#N/A"},{"$error":"#N/A"},{"$error":"#N/A"},{"$error":"#N/A"},{"$error":"#N/A"},{"$f":"AVERAGE(OFFSET(H271,0,0,Overview!$C$1))","v":{"$error":"#N/A"}},{"$f":"AVERAGE(OFFSET(H271,0,0,Overview!$C$2))","v":{"$error":"#N/A"}},{"$error":"#N/A"},{"$error":"#N/A"}]
[null,{"$error":"#N/A"},{"$error":"#N/A"},{"$error":"#N/A"},{"$error":"#N/A"},{"$error":"#N/A"},{"$error":"#N/A"},{"$error":"#N/A"},{"$error":"#N/A"},{"$error":"#N/A"},{"$f":"AVERAGE(OFFSET(H272,0,0,Overview!$C$1))","v":{"$error":"#N/A"}},{"$f":"AVERAGE(OFFSET(H272,0,0,Overview!$C$2))","v":{"$error":"#N/A"}},{"$error":"#N/A"},{"$error":"#N/A"}]
[null,{"$error":"#N/A"},{"$error":"#N/A"},{"$error":"#N/A"},{"$error":"#N/A"},{"$error":"#N/A"},{"$error":"#N/A"},{"$error":"#N/A"},{"$error":"#N/A"},{"$error":"#N/A"},{"$f":"AVERAGE(OFFSET(H273,0,0,Overview!$C$1))","v":{"$error":"#N/A"}},{"$f":"AVERAGE(OFFSET(H273,0,0,Overview!$C$2))","v":{"$error":"#N/A"}},{"$error":"#N/A"},{"$error":"#N/A"}]
[null,{"$error":"#N/A"},{"$error":"#N/A"},{"$error":"#N/A"},{"$error":"#N/A"},{"$error":"#N/A"},{"$error":"#N/A"},{"$error":"#N/A"},{"$error":"#N/A"},{"$error":"#N/A"},{"$f":"AVERAGE(OFFSET(H274,0,0,Overview!$C$1))","v":{"$error":"#N/A"}},{"$f":"AVERAGE(OFFSET(H274,0,0,Overview!$C$2))","v":{"$error":"#N/A"}},{"$error":"#N/A"},{"$error":"#N/A"}]
[null,{"$error":"#N/A"},{"$error":"#N/A"},{"$error":"#N/A"},{"$error":"#N/A"},{"$error":"#N/A"},{"$error":"#N/A"},{"$error":"#N/A"},{"$error":"#N/A"},{"$error":"#N/A"},{"$f":"AVERAGE(OFFSET(H275,0,0,Overview!$C$1))","v":{"$error":"#N/A"}},{"$f":"AVERAGE(OFFSET(H275,0,0,Overview!$C$2))","v":{"$error":"#N/A"}},{"$error":"#N/A"},{"$error":"#N/A"}]
[null,{"$error":"#N/A"},{"$error":"#N/A"},{"$error":"#N/A"},{"$error":"#N/A"},{"$error":"#N/A"},{"$error":"#N/A"},{"$error":"#N/A"},{"$error":"#N/A"},{"$error":"#N/A"},{"$f":"AVERAGE(OFFSET(H276,0,0,Overview!$C$1))","v":{"$error":"#N/A"}},{"$f":"AVERAGE(OFFSET(H276,0,0,Overview!$C$2))","v":{"$error":"#N/A"}},{"$error":"#N/A"},{"$error":"#N/A"}]
[null,{"$error":"#N/A"},{"$error":"#N/A"},{"$error":"#N/A"},{"$error":"#N/A"},{"$error":"#N/A"},{"$error":"#N/A"},{"$error":"#N/A"},{"$error":"#N/A"},{"$error":"#N/A"},{"$f":"AVERAGE(OFFSET(H277,0,0,Overview!$C$1))","v":{"$error":"#N/A"}},{"$f":"AVERAGE(OFFSET(H277,0,0,Overview!$C$2))","v":{"$error":"#N/A"}},{"$error":"#N/A"},{"$error":"#N/A"}]
[null,{"$error":"#N/A"},{"$error":"#N/A"},{"$error":"#N/A"},{"$error":"#N/A"},{"$error":"#N/A"},{"$error":"#N/A"},{"$error":"#N/A"},{"$error":"#N/A"},{"$error":"#N/A"},{"$f":"AVERAGE(OFFSET(H278,0,0,Overview!$C$1))","v":{"$error":"#N/A"}},{"$f":"AVERAGE(OFFSET(H278,0,0,Overview!$C$2))","v":{"$error":"#N/A"}},{"$error":"#N/A"},{"$error":"#N/A"}]
[null,{"$error":"#N/A"},{"$error":"#N/A"},{"$error":"#N/A"},{"$error":"#N/A"},{"$error":"#N/A"},{"$error":"#N/A"},{"$error":"#N/A"},{"$error":"#N/A"},{"$error":"#N/A"},{"$f":"AVERAGE(OFFSET(H279,0,0,Overview!$C$1))","v":{"$error":"#N/A"}},{"$f":"AVERAGE(OFFSET(H279,0,0,Overview!$C$2))","v":{"$error":"#N/A"}},{"$error":"#N/A"},{"$error":"#N/A"}]
[null,{"$error":"#N/A"},{"$error":"#N/A"},{"$error":"#N/A"},{"$error":"#N/A"},{"$error":"#N/A"},{"$error":"#N/A"},{"$error":"#N/A"},{"$error":"#N/A"},{"$error":"#N/A"},{"$f":"AVERAGE(OFFSET(H280,0,0,Overview!$C$1))","v":{"$error":"#N/A"}},{"$f":"AVERAGE(OFFSET(H280,0,0,Overview!$C$2))","v":{"$error":"#N/A"}},{"$error":"#N/A"},{"$error":"#N/A"}]
[null,{"$error":"#N/A"},{"$error":"#N/A"},{"$error":"#N/A"},{"$error":"#N/A"},{"$error":"#N/A"},{"$error":"#N/A"},{"$error":"#N/A"},{"$error":"#N/A"},{"$error":"#N/A"},{"$f":"AVERAGE(OFFSET(H281,0,0,Overview!$C$1))","v":{"$error":"#N/A"}},{"$f":"AVERAGE(OFFSET(H281,0,0,Overview!$C$2))","v":{"$error":"#N/A"}},{"$error":"#N/A"},{"$error":"#N/A"}]
[null,{"$error":"#N/A"},{"$error":"#N/A"},{"$error":"#N/A"},{"$error":"#N/A"},{"$error":"#N/A"},{"$error":"#N/A"},{"$error":"#N/A"},{"$error":"#N/A"},{"$error":"#N/A"},{"$f":"AVERAGE(OFFSET(H282,0,0,Overview!$C$1))","v":{"$error":"#N/A"}},{"$f":"AVERAGE(OFFSET(H282,0,0,Overview!$C$2))","v":{"$error":"#N/A"}},{"$error":"#N/A"},{"$error":"#N/A"}]
[null,{"$error":"#N/A"},{"$error":"#N/A"},{"$error":"#N/A"},{"$error":"#N/A"},{"$error":"#N/A"},{"$error":"#N/A"},{"$error":"#N/A"},{"$error":"#N/A"},{"$error":"#N/A"},{"$f":"AVERAGE(OFFSET(H283,0,0,Overview!$C$1))","v":{"$error":"#N/A"}},{"$f":"AVERAGE(OFFSET(H283,0,0,Overview!$C$2))","v":{"$error":"#N/A"}},{"$error":"#N/A"},{"$error":"#N/A"}]
[null,{"$error":"#N/A"},{"$error":"#N/A"},{"$error":"#N/A"},{"$error":"#N/A"},{"$error":"#N/A"},{"$error":"#N/A"},{"$error":"#N/A"},{"$error":"#N/A"},{"$error":"#N/A"},{"$f":"AVERAGE(OFFSET(H284,0,0,Overview!$C$1))","v":{"$error":"#N/A"}},{"$f":"AVERAGE(OFFSET(H284,0,0,Overview!$C$2))","v":{"$error":"#N/A"}},{"$error":"#N/A"},{"$error":"#N/A"}]
[null,{"$error":"#N/A"},{"$error":"#N/A"},{"$error":"#N/A"},{"$error":"#N/A"},{"$error":"#N/A"},{"$error":"#N/A"},{"$error":"#N/A"},{"$error":"#N/A"},{"$error":"#N/A"},{"$f":"AVERAGE(OFFSET(H285,0,0,Overview!$C$1))","v":{"$error":"#N/A"}},{"$f":"AVERAGE(OFFSET(H285,0,0,Overview!$C$2))","v":{"$error":"#N/A"}},{"$error":"#N/A"},{"$error":"#N/A"}]
[null,{"$error":"#N/A"},{"$error":"#N/A"},{"$error":"#N/A"},{"$error":"#N/A"},{"$error":"#N/A"},{"$error":"#N/A"},{"$error":"#N/A"},{"$error":"#N/A"},{"$error":"#N/A"},{"$f":"AVERAGE(OFFSET(H286,0,0,Overview!$C$1))","v":{"$error":"#N/A"}},{"$f":"AVERAGE(OFFSET(H286,0,0,Overview!$C$2))","v":{"$error":"#N/A"}},{"$error":"#N/A"},{"$error":"#N/A"}]
[null,{"$error":"#N/A"},{"$error":"#N/A"},{"$error":"#N/A"},{"$error":"#N/A"},{"$error":"#N/A"},{"$error":"#N/A"},{"$error":"#N/A"},{"$error":"#N/A"},{"$error":"#N/A"},{"$f":"AVERAGE(OFFSET(H287,0,0,Overview!$C$1))","v":{"$error":"#N/A"}},{"$f":"AVERAGE(OFFSET(H287,0,0,Overview!$C$2))","v":{"$error":"#N/A"}},{"$error":"#N/A"},{"$error":"#N/A"}]
[null,{"$error":"#N/A"},{"$error":"#N/A"},{"$error":"#N/A"},{"$error":"#N/A"},{"$error":"#N/A"},{"$error":"#N/A"},{"$error":"#N/A"},{"$error":"#N/A"},{"$error":"#N/A"},{"$f":"AVERAGE(OFFSET(H288,0,0,Overview!$C$1))","v":{"$error":"#N/A"}},{"$f":"AVERAGE(OFFSET(H288,0,0,Overview!$C$2))","v":{"$error":"#N/A"}},{"$error":"#N/A"},{"$error":"#N/A"}]
[null,{"$error":"#N/A"},{"$error":"#N/A"},{"$error":"#N/A"},{"$error":"#N/A"},{"$error":"#N/A"},{"$error":"#N/A"},{"$error":"#N/A"},{"$error":"#N/A"},{"$error":"#N/A"},{"$f":"AVERAGE(OFFSET(H289,0,0,Overview!$C$1))","v":{"$error":"#N/A"}},{"$f":"AVERAGE(OFFSET(H289,0,0,Overview!$C$2))","v":{"$error":"#N/A"}},{"$error":"#N/A"},{"$error":"#N/A"}]
[null,{"$error":"#N/A"},{"$error":"#N/A"},{"$error":"#N/A"},{"$error":"#N/A"},{"$error":"#N/A"},{"$error":"#N/A"},{"$error":"#N/A"},{"$error":"#N/A"},{"$error":"#N/A"},{"$f":"AVERAGE(OFFSET(H290,0,0,Overview!$C$1))","v":{"$error":"#N/A"}},{"$f":"AVERAGE(OFFSET(H290,0,0,Overview!$C$2))","v":{"$error":"#N/A"}},{"$error":"#N/A"},{"$error":"#N/A"}]
[null,{"$error":"#N/A"},{"$error":"#N/A"},{"$error":"#N/A"},{"$error":"#N/A"},{"$error":"#N/A"},{"$error":"#N/A"},{"$error":"#N/A"},{"$error":"#N/A"},{"$error":"#N/A"},{"$f":"AVERAGE(OFFSET(H291,0,0,Overview!$C$1))","v":{"$error":"#N/A"}},{"$f":"AVERAGE(OFFSET(H291,0,0,Overview!$C$2))","v":{"$error":"#N/A"}},{"$error":"#N/A"},{"$error":"#N/A"}]
[null,{"$error":"#N/A"},{"$error":"#N/A"},{"$error":"#N/A"},{"$error":"#N/A"},{"$error":"#N/A"},{"$error":"#N/A"},{"$error":"#N/A"},{"$error":"#N/A"},{"$error":"#N/A"},{"$f":"AVERAGE(OFFSET(H292,0,0,Overview!$C$1))","v":{"$error":"#N/A"}},{"$f":"AVERAGE(OFFSET(H292,0,0,Overview!$C$2))","v":{"$error":"#N/A"}},{"$error":"#N/A"},{"$error":"#N/A"}]
[null,{"$error":"#N/A"},{"$error":"#N/A"},{"$error":"#N/A"},{"$error":"#N/A"},{"$error":"#N/A"},{"$error":"#N/A"},{"$error":"#N/A"},{"$error":"#N/A"},{"$error":"#N/A"},{"$f":"AVERAGE(OFFSET(H293,0,0,Overview!$C$1))","v":{"$error":"#N/A"}},{"$f":"AVERAGE(OFFSET(H293,0,0,Overview!$C$2))","v":{"$error":"#N/A"}},{"$error":"#N/A"},{"$error":"#N/A"}]
[null,{"$error":"#N/A"},{"$error":"#N/A"},{"$error":"#N/A"},{"$error":"#N/A"},{"$error":"#N/A"},{"$error":"#N/A"},{"$error":"#N/A"},{"$error":"#N/A"},{"$error":"#N/A"},{"$f":"AVERAGE(OFFSET(H294,0,0,Overview!$C$1))","v":{"$error":"#N/A"}},{"$f":"AVERAGE(OFFSET(H294,0,0,Overview!$C$2))","v":{"$error":"#N/A"}},{"$error":"#N/A"},{"$error":"#N/A"}]
[null,{"$error":"#N/A"},{"$error":"#N/A"},{"$error":"#N/A"},{"$error":"#N/A"},{"$error":"#N/A"},{"$error":"#N/A"},{"$error":"#N/A"},{"$error":"#N/A"},{"$error":"#N/A"},{"$f":"AVERAGE(OFFSET(H295,0,0,Overview!$C$1))","v":{"$error":"#N/A"}},{"$f":"AVERAGE(OFFSET(H295,0,0,Overview!$C$2))","v":{"$error":"#N/A"}},{"$error":"#N/A"},{"$error":"#N/A"}]
[null,{"$error":"#N/A"},{"$error":"#N/A"},{"$error":"#N/A"},{"$error":"#N/A"},{"$error":"#N/A"},{"$error":"#N/A"},{"$error":"#N/A"},{"$error":"#N/A"},{"$error":"#N/A"},{"$f":"AVERAGE(OFFSET(H296,0,0,Overview!$C$1))","v":{"$error":"#N/A"}},{"$f":"AVERAGE(OFFSET(H296,0,0,Overview!$C$2))","v":{"$error":"#N/A"}},{"$error":"#N/A"},{"$error":"#N/A"}]
[null,{"$error":"#N/A"},{"$error":"#N/A"},{"$error":"#N/A"},{"$error":"#N/A"},{"$error":"#N/A"},{"$error":"#N/A"},{"$error":"#N/A"},{"$error":"#N/A"},{"$error":"#N/A"},{"$f":"AVERAGE(OFFSET(H297,0,0,Overview!$C$1))","v":{"$error":"#N/A"}},{"$f":"AVERAGE(OFFSET(H297,0,0,Overview!$C$2))","v":{"$error":"#N/A"}},{"$error":"#N/A"},{"$error":"#N/A"}]
[null,{"$error":"#N/A"},{"$error":"#N/A"},{"$error":"#N/A"},{"$error":"#N/A"},{"$error":"#N/A"},{"$error":"#N/A"},{"$error":"#N/A"},{"$error":"#N/A"},{"$error":"#N/A"},{"$f":"AVERAGE(OFFSET(H298,0,0,Overview!$C$1))","v":{"$error":"#N/A"}},{"$f":"AVERAGE(OFFSET(H298,0,0,Overview!$C$2))","v":{"$error":"#N/A"}},{"$error":"#N/A"},{"$error":"#N/A"}]
[null,{"$error":"#N/A"},{"$error":"#N/A"},{"$error":"#N/A"},{"$error":"#N/A"},{"$error":"#N/A"},{"$error":"#N/A"},{"$error":"#N/A"},{"$error":"#N/A"},{"$error":"#N/A"},{"$f":"AVERAGE(OFFSET(H299,0,0,Overview!$C$1))","v":{"$error":"#N/A"}},{"$f":"AVERAGE(OFFSET(H299,0,0,Overview!$C$2))","v":{"$error":"#N/A"}},{"$error":"#N/A"},{"$error":"#N/A"}]
[null,{"$error":"#N/A"},{"$error":"#N/A"},{"$error":"#N/A"},{"$error":"#N/A"},{"$error":"#N/A"},{"$error":"#N/A"},{"$error":"#N/A"},{"$error":"#N/A"},{"$error":"#N/A"},{"$f":"AVERAGE(OFFSET(H300,0,0,Overview!$C$1))","v":{"$error":"#N/A"}},{"$f":"AVERAGE(OFFSET(H300,0,0,Overview!$C$2))","v":{"$error":"#N/A"}},{"$error":"#N/A"},{"$error":"#N/A"}]
[null,{"$error":"#N/A"},{"$error":"#N/A"},{"$error":"#N/A"},{"$error":"#N/A"},{"$error":"#N/A"},{"$error":"#N/A"},{"$error":"#N/A"},{"$error":"#N/A"},{"$error":"#N/A"},{"$f":"AVERAGE(OFFSET(H301,0,0,Overview!$C$1))","v":{"$error":"#N/A"}},{"$f":"AVERAGE(OFFSET(H301,0,0,Overview!$C$2))","v":{"$error":"#N/A"}},{"$error":"#N/A"},{"$error":"#N/A"}]
[null,{"$error":"#N/A"},{"$error":"#N/A"},{"$error":"#N/A"},{"$error":"#N/A"},{"$error":"#N/A"},{"$error":"#N/A"},{"$error":"#N/A"},{"$error":"#N/A"},{"$error":"#N/A"},{"$f":"AVERAGE(OFFSET(H302,0,0,Overview!$C$1))","v":{"$error":"#N/A"}},{"$f":"AVERAGE(OFFSET(H302,0,0,Overview!$C$2))","v":{"$error":"#N/A"}},{"$error":"#N/A"},{"$error":"#N/A"}]
[null,{"$error":"#N/A"},{"$error":"#N/A"},{"$error":"#N/A"},{"$error":"#N/A"},{"$error":"#N/A"},{"$error":"#N/A"},{"$error":"#N/A"},{"$error":"#N/A"},{"$error":"#N/A"},{"$f":"AVERAGE(OFFSET(H303,0,0,Overview!$C$1))","v":{"$error":"#N/A"}},{"$f":"AVERAGE(OFFSET(H303,0,0,Overview!$C$2))","v":{"$error":"#N/A"}},{"$error":"#N/A"},{"$error":"#N/A"}]
[null,{"$error":"#N/A"},{"$error":"#N/A"},{"$error":"#N/A"},{"$error":"#N/A"},{"$error":"#N/A"},{"$error":"#N/A"},{"$error":"#N/A"},{"$error":"#N/A"},{"$error":"#N/A"},{"$f":"AVERAGE(OFFSET(H304,0,0,Overview!$C$1))","v":{"$error":"#N/A"}},{"$f":"AVERAGE(OFFSET(H304,0,0,Overview!$C$2))","v":{"$error":"#N/A"}},{"$error":"#N/A"},{"$error":"#N/A"}]
[null,{"$error":"#N/A"},{"$error":"#N/A"},{"$error":"#N/A"},{"$error":"#N/A"},{"$error":"#N/A"},{"$error":"#N/A"},{"$error":"#N/A"},{"$error":"#N/A"},{"$error":"#N/A"},{"$f":"AVERAGE(OFFSET(H305,0,0,Overview!$C$1))","v":{"$error":"#N/A"}},{"$f":"AVERAGE(OFFSET(H305,0,0,Overview!$C$2))","v":{"$error":"#N/A"}},{"$error":"#N/A"},{"$error":"#N/A"}]
[null,{"$error":"#N/A"},{"$error":"#N/A"},{"$error":"#N/A"},{"$error":"#N/A"},{"$error":"#N/A"},{"$error":"#N/A"},{"$error":"#N/A"},{"$error":"#N/A"},{"$error":"#N/A"},{"$f":"AVERAGE(OFFSET(H306,0,0,Overview!$C$1))","v":{"$error":"#N/A"}},{"$f":"AVERAGE(OFFSET(H306,0,0,Overview!$C$2))","v":{"$error":"#N/A"}},{"$error":"#N/A"},{"$error":"#N/A"}]
[null,{"$error":"#N/A"},{"$error":"#N/A"},{"$error":"#N/A"},{"$error":"#N/A"},{"$error":"#N/A"},{"$error":"#N/A"},{"$error":"#N/A"},{"$error":"#N/A"},{"$error":"#N/A"},{"$f":"AVERAGE(OFFSET(H307,0,0,Overview!$C$1))","v":{"$error":"#N/A"}},{"$f":"AVERAGE(OFFSET(H307,0,0,Overview!$C$2))","v":{"$error":"#N/A"}},{"$error":"#N/A"},{"$error":"#N/A"}]
[null,{"$error":"#N/A"},{"$error":"#N/A"},{"$error":"#N/A"},{"$error":"#N/A"},{"$error":"#N/A"},{"$error":"#N/A"},{"$error":"#N/A"},{"$error":"#N/A"},{"$error":"#N/A"},{"$f":"AVERAGE(OFFSET(H308,0,0,Overview!$C$1))","v":{"$error":"#N/A"}},{"$f":"AVERAGE(OFFSET(H308,0,0,Overview!$C$2))","v":{"$error":"#N/A"}},{"$error":"#N/A"},{"$error":"#N/A"}]
[null,{"$error":"#N/A"},{"$error":"#N/A"},{"$error":"#N/A"},{"$error":"#N/A"},{"$error":"#N/A"},{"$error":"#N/A"},{"$error":"#N/A"},{"$error":"#N/A"},{"$error":"#N/A"},{"$f":"AVERAGE(OFFSET(H309,0,0,Overview!$C$1))","v":{"$error":"#N/A"}},{"$f":"AVERAGE(OFFSET(H309,0,0,Overview!$C$2))","v":{"$error":"#N/A"}},{"$error":"#N/A"},{"$error":"#N/A"}]
[null,{"$error":"#N/A"},{"$error":"#N/A"},{"$error":"#N/A"},{"$error":"#N/A"},{"$error":"#N/A"},{"$error":"#N/A"},{"$error":"#N/A"},{"$error":"#N/A"},{"$error":"#N/A"},{"$f":"AVERAGE(OFFSET(H310,0,0,Overview!$C$1))","v":{"$error":"#N/A"}},{"$f":"AVERAGE(OFFSET(H310,0,0,Overview!$C$2))","v":{"$error":"#N/A"}},{"$error":"#N/A"},{"$error":"#N/A"}]
[null,{"$error":"#N/A"},{"$error":"#N/A"},{"$error":"#N/A"},{"$error":"#N/A"},{"$error":"#N/A"},{"$error":"#N/A"},{"$error":"#N/A"},{"$error":"#N/A"},{"$error":"#N/A"},{"$f":"AVERAGE(OFFSET(H311,0,0,Overview!$C$1))","v":{"$error":"#N/A"}},{"$f":"AVERAGE(OFFSET(H311,0,0,Overview!$C$2))","v":{"$error":"#N/A"}},{"$error":"#N/A"},{"$error":"#N/A"}]
[null,{"$error":"#N/A"},{"$error":"#N/A"},{"$error":"#N/A"},{"$error":"#N/A"},{"$error":"#N/A"},{"$error":"#N/A"},{"$error":"#N/A"},{"$error":"#N/A"},{"$error":"#N/A"},{"$f":"AVERAGE(OFFSET(H312,0,0,Overview!$C$1))","v":{"$error":"#N/A"}},{"$f":"AVERAGE(OFFSET(H312,0,0,Overview!$C$2))","v":{"$error":"#N/A"}},{"$error":"#N/A"},{"$error":"#N/A"}]
[null,{"$error":"#N/A"},{"$error":"#N/A"},{"$error":"#N/A"},{"$error":"#N/A"},{"$error":"#N/A"},{"$error":"#N/A"},{"$error":"#N/A"},{"$error":"#N/A"},{"$error":"#N/A"},{"$f":"AVERAGE(OFFSET(H313,0,0,Overview!$C$1))","v":{"$error":"#N/A"}},{"$f":"AVERAGE(OFFSET(H313,0,0,Overview!$C$2))","v":{"$error":"#N/A"}},{"$error":"#N/A"},{"$error":"#N/A"}]
[null,{"$error":"#N/A"},{"$error":"#N/A"},{"$error":"#N/A"},{"$error":"#N/A"},{"$error":"#N/A"},{"$error":"#N/A"},{"$error":"#N/A"},{"$error":"#N/A"},{"$error":"#N/A"},{"$f":"AVERAGE(OFFSET(H314,0,0,Overview!$C$1))","v":{"$error":"#N/A"}},{"$f":"AVERAGE(OFFSET(H314,0,0,Overview!$C$2))","v":{"$error":"#N/A"}},{"$error":"#N/A"},{"$error":"#N/A"}]
[null,{"$error":"#N/A"},{"$error":"#N/A"},{"$error":"#N/A"},{"$error":"#N/A"},{"$error":"#N/A"},{"$error":"#N/A"},{"$error":"#N/A"},{"$error":"#N/A"},{"$error":"#N/A"},{"$f":"AVERAGE(OFFSET(H315,0,0,Overview!$C$1))","v":{"$error":"#N/A"}},{"$f":"AVERAGE(OFFSET(H315,0,0,Overview!$C$2))","v":{"$error":"#N/A"}},{"$error":"#N/A"},{"$error":"#N/A"}]
[null,{"$error":"#N/A"},{"$error":"#N/A"},{"$error":"#N/A"},{"$error":"#N/A"},{"$error":"#N/A"},{"$error":"#N/A"},{"$error":"#N/A"},{"$error":"#N/A"},{"$error":"#N/A"},{"$f":"AVERAGE(OFFSET(H316,0,0,Overview!$C$1))","v":{"$error":"#N/A"}},{"$f":"AVERAGE(OFFSET(H316,0,0,Overview!$C$2))","v":{"$error":"#N/A"}},{"$error":"#N/A"},{"$error":"#N/A"}]
[null,{"$error":"#N/A"},{"$error":"#N/A"},{"$error":"#N/A"},{"$error":"#N/A"},{"$error":"#N/A"},{"$error":"#N/A"},{"$error":"#N/A"},{"$error":"#N/A"},{"$error":"#N/A"},{"$f":"AVERAGE(OFFSET(H317,0,0,Overview!$C$1))","v":{"$error":"#N/A"}},{"$f":"AVERAGE(OFFSET(H317,0,0,Overview!$C$2))","v":{"$error":"#N/A"}},{"$error":"#N/A"},{"$error":"#N/A"}]
[null,{"$error":"#N/A"},{"$error":"#N/A"},{"$error":"#N/A"},{"$error":"#N/A"},{"$error":"#N/A"},{"$error":"#N/A"},{"$error":"#N/A"},{"$error":"#N/A"},{"$error":"#N/A"},{"$f":"AVERAGE(OFFSET(H318,0,0,Overview!$C$1))","v":{"$error":"#N/A"}},{"$f":"AVERAGE(OFFSET(H318,0,0,Overview!$C$2))","v":{"$error":"#N/A"}},{"$error":"#N/A"},{"$error":"#N/A"}]
[null,{"$error":"#N/A"},{"$error":"#N/A"},{"$error":"#N/A"},{"$error":"#N/A"},{"$error":"#N/A"},{"$error":"#N/A"},{"$error":"#N/A"},{"$error":"#N/A"},{"$error":"#N/A"},{"$f":"AVERAGE(OFFSET(H319,0,0,Overview!$C$1))","v":{"$error":"#N/A"}},{"$f":"AVERAGE(OFFSET(H319,0,0,Overview!$C$2))","v":{"$error":"#N/A"}},{"$error":"#N/A"},{"$error":"#N/A"}]
[null,{"$error":"#N/A"},{"$error":"#N/A"},{"$error":"#N/A"},{"$error":"#N/A"},{"$error":"#N/A"},{"$error":"#N/A"},{"$error":"#N/A"},{"$error":"#N/A"},{"$error":"#N/A"},{"$f":"AVERAGE(OFFSET(H320,0,0,Overview!$C$1))","v":{"$error":"#N/A"}},{"$f":"AVERAGE(OFFSET(H320,0,0,Overview!$C$2))","v":{"$error":"#N/A"}},{"$error":"#N/A"},{"$error":"#N/A"}]
[null,{"$error":"#N/A"},{"$error":"#N/A"},{"$error":"#N/A"},{"$error":"#N/A"},{"$error":"#N/A"},{"$error":"#N/A"},{"$error":"#N/A"},{"$error":"#N/A"},{"$error":"#N/A"},{"$f":"AVERAGE(OFFSET(H321,0,0,Overview!$C$1))","v":{"$error":"#N/A"}},{"$f":"AVERAGE(OFFSET(H321,0,0,Overview!$C$2))","v":{"$error":"#N/A"}},{"$error":"#N/A"},{"$error":"#N/A"}]
[null,{"$error":"#N/A"},{"$f":"IF(TEXT(D322,\"MMM\")=TEXT(D323,\"MMM\"),\"\",TEXT(D322,\"MMM\"))","v":{"$error":"#N/A"}},{"$error":"#N/A"},{"$error":"#N/A"},{"$error":"#N/A"},{"$error":"#N/A"},{"$error":"#N/A"},{"$error":"#N/A"},{"$error":"#N/A"},{"$f":"AVERAGE(OFFSET(H322,0,0,Overview!$C$1))","v":{"$error":"#N/A"}},{"$f":"AVERAGE(OFFSET(H322,0,0,Overview!$C$2))","v":{"$error":"#N/A"}},{"$error":"#N/A"},{"$error":"#N/A"}]
[null,{"$error":"#N/A"},{"$error":"#N/A"},{"$error":"#N/A"},{"$error":"#N/A"},{"$error":"#N/A"},{"$error":"#N/A"},{"$error":"#N/A"},{"$error":"#N/A"},{"$error":"#N/A"},{"$f":"AVERAGE(OFFSET(H323,0,0,Overview!$C$1))","v":{"$error":"#N/A"}},{"$f":"AVERAGE(OFFSET(H323,0,0,Overview!$C$2))","v":{"$error":"#N/A"}},{"$f":"IF((L324<K324)*(L323>K323),K323,\"\")","v":{"$error":"#N/A"}},{"$f":"IF((L324>K324)*(L323<K323),K323,\"\")","v":{"$error":"#N/A"}}]
[null,{"$f":"IF(YEAR(D324)=YEAR(D325),\"\",YEAR(D324))","v":{"$error":"#N/A"}},{"$error":"#N/A"},{"$error":"#N/A"},{"$error":"#N/A"},{"$error":"#N/A"},{"$error":"#N/A"},{"$error":"#N/A"},{"$error":"#N/A"},{"$error":"#N/A"},{"$f":"AVERAGE(OFFSET(H324,0,0,Overview!$C$1))","v":{"$error":"#N/A"}},{"$f":"AVERAGE(OFFSET(H324,0,0,Overview!$C$2))","v":{"$error":"#N/A"}},{"$error":"#N/A"},{"$error":"#N/A"}]
[null,{"$error":"#N/A"},{"$error":"#N/A"},{"$error":"#N/A"},{"$error":"#N/A"},{"$error":"#N/A"},{"$error":"#N/A"},{"$error":"#N/A"},{"$error":"#N/A"},{"$error":"#N/A"},{"$f":"AVERAGE(OFFSET(H325,0,0,Overview!$C$1))","v":{"$error":"#N/A"}},{"$f":"AVERAGE(OFFSET(H325,0,0,Overview!$C$2))","v":{"$error":"#N/A"}},{"$error":"#N/A"},{"$error":"#N/A"}]
[null,{"$error":"#N/A"},{"$error":"#N/A"},{"$error":"#N/A"},{"$error":"#N/A"},{"$error":"#N/A"},{"$error":"#N/A"},{"$error":"#N/A"},{"$error":"#N/A"},{"$error":"#N/A"},{"$f":"AVERAGE(OFFSET(H326,0,0,Overview!$C$1))","v":{"$error":"#N/A"}},{"$f":"AVERAGE(OFFSET(H326,0,0,Overview!$C$2))","v":{"$error":"#N/A"}},{"$error":"#N/A"},{"$error":"#N/A"}]
[null,{"$error":"#N/A"},{"$error":"#N/A"},{"$error":"#N/A"},{"$error":"#N/A"},{"$error":"#N/A"},{"$error":"#N/A"},{"$error":"#N/A"},{"$error":"#N/A"},{"$error":"#N/A"},{"$f":"AVERAGE(OFFSET(H327,0,0,Overview!$C$1))","v":{"$error":"#N/A"}},{"$f":"AVERAGE(OFFSET(H327,0,0,Overview!$C$2))","v":{"$error":"#N/A"}},{"$error":"#N/A"},{"$error":"#N/A"}]
[null,{"$error":"#N/A"},{"$error":"#N/A"},{"$error":"#N/A"},{"$error":"#N/A"},{"$error":"#N/A"},{"$error":"#N/A"},{"$error":"#N/A"},{"$error":"#N/A"},{"$error":"#N/A"},{"$f":"AVERAGE(OFFSET(H328,0,0,Overview!$C$1))","v":{"$error":"#N/A"}},{"$f":"AVERAGE(OFFSET(H328,0,0,Overview!$C$2))","v":{"$error":"#N/A"}},{"$error":"#N/A"},{"$error":"#N/A"}]
[null,{"$error":"#N/A"},{"$error":"#N/A"},{"$error":"#N/A"},{"$error":"#N/A"},{"$error":"#N/A"},{"$error":"#N/A"},{"$error":"#N/A"},{"$error":"#N/A"},{"$error":"#N/A"},{"$f":"AVERAGE(OFFSET(H329,0,0,Overview!$C$1))","v":{"$error":"#N/A"}},{"$f":"AVERAGE(OFFSET(H329,0,0,Overview!$C$2))","v":{"$error":"#N/A"}},{"$error":"#N/A"},{"$error":"#N/A"}]
[null,{"$error":"#N/A"},{"$error":"#N/A"},{"$error":"#N/A"},{"$error":"#N/A"},{"$error":"#N/A"},{"$error":"#N/A"},{"$error":"#N/A"},{"$error":"#N/A"},{"$error":"#N/A"},{"$f":"AVERAGE(OFFSET(H330,0,0,Overview!$C$1))","v":{"$error":"#N/A"}},{"$f":"AVERAGE(OFFSET(H330,0,0,Overview!$C$2))","v":{"$error":"#N/A"}},{"$error":"#N/A"},{"$error":"#N/A"}]
[null,{"$error":"#N/A"},{"$error":"#N/A"},{"$error":"#N/A"},{"$error":"#N/A"},{"$error":"#N/A"},{"$error":"#N/A"},{"$error":"#N/A"},{"$error":"#N/A"},{"$error":"#N/A"},{"$f":"AVERAGE(OFFSET(H331,0,0,Overview!$C$1))","v":{"$error":"#N/A"}},{"$f":"AVERAGE(OFFSET(H331,0,0,Overview!$C$2))","v":{"$error":"#N/A"}},{"$error":"#N/A"},{"$error":"#N/A"}]
[null,{"$error":"#N/A"},{"$error":"#N/A"},{"$error":"#N/A"},{"$error":"#N/A"},{"$error":"#N/A"},{"$error":"#N/A"},{"$error":"#N/A"},{"$error":"#N/A"},{"$error":"#N/A"},{"$f":"AVERAGE(OFFSET(H332,0,0,Overview!$C$1))","v":{"$error":"#N/A"}},{"$f":"AVERAGE(OFFSET(H332,0,0,Overview!$C$2))","v":{"$error":"#N/A"}},{"$error":"#N/A"},{"$error":"#N/A"}]
[null,{"$error":"#N/A"},{"$error":"#N/A"},{"$error":"#N/A"},{"$error":"#N/A"},{"$error":"#N/A"},{"$error":"#N/A"},{"$error":"#N/A"},{"$error":"#N/A"},{"$error":"#N/A"},{"$f":"AVERAGE(OFFSET(H333,0,0,Overview!$C$1))","v":{"$error":"#N/A"}},{"$f":"AVERAGE(OFFSET(H333,0,0,Overview!$C$2))","v":{"$error":"#N/A"}},{"$error":"#N/A"},{"$error":"#N/A"}]
[null,{"$error":"#N/A"},{"$error":"#N/A"},{"$error":"#N/A"},{"$error":"#N/A"},{"$error":"#N/A"},{"$error":"#N/A"},{"$error":"#N/A"},{"$error":"#N/A"},{"$error":"#N/A"},{"$f":"AVERAGE(OFFSET(H334,0,0,Overview!$C$1))","v":{"$error":"#N/A"}},{"$f":"AVERAGE(OFFSET(H334,0,0,Overview!$C$2))","v":{"$error":"#N/A"}},{"$error":"#N/A"},{"$error":"#N/A"}]
[null,{"$error":"#N/A"},{"$error":"#N/A"},{"$error":"#N/A"},{"$error":"#N/A"},{"$error":"#N/A"},{"$error":"#N/A"},{"$error":"#N/A"},{"$error":"#N/A"},{"$error":"#N/A"},{"$f":"AVERAGE(OFFSET(H335,0,0,Overview!$C$1))","v":{"$error":"#N/A"}},{"$f":"AVERAGE(OFFSET(H335,0,0,Overview!$C$2))","v":{"$error":"#N/A"}},{"$error":"#N/A"},{"$error":"#N/A"}]
[null,{"$error":"#N/A"},{"$error":"#N/A"},{"$error":"#N/A"},{"$error":"#N/A"},{"$error":"#N/A"},{"$error":"#N/A"},{"$error":"#N/A"},{"$error":"#N/A"},{"$error":"#N/A"},{"$f":"AVERAGE(OFFSET(H336,0,0,Overview!$C$1))","v":{"$error":"#N/A"}},{"$f":"AVERAGE(OFFSET(H336,0,0,Overview!$C$2))","v":{"$error":"#N/A"}},{"$error":"#N/A"},{"$error":"#N/A"}]
[null,{"$error":"#N/A"},{"$error":"#N/A"},{"$error":"#N/A"},{"$error":"#N/A"},{"$error":"#N/A"},{"$error":"#N/A"},{"$error":"#N/A"},{"$error":"#N/A"},{"$error":"#N/A"},{"$f":"AVERAGE(OFFSET(H337,0,0,Overview!$C$1))","v":{"$error":"#N/A"}},{"$f":"AVERAGE(OFFSET(H337,0,0,Overview!$C$2))","v":{"$error":"#N/A"}},{"$error":"#N/A"},{"$error":"#N/A"}]
[null,{"$error":"#N/A"},{"$error":"#N/A"},{"$error":"#N/A"},{"$error":"#N/A"},{"$error":"#N/A"},{"$error":"#N/A"},{"$error":"#N/A"},{"$error":"#N/A"},{"$error":"#N/A"},{"$f":"AVERAGE(OFFSET(H338,0,0,Overview!$C$1))","v":{"$error":"#N/A"}},{"$f":"AVERAGE(OFFSET(H338,0,0,Overview!$C$2))","v":{"$error":"#N/A"}},{"$error":"#N/A"},{"$error":"#N/A"}]
[null,{"$error":"#N/A"},{"$error":"#N/A"},{"$error":"#N/A"},{"$error":"#N/A"},{"$error":"#N/A"},{"$error":"#N/A"},{"$error":"#N/A"},{"$error":"#N/A"},{"$error":"#N/A"},{"$f":"AVERAGE(OFFSET(H339,0,0,Overview!$C$1))","v":{"$error":"#N/A"}},{"$f":"AVERAGE(OFFSET(H339,0,0,Overview!$C$2))","v":{"$error":"#N/A"}},{"$error":"#N/A"},{"$error":"#N/A"}]
[null,{"$error":"#N/A"},{"$error":"#N/A"},{"$error":"#N/A"},{"$error":"#N/A"},{"$error":"#N/A"},{"$error":"#N/A"},{"$error":"#N/A"},{"$error":"#N/A"},{"$error":"#N/A"},{"$f":"AVERAGE(OFFSET(H340,0,0,Overview!$C$1))","v":{"$error":"#N/A"}},{"$f":"AVERAGE(OFFSET(H340,0,0,Overview!$C$2))","v":{"$error":"#N/A"}},{"$error":"#N/A"},{"$error":"#N/A"}]
[null,{"$error":"#N/A"},{"$error":"#N/A"},{"$error":"#N/A"},{"$error":"#N/A"},{"$error":"#N/A"},{"$error":"#N/A"},{"$error":"#N/A"},{"$error":"#N/A"},{"$error":"#N/A"},{"$f":"AVERAGE(OFFSET(H341,0,0,Overview!$C$1))","v":{"$error":"#N/A"}},{"$f":"AVERAGE(OFFSET(H341,0,0,Overview!$C$2))","v":{"$error":"#N/A"}},{"$error":"#N/A"},{"$error":"#N/A"}]
[null,{"$error":"#N/A"},{"$error":"#N/A"},{"$error":"#N/A"},{"$error":"#N/A"},{"$error":"#N/A"},{"$error":"#N/A"},{"$error":"#N/A"},{"$error":"#N/A"},{"$error":"#N/A"},{"$f":"AVERAGE(OFFSET(H342,0,0,Overview!$C$1))","v":{"$error":"#N/A"}},{"$f":"AVERAGE(OFFSET(H342,0,0,Overview!$C$2))","v":{"$error":"#N/A"}},{"$error":"#N/A"},{"$error":"#N/A"}]
[null,{"$error":"#N/A"},{"$error":"#N/A"},{"$error":"#N/A"},{"$error":"#N/A"},{"$error":"#N/A"},{"$error":"#N/A"},{"$error":"#N/A"},{"$error":"#N/A"},{"$error":"#N/A"},{"$f":"AVERAGE(OFFSET(H343,0,0,Overview!$C$1))","v":{"$error":"#N/A"}},{"$f":"AVERAGE(OFFSET(H343,0,0,Overview!$C$2))","v":{"$error":"#N/A"}},{"$error":"#N/A"},{"$error":"#N/A"}]
[null,{"$error":"#N/A"},{"$error":"#N/A"},{"$error":"#N/A"},{"$error":"#N/A"},{"$error":"#N/A"},{"$error":"#N/A"},{"$error":"#N/A"},{"$error":"#N/A"},{"$error":"#N/A"},{"$f":"AVERAGE(OFFSET(H344,0,0,Overview!$C$1))","v":{"$error":"#N/A"}},{"$f":"AVERAGE(OFFSET(H344,0,0,Overview!$C$2))","v":{"$error":"#N/A"}},{"$error":"#N/A"},{"$error":"#N/A"}]
[null,{"$error":"#N/A"},{"$error":"#N/A"},{"$error":"#N/A"},{"$error":"#N/A"},{"$error":"#N/A"},{"$error":"#N/A"},{"$error":"#N/A"},{"$error":"#N/A"},{"$error":"#N/A"},{"$f":"AVERAGE(OFFSET(H345,0,0,Overview!$C$1))","v":{"$error":"#N/A"}},{"$f":"AVERAGE(OFFSET(H345,0,0,Overview!$C$2))","v":{"$error":"#N/A"}},{"$error":"#N/A"},{"$error":"#N/A"}]
[null,{"$error":"#N/A"},{"$error":"#N/A"},{"$error":"#N/A"},{"$error":"#N/A"},{"$error":"#N/A"},{"$error":"#N/A"},{"$error":"#N/A"},{"$error":"#N/A"},{"$error":"#N/A"},{"$f":"AVERAGE(OFFSET(H346,0,0,Overview!$C$1))","v":{"$error":"#N/A"}},{"$f":"AVERAGE(OFFSET(H346,0,0,Overview!$C$2))","v":{"$error":"#N/A"}},{"$error":"#N/A"},{"$error":"#N/A"}]
[null,{"$error":"#N/A"},{"$error":"#N/A"},{"$error":"#N/A"},{"$error":"#N/A"},{"$error":"#N/A"},{"$error":"#N/A"},{"$error":"#N/A"},{"$error":"#N/A"},{"$error":"#N/A"},{"$f":"AVERAGE(OFFSET(H347,0,0,Overview!$C$1))","v":{"$error":"#N/A"}},{"$f":"AVERAGE(OFFSET(H347,0,0,Overview!$C$2))","v":{"$error":"#N/A"}},{"$error":"#N/A"},{"$error":"#N/A"}]
[null,{"$error":"#N/A"},{"$error":"#N/A"},{"$error":"#N/A"},{"$error":"#N/A"},{"$error":"#N/A"},{"$error":"#N/A"},{"$error":"#N/A"},{"$error":"#N/A"},{"$error":"#N/A"},{"$f":"AVERAGE(OFFSET(H348,0,0,Overview!$C$1))","v":{"$error":"#N/A"}},{"$f":"AVERAGE(OFFSET(H348,0,0,Overview!$C$2))","v":{"$error":"#N/A"}},{"$error":"#N/A"},{"$error":"#N/A"}]
[null,{"$error":"#N/A"},{"$error":"#N/A"},{"$error":"#N/A"},{"$error":"#N/A"},{"$error":"#N/A"},{"$error":"#N/A"},{"$error":"#N/A"},{"$error":"#N/A"},{"$error":"#N/A"},{"$f":"AVERAGE(OFFSET(H349,0,0,Overview!$C$1))","v":{"$error":"#N/A"}},{"$f":"AVERAGE(OFFSET(H349,0,0,Overview!$C$2))","v":{"$error":"#N/A"}},{"$error":"#N/A"},{"$error":"#N/A"}]
[null,{"$error":"#N/A"},{"$error":"#N/A"},{"$error":"#N/A"},{"$error":"#N/A"},{"$error":"#N/A"},{"$error":"#N/A"},{"$error":"#N/A"},{"$error":"#N/A"},{"$error":"#N/A"},{"$f":"AVERAGE(OFFSET(H350,0,0,Overview!$C$1))","v":{"$error":"#N/A"}},{"$f":"AVERAGE(OFFSET(H350,0,0,Overview!$C$2))","v":{"$error":"#N/A"}},{"$error":"#N/A"},{"$error":"#N/A"}]
[null,{"$error":"#N/A"},{"$error":"#N/A"},{"$error":"#N/A"},{"$error":"#N/A"},{"$error":"#N/A"},{"$error":"#N/A"},{"$error":"#N/A"},{"$error":"#N/A"},{"$error":"#N/A"},{"$f":"AVERAGE(OFFSET(H351,0,0,Overview!$C$1))","v":{"$error":"#N/A"}},{"$f":"AVERAGE(OFFSET(H351,0,0,Overview!$C$2))","v":{"$error":"#N/A"}},{"$error":"#N/A"},{"$error":"#N/A"}]
[null,{"$error":"#N/A"},{"$error":"#N/A"},{"$error":"#N/A"},{"$error":"#N/A"},{"$error":"#N/A"},{"$error":"#N/A"},{"$error":"#N/A"},{"$error":"#N/A"},{"$error":"#N/A"},{"$f":"AVERAGE(OFFSET(H352,0,0,Overview!$C$1))","v":{"$error":"#N/A"}},{"$f":"AVERAGE(OFFSET(H352,0,0,Overview!$C$2))","v":{"$error":"#N/A"}},{"$error":"#N/A"},{"$error":"#N/A"}]
[null,{"$error":"#N/A"},{"$error":"#N/A"},{"$error":"#N/A"},{"$error":"#N/A"},{"$error":"#N/A"},{"$error":"#N/A"},{"$error":"#N/A"},{"$error":"#N/A"},{"$error":"#N/A"},{"$f":"AVERAGE(OFFSET(H353,0,0,Overview!$C$1))","v":{"$error":"#N/A"}},{"$f":"AVERAGE(OFFSET(H353,0,0,Overview!$C$2))","v":{"$error":"#N/A"}},{"$error":"#N/A"},{"$error":"#N/A"}]
[null,{"$error":"#N/A"},{"$error":"#N/A"},{"$error":"#N/A"},{"$error":"#N/A"},{"$error":"#N/A"},{"$error":"#N/A"},{"$error":"#N/A"},{"$error":"#N/A"},{"$error":"#N/A"},{"$f":"AVERAGE(OFFSET(H354,0,0,Overview!$C$1))","v":{"$error":"#N/A"}},{"$f":"AVERAGE(OFFSET(H354,0,0,Overview!$C$2))","v":{"$error":"#N/A"}},{"$error":"#N/A"},{"$error":"#N/A"}]
[null,{"$error":"#N/A"},{"$error":"#N/A"},{"$error":"#N/A"},{"$error":"#N/A"},{"$error":"#N/A"},{"$error":"#N/A"},{"$error":"#N/A"},{"$error":"#N/A"},{"$error":"#N/A"},{"$f":"AVERAGE(OFFSET(H355,0,0,Overview!$C$1))","v":{"$error":"#N/A"}},{"$f":"AVERAGE(OFFSET(H355,0,0,Overview!$C$2))","v":{"$error":"#N/A"}},{"$error":"#N/A"},{"$error":"#N/A"}]
[null,{"$error":"#N/A"},{"$error":"#N/A"},{"$error":"#N/A"},{"$error":"#N/A"},{"$error":"#N/A"},{"$error":"#N/A"},{"$error":"#N/A"},{"$error":"#N/A"},{"$error":"#N/A"},{"$f":"AVERAGE(OFFSET(H356,0,0,Overview!$C$1))","v":{"$error":"#N/A"}},{"$f":"AVERAGE(OFFSET(H356,0,0,Overview!$C$2))","v":{"$error":"#N/A"}},{"$error":"#N/A"},{"$error":"#N/A"}]
[null,{"$error":"#N/A"},{"$error":"#N/A"},{"$error":"#N/A"},{"$error":"#N/A"},{"$error":"#N/A"},{"$error":"#N/A"},{"$error":"#N/A"},{"$error":"#N/A"},{"$error":"#N/A"},{"$f":"AVERAGE(OFFSET(H357,0,0,Overview!$C$1))","v":{"$error":"#N/A"}},{"$f":"AVERAGE(OFFSET(H357,0,0,Overview!$C$2))","v":{"$error":"#N/A"}},{"$error":"#N/A"},{"$error":"#N/A"}]
[null,{"$error":"#N/A"},{"$error":"#N/A"},{"$error":"#N/A"},{"$error":"#N/A"},{"$error":"#N/A"},{"$error":"#N/A"},{"$error":"#N/A"},{"$error":"#N/A"},{"$error":"#N/A"},{"$f":"AVERAGE(OFFSET(H358,0,0,Overview!$C$1))","v":{"$error":"#N/A"}},{"$f":"AVERAGE(OFFSET(H358,0,0,Overview!$C$2))","v":{"$error":"#N/A"}},{"$error":"#N/A"},{"$error":"#N/A"}]
[null,{"$error":"#N/A"},{"$error":"#N/A"},{"$error":"#N/A"},{"$error":"#N/A"},{"$error":"#N/A"},{"$error":"#N/A"},{"$error":"#N/A"},{"$error":"#N/A"},{"$error":"#N/A"},{"$f":"AVERAGE(OFFSET(H359,0,0,Overview!$C$1))","v":{"$error":"#N/A"}},{"$f":"AVERAGE(OFFSET(H359,0,0,Overview!$C$2))","v":{"$error":"#N/A"}},{"$error":"#N/A"},{"$error":"#N/A"}]
[null,{"$error":"#N/A"},{"$error":"#N/A"},{"$error":"#N/A"},{"$error":"#N/A"},{"$error":"#N/A"},{"$error":"#N/A"},{"$error":"#N/A"},{"$error":"#N/A"},{"$error":"#N/A"},{"$f":"AVERAGE(OFFSET(H360,0,0,Overview!$C$1))","v":{"$error":"#N/A"}},{"$f":"AVERAGE(OFFSET(H360,0,0,Overview!$C$2))","v":{"$error":"#N/A"}},{"$error":"#N/A"},{"$error":"#N/A"}]
[null,{"$error":"#N/A"},{"$error":"#N/A"},{"$error":"#N/A"},{"$error":"#N/A"},{"$error":"#N/A"},{"$error":"#N/A"},{"$error":"#N/A"},{"$error":"#N/A"},{"$error":"#N/A"},{"$f":"AVERAGE(OFFSET(H361,0,0,Overview!$C$1))","v":{"$error":"#N/A"}},{"$f":"AVERAGE(OFFSET(H361,0,0,Overview!$C$2))","v":{"$error":"#N/A"}},{"$error":"#N/A"},{"$error":"#N/A"}]
[null,{"$error":"#N/A"},{"$error":"#N/A"},{"$error":"#N/A"},{"$error":"#N/A"},{"$error":"#N/A"},{"$error":"#N/A"},{"$error":"#N/A"},{"$error":"#N/A"},{"$error":"#N/A"},{"$f":"AVERAGE(OFFSET(H362,0,0,Overview!$C$1))","v":{"$error":"#N/A"}},{"$f":"AVERAGE(OFFSET(H362,0,0,Overview!$C$2))","v":{"$error":"#N/A"}},{"$error":"#N/A"},{"$error":"#N/A"}]
[null,{"$error":"#N/A"},{"$error":"#N/A"},{"$error":"#N/A"},{"$error":"#N/A"},{"$error":"#N/A"},{"$error":"#N/A"},{"$error":"#N/A"},{"$error":"#N/A"},{"$error":"#N/A"},{"$f":"AVERAGE(OFFSET(H363,0,0,Overview!$C$1))","v":{"$error":"#N/A"}},{"$f":"AVERAGE(OFFSET(H363,0,0,Overview!$C$2))","v":{"$error":"#N/A"}},{"$error":"#N/A"},{"$error":"#N/A"}]
[null,{"$error":"#N/A"},{"$error":"#N/A"},{"$error":"#N/A"},{"$error":"#N/A"},{"$error":"#N/A"},{"$error":"#N/A"},{"$error":"#N/A"},{"$error":"#N/A"},{"$error":"#N/A"},{"$f":"AVERAGE(OFFSET(H364,0,0,Overview!$C$1))","v":{"$error":"#N/A"}},{"$f":"AVERAGE(OFFSET(H364,0,0,Overview!$C$2))","v":{"$error":"#N/A"}},{"$error":"#N/A"},{"$error":"#N/A"}]
[null,{"$error":"#N/A"},{"$error":"#N/A"},{"$error":"#N/A"},{"$error":"#N/A"},{"$error":"#N/A"},{"$error":"#N/A"},{"$error":"#N/A"},{"$error":"#N/A"},{"$error":"#N/A"},{"$f":"AVERAGE(OFFSET(H365,0,0,Overview!$C$1))","v":{"$error":"#N/A"}},{"$f":"AVERAGE(OFFSET(H365,0,0,Overview!$C$2))","v":{"$error":"#N/A"}},{"$error":"#N/A"},{"$error":"#N/A"}]
[null,{"$error":"#N/A"},{"$error":"#N/A"},{"$error":"#N/A"},{"$error":"#N/A"},{"$error":"#N/A"},{"$error":"#N/A"},{"$error":"#N/A"},{"$error":"#N/A"},{"$error":"#N/A"},{"$f":"AVERAGE(OFFSET(H366,0,0,Overview!$C$1))","v":{"$error":"#N/A"}},{"$f":"AVERAGE(OFFSET(H366,0,0,Overview!$C$2))","v":{"$error":"#N/A"}},{"$error":"#N/A"},{"$error":"#N/A"}]
[null,{"$error":"#N/A"},{"$error":"#N/A"},{"$error":"#N/A"},{"$error":"#N/A"},{"$error":"#N/A"},{"$error":"#N/A"},{"$error":"#N/A"},{"$error":"#N/A"},{"$error":"#N/A"},{"$f":"AVERAGE(OFFSET(H367,0,0,Overview!$C$1))","v":{"$error":"#N/A"}},{"$f":"AVERAGE(OFFSET(H367,0,0,Overview!$C$2))","v":{"$error":"#N/A"}},{"$error":"#N/A"},{"$error":"#N/A"}]
[null,{"$error":"#N/A"},{"$error":"#N/A"},{"$error":"#N/A"},{"$error":"#N/A"},{"$error":"#N/A"},{"$error":"#N/A"},{"$error":"#N/A"},{"$error":"#N/A"},{"$error":"#N/A"},{"$f":"AVERAGE(OFFSET(H368,0,0,Overview!$C$1))","v":{"$error":"#N/A"}},{"$f":"AVERAGE(OFFSET(H368,0,0,Overview!$C$2))","v":{"$error":"#N/A"}},{"$error":"#N/A"},{"$error":"#N/A"}]
[null,{"$error":"#N/A"},{"$error":"#N/A"},{"$error":"#N/A"},{"$error":"#N/A"},{"$error":"#N/A"},{"$error":"#N/A"},{"$error":"#N/A"},{"$error":"#N/A"},{"$error":"#N/A"},{"$f":"AVERAGE(OFFSET(H369,0,0,Overview!$C$1))","v":{"$error":"#N/A"}},{"$f":"AVERAGE(OFFSET(H369,0,0,Overview!$C$2))","v":{"$error":"#N/A"}},{"$error":"#N/A"},{"$error":"#N/A"}]
[null,{"$error":"#N/A"},{"$error":"#N/A"},{"$error":"#N/A"},{"$error":"#N/A"},{"$error":"#N/A"},{"$error":"#N/A"},{"$error":"#N/A"},{"$error":"#N/A"},{"$error":"#N/A"},{"$f":"AVERAGE(OFFSET(H370,0,0,Overview!$C$1))","v":{"$error":"#N/A"}},{"$f":"AVERAGE(OFFSET(H370,0,0,Overview!$C$2))","v":{"$error":"#N/A"}},{"$error":"#N/A"},{"$error":"#N/A"}]
[null,{"$error":"#N/A"},{"$error":"#N/A"},{"$error":"#N/A"},{"$error":"#N/A"},{"$error":"#N/A"},{"$error":"#N/A"},{"$error":"#N/A"},{"$error":"#N/A"},{"$error":"#N/A"},{"$f":"AVERAGE(OFFSET(H371,0,0,Overview!$C$1))","v":{"$error":"#N/A"}},{"$f":"AVERAGE(OFFSET(H371,0,0,Overview!$C$2))","v":{"$error":"#N/A"}},{"$error":"#N/A"},{"$error":"#N/A"}]
[null,{"$error":"#N/A"},{"$error":"#N/A"},{"$error":"#N/A"},{"$error":"#N/A"},{"$error":"#N/A"},{"$error":"#N/A"},{"$error":"#N/A"},{"$error":"#N/A"},{"$error":"#N/A"},{"$f":"AVERAGE(OFFSET(H372,0,0,Overview!$C$1))","v":{"$error":"#N/A"}},{"$f":"AVERAGE(OFFSET(H372,0,0,Overview!$C$2))","v":{"$error":"#N/A"}},{"$error":"#N/A"},{"$error":"#N/A"}]
[null,{"$error":"#N/A"},{"$error":"#N/A"},{"$error":"#N/A"},{"$error":"#N/A"},{"$error":"#N/A"},{"$error":"#N/A"},{"$error":"#N/A"},{"$error":"#N/A"},{"$error":"#N/A"},{"$f":"AVERAGE(OFFSET(H373,0,0,Overview!$C$1))","v":{"$error":"#N/A"}},{"$f":"AVERAGE(OFFSET(H373,0,0,Overview!$C$2))","v":{"$error":"#N/A"}},{"$error":"#N/A"},{"$error":"#N/A"}]
[null,{"$error":"#N/A"},{"$error":"#N/A"},{"$error":"#N/A"},{"$error":"#N/A"},{"$error":"#N/A"},{"$error":"#N/A"},{"$error":"#N/A"},{"$error":"#N/A"},{"$error":"#N/A"},{"$f":"AVERAGE(OFFSET(H374,0,0,Overview!$C$1))","v":{"$error":"#N/A"}},{"$f":"AVERAGE(OFFSET(H374,0,0,Overview!$C$2))","v":{"$error":"#N/A"}},{"$error":"#N/A"},{"$error":"#N/A"}]
[null,{"$error":"#N/A"},{"$error":"#N/A"},{"$error":"#N/A"},{"$error":"#N/A"},{"$error":"#N/A"},{"$error":"#N/A"},{"$error":"#N/A"},{"$error":"#N/A"},{"$error":"#N/A"},{"$f":"AVERAGE(OFFSET(H375,0,0,Overview!$C$1))","v":{"$error":"#N/A"}},{"$f":"AVERAGE(OFFSET(H375,0,0,Overview!$C$2))","v":{"$error":"#N/A"}},{"$error":"#N/A"},{"$error":"#N/A"}]
[null,{"$error":"#N/A"},{"$error":"#N/A"},{"$error":"#N/A"},{"$error":"#N/A"},{"$error":"#N/A"},{"$error":"#N/A"},{"$error":"#N/A"},{"$error":"#N/A"},{"$error":"#N/A"},{"$f":"AVERAGE(OFFSET(H376,0,0,Overview!$C$1))","v":{"$error":"#N/A"}},{"$f":"AVERAGE(OFFSET(H376,0,0,Overview!$C$2))","v":{"$error":"#N/A"}},{"$error":"#N/A"},{"$error":"#N/A"}]
[null,{"$error":"#N/A"},{"$error":"#N/A"},{"$error":"#N/A"},{"$error":"#N/A"},{"$error":"#N/A"},{"$error":"#N/A"},{"$error":"#N/A"},{"$error":"#N/A"},{"$error":"#N/A"},{"$f":"AVERAGE(OFFSET(H377,0,0,Overview!$C$1))","v":{"$error":"#N/A"}},{"$f":"AVERAGE(OFFSET(H377,0,0,Overview!$C$2))","v":{"$error":"#N/A"}},{"$error":"#N/A"},{"$error":"#N/A"}]
[null,{"$error":"#N/A"},{"$error":"#N/A"},{"$error":"#N/A"},{"$error":"#N/A"},{"$error":"#N/A"},{"$error":"#N/A"},{"$error":"#N/A"},{"$error":"#N/A"},{"$error":"#N/A"},{"$f":"AVERAGE(OFFSET(H378,0,0,Overview!$C$1))","v":{"$error":"#N/A"}},{"$f":"AVERAGE(OFFSET(H378,0,0,Overview!$C$2))","v":{"$error":"#N/A"}},{"$error":"#N/A"},{"$error":"#N/A"}]
[null,{"$error":"#N/A"},{"$error":"#N/A"},{"$error":"#N/A"},{"$error":"#N/A"},{"$error":"#N/A"},{"$error":"#N/A"},{"$error":"#N/A"},{"$error":"#N/A"},{"$error":"#N/A"},{"$f":"AVERAGE(OFFSET(H379,0,0,Overview!$C$1))","v":{"$error":"#N/A"}},{"$f":"AVERAGE(OFFSET(H379,0,0,Overview!$C$2))","v":{"$error":"#N/A"}},{"$error":"#N/A"},{"$error":"#N/A"}]
[null,{"$error":"#N/A"},{"$error":"#N/A"},{"$error":"#N/A"},{"$error":"#N/A"},{"$error":"#N/A"},{"$error":"#N/A"},{"$error":"#N/A"},{"$error":"#N/A"},{"$error":"#N/A"},{"$f":"AVERAGE(OFFSET(H380,0,0,Overview!$C$1))","v":{"$error":"#N/A"}},{"$f":"AVERAGE(OFFSET(H380,0,0,Overview!$C$2))","v":{"$error":"#N/A"}},{"$error":"#N/A"},{"$error":"#N/A"}]
[null,{"$error":"#N/A"},{"$error":"#N/A"},{"$error":"#N/A"},{"$error":"#N/A"},{"$error":"#N/A"},{"$error":"#N/A"},{"$error":"#N/A"},{"$error":"#N/A"},{"$error":"#N/A"},{"$f":"AVERAGE(OFFSET(H381,0,0,Overview!$C$1))","v":{"$error":"#N/A"}},{"$f":"AVERAGE(OFFSET(H381,0,0,Overview!$C$2))","v":{"$error":"#N/A"}},{"$error":"#N/A"},{"$error":"#N/A"}]
[null,{"$error":"#N/A"},{"$error":"#N/A"},{"$error":"#N/A"},{"$error":"#N/A"},{"$error":"#N/A"},{"$error":"#N/A"},{"$error":"#N/A"},{"$error":"#N/A"},{"$error":"#N/A"},{"$f":"AVERAGE(OFFSET(H382,0,0,Overview!$C$1))","v":{"$error":"#N/A"}},{"$f":"AVERAGE(OFFSET(H382,0,0,Overview!$C$2))","v":{"$error":"#N/A"}},{"$error":"#N/A"},{"$error":"#N/A"}]
[null,{"$error":"#N/A"},{"$error":"#N/A"},{"$error":"#N/A"},{"$error":"#N/A"},{"$error":"#N/A"},{"$error":"#N/A"},{"$error":"#N/A"},{"$error":"#N/A"},{"$error":"#N/A"},{"$f":"AVERAGE(OFFSET(H383,0,0,Overview!$C$1))","v":{"$error":"#N/A"}},{"$f":"AVERAGE(OFFSET(H383,0,0,Overview!$C$2))","v":{"$error":"#N/A"}},{"$error":"#N/A"},{"$error":"#N/A"}]
[null,{"$error":"#N/A"},{"$error":"#N/A"},{"$error":"#N/A"},{"$error":"#N/A"},{"$error":"#N/A"},{"$error":"#N/A"},{"$error":"#N/A"},{"$error":"#N/A"},{"$error":"#N/A"},{"$f":"AVERAGE(OFFSET(H384,0,0,Overview!$C$1))","v":{"$error":"#N/A"}},{"$f":"AVERAGE(OFFSET(H384,0,0,Overview!$C$2))","v":{"$error":"#N/A"}},{"$error":"#N/A"},{"$error":"#N/A"}]
[null,{"$error":"#N/A"},{"$error":"#N/A"},{"$error":"#N/A"},{"$error":"#N/A"},{"$error":"#N/A"},{"$error":"#N/A"},{"$error":"#N/A"},{"$error":"#N/A"},{"$error":"#N/A"},{"$f":"AVERAGE(OFFSET(H385,0,0,Overview!$C$1))","v":{"$error":"#N/A"}},{"$f":"AVERAGE(OFFSET(H385,0,0,Overview!$C$2))","v":{"$error":"#N/A"}},{"$error":"#N/A"},{"$error":"#N/A"}]
[null,{"$error":"#N/A"},{"$f":"IF(TEXT(D386,\"MMM\")=TEXT(D387,\"MMM\"),\"\",TEXT(D386,\"MMM\"))","v":{"$error":"#N/A"}},{"$error":"#N/A"},{"$error":"#N/A"},{"$error":"#N/A"},{"$error":"#N/A"},{"$error":"#N/A"},{"$error":"#N/A"},{"$error":"#N/A"},{"$f":"AVERAGE(OFFSET(H386,0,0,Overview!$C$1))","v":{"$error":"#N/A"}},{"$f":"AVERAGE(OFFSET(H386,0,0,Overview!$C$2))","v":{"$error":"#N/A"}},{"$error":"#N/A"},{"$error":"#N/A"}]
[null,{"$error":"#N/A"},{"$error":"#N/A"},{"$error":"#N/A"},{"$error":"#N/A"},{"$error":"#N/A"},{"$error":"#N/A"},{"$error":"#N/A"},{"$error":"#N/A"},{"$error":"#N/A"},{"$f":"AVERAGE(OFFSET(H387,0,0,Overview!$C$1))","v":{"$error":"#N/A"}},{"$f":"AVERAGE(OFFSET(H387,0,0,Overview!$C$2))","v":{"$error":"#N/A"}},{"$f":"IF((L388<K388)*(L387>K387),K387,\"\")","v":{"$error":"#N/A"}},{"$f":"IF((L388>K388)*(L387<K387),K387,\"\")","v":{"$error":"#N/A"}}]
[null,{"$f":"IF(YEAR(D388)=YEAR(D389),\"\",YEAR(D388))","v":{"$error":"#N/A"}},{"$error":"#N/A"},{"$error":"#N/A"},{"$error":"#N/A"},{"$error":"#N/A"},{"$error":"#N/A"},{"$error":"#N/A"},{"$error":"#N/A"},{"$error":"#N/A"},{"$f":"AVERAGE(OFFSET(H388,0,0,Overview!$C$1))","v":{"$error":"#N/A"}},{"$f":"AVERAGE(OFFSET(H388,0,0,Overview!$C$2))","v":{"$error":"#N/A"}},{"$error":"#N/A"},{"$error":"#N/A"}]
[null,{"$error":"#N/A"},{"$error":"#N/A"},{"$error":"#N/A"},{"$error":"#N/A"},{"$error":"#N/A"},{"$error":"#N/A"},{"$error":"#N/A"},{"$error":"#N/A"},{"$error":"#N/A"},{"$f":"AVERAGE(OFFSET(H389,0,0,Overview!$C$1))","v":{"$error":"#N/A"}},{"$f":"AVERAGE(OFFSET(H389,0,0,Overview!$C$2))","v":{"$error":"#N/A"}},{"$error":"#N/A"},{"$error":"#N/A"}]
[null,{"$error":"#N/A"},{"$error":"#N/A"},{"$error":"#N/A"},{"$error":"#N/A"},{"$error":"#N/A"},{"$error":"#N/A"},{"$error":"#N/A"},{"$error":"#N/A"},{"$error":"#N/A"},{"$f":"AVERAGE(OFFSET(H390,0,0,Overview!$C$1))","v":{"$error":"#N/A"}},{"$f":"AVERAGE(OFFSET(H390,0,0,Overview!$C$2))","v":{"$error":"#N/A"}},{"$error":"#N/A"},{"$error":"#N/A"}]
[null,{"$error":"#N/A"},{"$error":"#N/A"},{"$error":"#N/A"},{"$error":"#N/A"},{"$error":"#N/A"},{"$error":"#N/A"},{"$error":"#N/A"},{"$error":"#N/A"},{"$error":"#N/A"},{"$f":"AVERAGE(OFFSET(H391,0,0,Overview!$C$1))","v":{"$error":"#N/A"}},{"$f":"AVERAGE(OFFSET(H391,0,0,Overview!$C$2))","v":{"$error":"#N/A"}},{"$error":"#N/A"},{"$error":"#N/A"}]
[null,{"$error":"#N/A"},{"$error":"#N/A"},{"$error":"#N/A"},{"$error":"#N/A"},{"$error":"#N/A"},{"$error":"#N/A"},{"$error":"#N/A"},{"$error":"#N/A"},{"$error":"#N/A"},{"$f":"AVERAGE(OFFSET(H392,0,0,Overview!$C$1))","v":{"$error":"#N/A"}},{"$f":"AVERAGE(OFFSET(H392,0,0,Overview!$C$2))","v":{"$error":"#N/A"}},{"$error":"#N/A"},{"$error":"#N/A"}]
[null,{"$error":"#N/A"},{"$error":"#N/A"},{"$error":"#N/A"},{"$error":"#N/A"},{"$error":"#N/A"},{"$error":"#N/A"},{"$error":"#N/A"},{"$error":"#N/A"},{"$error":"#N/A"},{"$f":"AVERAGE(OFFSET(H393,0,0,Overview!$C$1))","v":{"$error":"#N/A"}},{"$f":"AVERAGE(OFFSET(H393,0,0,Overview!$C$2))","v":{"$error":"#N/A"}},{"$error":"#N/A"},{"$error":"#N/A"}]
[null,{"$error":"#N/A"},{"$error":"#N/A"},{"$error":"#N/A"},{"$error":"#N/A"},{"$error":"#N/A"},{"$error":"#N/A"},{"$error":"#N/A"},{"$error":"#N/A"},{"$error":"#N/A"},{"$f":"AVERAGE(OFFSET(H394,0,0,Overview!$C$1))","v":{"$error":"#N/A"}},{"$f":"AVERAGE(OFFSET(H394,0,0,Overview!$C$2))","v":{"$error":"#N/A"}},{"$error":"#N/A"},{"$error":"#N/A"}]
[null,{"$error":"#N/A"},{"$error":"#N/A"},{"$error":"#N/A"},{"$error":"#N/A"},{"$error":"#N/A"},{"$error":"#N/A"},{"$error":"#N/A"},{"$error":"#N/A"},{"$error":"#N/A"},{"$f":"AVERAGE(OFFSET(H395,0,0,Overview!$C$1))","v":{"$error":"#N/A"}},{"$f":"AVERAGE(OFFSET(H395,0,0,Overview!$C$2))","v":{"$error":"#N/A"}},{"$error":"#N/A"},{"$error":"#N/A"}]
[null,{"$error":"#N/A"},{"$error":"#N/A"},{"$error":"#N/A"},{"$error":"#N/A"},{"$error":"#N/A"},{"$error":"#N/A"},{"$error":"#N/A"},{"$error":"#N/A"},{"$error":"#N/A"},{"$f":"AVERAGE(OFFSET(H396,0,0,Overview!$C$1))","v":{"$error":"#N/A"}},{"$f":"AVERAGE(OFFSET(H396,0,0,Overview!$C$2))","v":{"$error":"#N/A"}},{"$error":"#N/A"},{"$error":"#N/A"}]
[null,{"$error":"#N/A"},{"$error":"#N/A"},{"$error":"#N/A"},{"$error":"#N/A"},{"$error":"#N/A"},{"$error":"#N/A"},{"$error":"#N/A"},{"$error":"#N/A"},{"$error":"#N/A"},{"$f":"AVERAGE(OFFSET(H397,0,0,Overview!$C$1))","v":{"$error":"#N/A"}},{"$f":"AVERAGE(OFFSET(H397,0,0,Overview!$C$2))","v":{"$error":"#N/A"}},{"$error":"#N/A"},{"$error":"#N/A"}]
[null,{"$error":"#N/A"},{"$error":"#N/A"},{"$error":"#N/A"},{"$error":"#N/A"},{"$error":"#N/A"},{"$error":"#N/A"},{"$error":"#N/A"},{"$error":"#N/A"},{"$error":"#N/A"},{"$f":"AVERAGE(OFFSET(H398,0,0,Overview!$C$1))","v":{"$error":"#N/A"}},{"$f":"AVERAGE(OFFSET(H398,0,0,Overview!$C$2))","v":{"$error":"#N/A"}},{"$error":"#N/A"},{"$error":"#N/A"}]
[null,{"$error":"#N/A"},{"$error":"#N/A"},{"$error":"#N/A"},{"$error":"#N/A"},{"$error":"#N/A"},{"$error":"#N/A"},{"$error":"#N/A"},{"$error":"#N/A"},{"$error":"#N/A"},{"$f":"AVERAGE(OFFSET(H399,0,0,Overview!$C$1))","v":{"$error":"#N/A"}},{"$f":"AVERAGE(OFFSET(H399,0,0,Overview!$C$2))","v":{"$error":"#N/A"}},{"$error":"#N/A"},{"$error":"#N/A"}]
[null,{"$error":"#N/A"},{"$error":"#N/A"},{"$error":"#N/A"},{"$error":"#N/A"},{"$error":"#N/A"},{"$error":"#N/A"},{"$error":"#N/A"},{"$error":"#N/A"},{"$error":"#N/A"},{"$f":"AVERAGE(OFFSET(H400,0,0,Overview!$C$1))","v":{"$error":"#N/A"}},{"$f":"AVERAGE(OFFSET(H400,0,0,Overview!$C$2))","v":{"$error":"#N/A"}},{"$error":"#N/A"},{"$error":"#N/A"}]
[null,{"$error":"#N/A"},{"$error":"#N/A"},{"$error":"#N/A"},{"$error":"#N/A"},{"$error":"#N/A"},{"$error":"#N/A"},{"$error":"#N/A"},{"$error":"#N/A"},{"$error":"#N/A"},{"$f":"AVERAGE(OFFSET(H401,0,0,Overview!$C$1))","v":{"$error":"#N/A"}},{"$f":"AVERAGE(OFFSET(H401,0,0,Overview!$C$2))","v":{"$error":"#N/A"}},{"$error":"#N/A"},{"$error":"#N/A"}]
[null,{"$error":"#N/A"},{"$error":"#N/A"},{"$error":"#N/A"},{"$error":"#N/A"},{"$error":"#N/A"},{"$error":"#N/A"},{"$error":"#N/A"},{"$error":"#N/A"},{"$error":"#N/A"},{"$f":"AVERAGE(OFFSET(H402,0,0,Overview!$C$1))","v":{"$error":"#N/A"}},{"$f":"AVERAGE(OFFSET(H402,0,0,Overview!$C$2))","v":{"$error":"#N/A"}},{"$error":"#N/A"},{"$error":"#N/A"}]
[null,{"$error":"#N/A"},{"$error":"#N/A"},{"$error":"#N/A"},{"$error":"#N/A"},{"$error":"#N/A"},{"$error":"#N/A"},{"$error":"#N/A"},{"$error":"#N/A"},{"$error":"#N/A"},{"$f":"AVERAGE(OFFSET(H403,0,0,Overview!$C$1))","v":{"$error":"#N/A"}},{"$f":"AVERAGE(OFFSET(H403,0,0,Overview!$C$2))","v":{"$error":"#N/A"}},{"$error":"#N/A"},{"$error":"#N/A"}]
[null,{"$error":"#N/A"},{"$error":"#N/A"},{"$error":"#N/A"},{"$error":"#N/A"},{"$error":"#N/A"},{"$error":"#N/A"},{"$error":"#N/A"},{"$error":"#N/A"},{"$error":"#N/A"},{"$f":"AVERAGE(OFFSET(H404,0,0,Overview!$C$1))","v":{"$error":"#N/A"}},{"$f":"AVERAGE(OFFSET(H404,0,0,Overview!$C$2))","v":{"$error":"#N/A"}},{"$error":"#N/A"},{"$error":"#N/A"}]
[null,{"$error":"#N/A"},{"$error":"#N/A"},{"$error":"#N/A"},{"$error":"#N/A"},{"$error":"#N/A"},{"$error":"#N/A"},{"$error":"#N/A"},{"$error":"#N/A"},{"$error":"#N/A"},{"$f":"AVERAGE(OFFSET(H405,0,0,Overview!$C$1))","v":{"$error":"#N/A"}},{"$f":"AVERAGE(OFFSET(H405,0,0,Overview!$C$2))","v":{"$error":"#N/A"}},{"$error":"#N/A"},{"$error":"#N/A"}]
[null,{"$error":"#N/A"},{"$error":"#N/A"},{"$error":"#N/A"},{"$error":"#N/A"},{"$error":"#N/A"},{"$error":"#N/A"},{"$error":"#N/A"},{"$error":"#N/A"},{"$error":"#N/A"},{"$f":"AVERAGE(OFFSET(H406,0,0,Overview!$C$1))","v":{"$error":"#N/A"}},{"$f":"AVERAGE(OFFSET(H406,0,0,Overview!$C$2))","v":{"$error":"#N/A"}},{"$error":"#N/A"},{"$error":"#N/A"}]
[null,{"$error":"#N/A"},{"$error":"#N/A"},{"$error":"#N/A"},{"$error":"#N/A"},{"$error":"#N/A"},{"$error":"#N/A"},{"$error":"#N/A"},{"$error":"#N/A"},{"$error":"#N/A"},{"$f":"AVERAGE(OFFSET(H407,0,0,Overview!$C$1))","v":{"$error":"#N/A"}},{"$f":"AVERAGE(OFFSET(H407,0,0,Overview!$C$2))","v":{"$error":"#N/A"}},{"$error":"#N/A"},{"$error":"#N/A"}]
[null,{"$error":"#N/A"},{"$error":"#N/A"},{"$error":"#N/A"},{"$error":"#N/A"},{"$error":"#N/A"},{"$error":"#N/A"},{"$error":"#N/A"},{"$error":"#N/A"},{"$error":"#N/A"},{"$f":"AVERAGE(OFFSET(H408,0,0,Overview!$C$1))","v":{"$error":"#N/A"}},{"$f":"AVERAGE(OFFSET(H408,0,0,Overview!$C$2))","v":{"$error":"#N/A"}},{"$error":"#N/A"},{"$error":"#N/A"}]
[null,{"$error":"#N/A"},{"$error":"#N/A"},{"$error":"#N/A"},{"$error":"#N/A"},{"$error":"#N/A"},{"$error":"#N/A"},{"$error":"#N/A"},{"$error":"#N/A"},{"$error":"#N/A"},{"$f":"AVERAGE(OFFSET(H409,0,0,Overview!$C$1))","v":{"$error":"#N/A"}},{"$f":"AVERAGE(OFFSET(H409,0,0,Overview!$C$2))","v":{"$error":"#N/A"}},{"$error":"#N/A"},{"$error":"#N/A"}]
[null,{"$error":"#N/A"},{"$error":"#N/A"},{"$error":"#N/A"},{"$error":"#N/A"},{"$error":"#N/A"},{"$error":"#N/A"},{"$error":"#N/A"},{"$error":"#N/A"},{"$error":"#N/A"},{"$f":"AVERAGE(OFFSET(H410,0,0,Overview!$C$1))","v":{"$error":"#N/A"}},{"$f":"AVERAGE(OFFSET(H410,0,0,Overview!$C$2))","v":{"$error":"#N/A"}},{"$error":"#N/A"},{"$error":"#N/A"}]
[null,{"$error":"#N/A"},{"$error":"#N/A"},{"$error":"#N/A"},{"$error":"#N/A"},{"$error":"#N/A"},{"$error":"#N/A"},{"$error":"#N/A"},{"$error":"#N/A"},{"$error":"#N/A"},{"$f":"AVERAGE(OFFSET(H411,0,0,Overview!$C$1))","v":{"$error":"#N/A"}},{"$f":"AVERAGE(OFFSET(H411,0,0,Overview!$C$2))","v":{"$error":"#N/A"}},{"$error":"#N/A"},{"$error":"#N/A"}]
[null,{"$error":"#N/A"},{"$error":"#N/A"},{"$error":"#N/A"},{"$error":"#N/A"},{"$error":"#N/A"},{"$error":"#N/A"},{"$error":"#N/A"},{"$error":"#N/A"},{"$error":"#N/A"},{"$f":"AVERAGE(OFFSET(H412,0,0,Overview!$C$1))","v":{"$error":"#N/A"}},{"$f":"AVERAGE(OFFSET(H412,0,0,Overview!$C$2))","v":{"$error":"#N/A"}},{"$error":"#N/A"},{"$error":"#N/A"}]
[null,{"$error":"#N/A"},{"$error":"#N/A"},{"$error":"#N/A"},{"$error":"#N/A"},{"$error":"#N/A"},{"$error":"#N/A"},{"$error":"#N/A"},{"$error":"#N/A"},{"$error":"#N/A"},{"$f":"AVERAGE(OFFSET(H413,0,0,Overview!$C$1))","v":{"$error":"#N/A"}},{"$f":"AVERAGE(OFFSET(H413,0,0,Overview!$C$2))","v":{"$error":"#N/A"}},{"$error":"#N/A"},{"$error":"#N/A"}]
[null,{"$error":"#N/A"},{"$error":"#N/A"},{"$error":"#N/A"},{"$error":"#N/A"},{"$error":"#N/A"},{"$error":"#N/A"},{"$error":"#N/A"},{"$error":"#N/A"},{"$error":"#N/A"},{"$f":"AVERAGE(OFFSET(H414,0,0,Overview!$C$1))","v":{"$error":"#N/A"}},{"$f":"AVERAGE(OFFSET(H414,0,0,Overview!$C$2))","v":{"$error":"#N/A"}},{"$error":"#N/A"},{"$error":"#N/A"}]
[null,{"$error":"#N/A"},{"$error":"#N/A"},{"$error":"#N/A"},{"$error":"#N/A"},{"$error":"#N/A"},{"$error":"#N/A"},{"$error":"#N/A"},{"$error":"#N/A"},{"$error":"#N/A"},{"$f":"AVERAGE(OFFSET(H415,0,0,Overview!$C$1))","v":{"$error":"#N/A"}},{"$f":"AVERAGE(OFFSET(H415,0,0,Overview!$C$2))","v":{"$error":"#N/A"}},{"$error":"#N/A"},{"$error":"#N/A"}]
[null,{"$error":"#N/A"},{"$error":"#N/A"},{"$error":"#N/A"},{"$error":"#N/A"},{"$error":"#N/A"},{"$error":"#N/A"},{"$error":"#N/A"},{"$error":"#N/A"},{"$error":"#N/A"},{"$f":"AVERAGE(OFFSET(H416,0,0,Overview!$C$1))","v":{"$error":"#N/A"}},{"$f":"AVERAGE(OFFSET(H416,0,0,Overview!$C$2))","v":{"$error":"#N/A"}},{"$error":"#N/A"},{"$error":"#N/A"}]
[null,{"$error":"#N/A"},{"$error":"#N/A"},{"$error":"#N/A"},{"$error":"#N/A"},{"$error":"#N/A"},{"$error":"#N/A"},{"$error":"#N/A"},{"$error":"#N/A"},{"$error":"#N/A"},{"$f":"AVERAGE(OFFSET(H417,0,0,Overview!$C$1))","v":{"$error":"#N/A"}},{"$f":"AVERAGE(OFFSET(H417,0,0,Overview!$C$2))","v":{"$error":"#N/A"}},{"$error":"#N/A"},{"$error":"#N/A"}]
[null,{"$error":"#N/A"},{"$error":"#N/A"},{"$error":"#N/A"},{"$error":"#N/A"},{"$error":"#N/A"},{"$error":"#N/A"},{"$error":"#N/A"},{"$error":"#N/A"},{"$error":"#N/A"},{"$f":"AVERAGE(OFFSET(H418,0,0,Overview!$C$1))","v":{"$error":"#N/A"}},{"$f":"AVERAGE(OFFSET(H418,0,0,Overview!$C$2))","v":{"$error":"#N/A"}},{"$error":"#N/A"},{"$error":"#N/A"}]
[null,{"$error":"#N/A"},{"$error":"#N/A"},{"$error":"#N/A"},{"$error":"#N/A"},{"$error":"#N/A"},{"$error":"#N/A"},{"$error":"#N/A"},{"$error":"#N/A"},{"$error":"#N/A"},{"$f":"AVERAGE(OFFSET(H419,0,0,Overview!$C$1))","v":{"$error":"#N/A"}},{"$f":"AVERAGE(OFFSET(H419,0,0,Overview!$C$2))","v":{"$error":"#N/A"}},{"$error":"#N/A"},{"$error":"#N/A"}]
[null,{"$error":"#N/A"},{"$error":"#N/A"},{"$error":"#N/A"},{"$error":"#N/A"},{"$error":"#N/A"},{"$error":"#N/A"},{"$error":"#N/A"},{"$error":"#N/A"},{"$error":"#N/A"},{"$f":"AVERAGE(OFFSET(H420,0,0,Overview!$C$1))","v":{"$error":"#N/A"}},{"$f":"AVERAGE(OFFSET(H420,0,0,Overview!$C$2))","v":{"$error":"#N/A"}},{"$error":"#N/A"},{"$error":"#N/A"}]
[null,{"$error":"#N/A"},{"$error":"#N/A"},{"$error":"#N/A"},{"$error":"#N/A"},{"$error":"#N/A"},{"$error":"#N/A"},{"$error":"#N/A"},{"$error":"#N/A"},{"$error":"#N/A"},{"$f":"AVERAGE(OFFSET(H421,0,0,Overview!$C$1))","v":{"$error":"#N/A"}},{"$f":"AVERAGE(OFFSET(H421,0,0,Overview!$C$2))","v":{"$error":"#N/A"}},{"$error":"#N/A"},{"$error":"#N/A"}]
[null,{"$error":"#N/A"},{"$error":"#N/A"},{"$error":"#N/A"},{"$error":"#N/A"},{"$error":"#N/A"},{"$error":"#N/A"},{"$error":"#N/A"},{"$error":"#N/A"},{"$error":"#N/A"},{"$f":"AVERAGE(OFFSET(H422,0,0,Overview!$C$1))","v":{"$error":"#N/A"}},{"$f":"AVERAGE(OFFSET(H422,0,0,Overview!$C$2))","v":{"$error":"#N/A"}},{"$error":"#N/A"},{"$error":"#N/A"}]
[null,{"$error":"#N/A"},{"$error":"#N/A"},{"$error":"#N/A"},{"$error":"#N/A"},{"$error":"#N/A"},{"$error":"#N/A"},{"$error":"#N/A"},{"$error":"#N/A"},{"$error":"#N/A"},{"$f":"AVERAGE(OFFSET(H423,0,0,Overview!$C$1))","v":{"$error":"#N/A"}},{"$f":"AVERAGE(OFFSET(H423,0,0,Overview!$C$2))","v":{"$error":"#N/A"}},{"$error":"#N/A"},{"$error":"#N/A"}]
[null,{"$error":"#N/A"},{"$error":"#N/A"},{"$error":"#N/A"},{"$error":"#N/A"},{"$error":"#N/A"},{"$error":"#N/A"},{"$error":"#N/A"},{"$error":"#N/A"},{"$error":"#N/A"},{"$f":"AVERAGE(OFFSET(H424,0,0,Overview!$C$1))","v":{"$error":"#N/A"}},{"$f":"AVERAGE(OFFSET(H424,0,0,Overview!$C$2))","v":{"$error":"#N/A"}},{"$error":"#N/A"},{"$error":"#N/A"}]
[null,{"$error":"#N/A"},{"$error":"#N/A"},{"$error":"#N/A"},{"$error":"#N/A"},{"$error":"#N/A"},{"$error":"#N/A"},{"$error":"#N/A"},{"$error":"#N/A"},{"$error":"#N/A"},{"$f":"AVERAGE(OFFSET(H425,0,0,Overview!$C$1))","v":{"$error":"#N/A"}},{"$f":"AVERAGE(OFFSET(H425,0,0,Overview!$C$2))","v":{"$error":"#N/A"}},{"$error":"#N/A"},{"$error":"#N/A"}]
[null,{"$error":"#N/A"},{"$error":"#N/A"},{"$error":"#N/A"},{"$error":"#N/A"},{"$error":"#N/A"},{"$error":"#N/A"},{"$error":"#N/A"},{"$error":"#N/A"},{"$error":"#N/A"},{"$f":"AVERAGE(OFFSET(H426,0,0,Overview!$C$1))","v":{"$error":"#N/A"}},{"$f":"AVERAGE(OFFSET(H426,0,0,Overview!$C$2))","v":{"$error":"#N/A"}},{"$error":"#N/A"},{"$error":"#N/A"}]
[null,{"$error":"#N/A"},{"$error":"#N/A"},{"$error":"#N/A"},{"$error":"#N/A"},{"$error":"#N/A"},{"$error":"#N/A"},{"$error":"#N/A"},{"$error":"#N/A"},{"$error":"#N/A"},{"$f":"AVERAGE(OFFSET(H427,0,0,Overview!$C$1))","v":{"$error":"#N/A"}},{"$f":"AVERAGE(OFFSET(H427,0,0,Overview!$C$2))","v":{"$error":"#N/A"}},{"$error":"#N/A"},{"$error":"#N/A"}]
[null,{"$error":"#N/A"},{"$error":"#N/A"},{"$error":"#N/A"},{"$error":"#N/A"},{"$error":"#N/A"},{"$error":"#N/A"},{"$error":"#N/A"},{"$error":"#N/A"},{"$error":"#N/A"},{"$f":"AVERAGE(OFFSET(H428,0,0,Overview!$C$1))","v":{"$error":"#N/A"}},{"$f":"AVERAGE(OFFSET(H428,0,0,Overview!$C$2))","v":{"$error":"#N/A"}},{"$error":"#N/A"},{"$error":"#N/A"}]
[null,{"$error":"#N/A"},{"$error":"#N/A"},{"$error":"#N/A"},{"$error":"#N/A"},{"$error":"#N/A"},{"$error":"#N/A"},{"$error":"#N/A"},{"$error":"#N/A"},{"$error":"#N/A"},{"$f":"AVERAGE(OFFSET(H429,0,0,Overview!$C$1))","v":{"$error":"#N/A"}},{"$f":"AVERAGE(OFFSET(H429,0,0,Overview!$C$2))","v":{"$error":"#N/A"}},{"$error":"#N/A"},{"$error":"#N/A"}]
[null,{"$error":"#N/A"},{"$error":"#N/A"},{"$error":"#N/A"},{"$error":"#N/A"},{"$error":"#N/A"},{"$error":"#N/A"},{"$error":"#N/A"},{"$error":"#N/A"},{"$error":"#N/A"},{"$f":"AVERAGE(OFFSET(H430,0,0,Overview!$C$1))","v":{"$error":"#N/A"}},{"$f":"AVERAGE(OFFSET(H430,0,0,Overview!$C$2))","v":{"$error":"#N/A"}},{"$error":"#N/A"},{"$error":"#N/A"}]
[null,{"$error":"#N/A"},{"$error":"#N/A"},{"$error":"#N/A"},{"$error":"#N/A"},{"$error":"#N/A"},{"$error":"#N/A"},{"$error":"#N/A"},{"$error":"#N/A"},{"$error":"#N/A"},{"$f":"AVERAGE(OFFSET(H431,0,0,Overview!$C$1))","v":{"$error":"#N/A"}},{"$f":"AVERAGE(OFFSET(H431,0,0,Overview!$C$2))","v":{"$error":"#N/A"}},{"$error":"#N/A"},{"$error":"#N/A"}]
[null,{"$error":"#N/A"},{"$error":"#N/A"},{"$error":"#N/A"},{"$error":"#N/A"},{"$error":"#N/A"},{"$error":"#N/A"},{"$error":"#N/A"},{"$error":"#N/A"},{"$error":"#N/A"},{"$f":"AVERAGE(OFFSET(H432,0,0,Overview!$C$1))","v":{"$error":"#N/A"}},{"$f":"AVERAGE(OFFSET(H432,0,0,Overview!$C$2))","v":{"$error":"#N/A"}},{"$error":"#N/A"},{"$error":"#N/A"}]
[null,{"$error":"#N/A"},{"$error":"#N/A"},{"$error":"#N/A"},{"$error":"#N/A"},{"$error":"#N/A"},{"$error":"#N/A"},{"$error":"#N/A"},{"$error":"#N/A"},{"$error":"#N/A"},{"$f":"AVERAGE(OFFSET(H433,0,0,Overview!$C$1))","v":{"$error":"#N/A"}},{"$f":"AVERAGE(OFFSET(H433,0,0,Overview!$C$2))","v":{"$error":"#N/A"}},{"$error":"#N/A"},{"$error":"#N/A"}]
[null,{"$error":"#N/A"},{"$error":"#N/A"},{"$error":"#N/A"},{"$error":"#N/A"},{"$error":"#N/A"},{"$error":"#N/A"},{"$error":"#N/A"},{"$error":"#N/A"},{"$error":"#N/A"},{"$f":"AVERAGE(OFFSET(H434,0,0,Overview!$C$1))","v":{"$error":"#N/A"}},{"$f":"AVERAGE(OFFSET(H434,0,0,Overview!$C$2))","v":{"$error":"#N/A"}},{"$error":"#N/A"},{"$error":"#N/A"}]
[null,{"$error":"#N/A"},{"$error":"#N/A"},{"$error":"#N/A"},{"$error":"#N/A"},{"$error":"#N/A"},{"$error":"#N/A"},{"$error":"#N/A"},{"$error":"#N/A"},{"$error":"#N/A"},{"$f":"AVERAGE(OFFSET(H435,0,0,Overview!$C$1))","v":{"$error":"#N/A"}},{"$f":"AVERAGE(OFFSET(H435,0,0,Overview!$C$2))","v":{"$error":"#N/A"}},{"$error":"#N/A"},{"$error":"#N/A"}]
[null,{"$error":"#N/A"},{"$error":"#N/A"},{"$error":"#N/A"},{"$error":"#N/A"},{"$error":"#N/A"},{"$error":"#N/A"},{"$error":"#N/A"},{"$error":"#N/A"},{"$error":"#N/A"},{"$f":"AVERAGE(OFFSET(H436,0,0,Overview!$C$1))","v":{"$error":"#N/A"}},{"$f":"AVERAGE(OFFSET(H436,0,0,Overview!$C$2))","v":{"$error":"#N/A"}},{"$error":"#N/A"},{"$error":"#N/A"}]
[null,{"$error":"#N/A"},{"$error":"#N/A"},{"$error":"#N/A"},{"$error":"#N/A"},{"$error":"#N/A"},{"$error":"#N/A"},{"$error":"#N/A"},{"$error":"#N/A"},{"$error":"#N/A"},{"$f":"AVERAGE(OFFSET(H437,0,0,Overview!$C$1))","v":{"$error":"#N/A"}},{"$f":"AVERAGE(OFFSET(H437,0,0,Overview!$C$2))","v":{"$error":"#N/A"}},{"$error":"#N/A"},{"$error":"#N/A"}]
[null,{"$error":"#N/A"},{"$error":"#N/A"},{"$error":"#N/A"},{"$error":"#N/A"},{"$error":"#N/A"},{"$error":"#N/A"},{"$error":"#N/A"},{"$error":"#N/A"},{"$error":"#N/A"},{"$f":"AVERAGE(OFFSET(H438,0,0,Overview!$C$1))","v":{"$error":"#N/A"}},{"$f":"AVERAGE(OFFSET(H438,0,0,Overview!$C$2))","v":{"$error":"#N/A"}},{"$error":"#N/A"},{"$error":"#N/A"}]
[null,{"$error":"#N/A"},{"$error":"#N/A"},{"$error":"#N/A"},{"$error":"#N/A"},{"$error":"#N/A"},{"$error":"#N/A"},{"$error":"#N/A"},{"$error":"#N/A"},{"$error":"#N/A"},{"$f":"AVERAGE(OFFSET(H439,0,0,Overview!$C$1))","v":{"$error":"#N/A"}},{"$f":"AVERAGE(OFFSET(H439,0,0,Overview!$C$2))","v":{"$error":"#N/A"}},{"$error":"#N/A"},{"$error":"#N/A"}]
[null,{"$error":"#N/A"},{"$error":"#N/A"},{"$error":"#N/A"},{"$error":"#N/A"},{"$error":"#N/A"},{"$error":"#N/A"},{"$error":"#N/A"},{"$error":"#N/A"},{"$error":"#N/A"},{"$f":"AVERAGE(OFFSET(H440,0,0,Overview!$C$1))","v":{"$error":"#N/A"}},{"$f":"AVERAGE(OFFSET(H440,0,0,Overview!$C$2))","v":{"$error":"#N/A"}},{"$error":"#N/A"},{"$error":"#N/A"}]
[null,{"$error":"#N/A"},{"$error":"#N/A"},{"$error":"#N/A"},{"$error":"#N/A"},{"$error":"#N/A"},{"$error":"#N/A"},{"$error":"#N/A"},{"$error":"#N/A"},{"$error":"#N/A"},{"$f":"AVERAGE(OFFSET(H441,0,0,Overview!$C$1))","v":{"$error":"#N/A"}},{"$f":"AVERAGE(OFFSET(H441,0,0,Overview!$C$2))","v":{"$error":"#N/A"}},{"$error":"#N/A"},{"$error":"#N/A"}]
[null,{"$error":"#N/A"},{"$error":"#N/A"},{"$error":"#N/A"},{"$error":"#N/A"},{"$error":"#N/A"},{"$error":"#N/A"},{"$error":"#N/A"},{"$error":"#N/A"},{"$error":"#N/A"},{"$f":"AVERAGE(OFFSET(H442,0,0,Overview!$C$1))","v":{"$error":"#N/A"}},{"$f":"AVERAGE(OFFSET(H442,0,0,Overview!$C$2))","v":{"$error":"#N/A"}},{"$error":"#N/A"},{"$error":"#N/A"}]
[null,{"$error":"#N/A"},{"$error":"#N/A"},{"$error":"#N/A"},{"$error":"#N/A"},{"$error":"#N/A"},{"$error":"#N/A"},{"$error":"#N/A"},{"$error":"#N/A"},{"$error":"#N/A"},{"$f":"AVERAGE(OFFSET(H443,0,0,Overview!$C$1))","v":{"$error":"#N/A"}},{"$f":"AVERAGE(OFFSET(H443,0,0,Overview!$C$2))","v":{"$error":"#N/A"}},{"$error":"#N/A"},{"$error":"#N/A"}]
[null,{"$error":"#N/A"},{"$error":"#N/A"},{"$error":"#N/A"},{"$error":"#N/A"},{"$error":"#N/A"},{"$error":"#N/A"},{"$error":"#N/A"},{"$error":"#N/A"},{"$error":"#N/A"},{"$f":"AVERAGE(OFFSET(H444,0,0,Overview!$C$1))","v":{"$error":"#N/A"}},{"$f":"AVERAGE(OFFSET(H444,0,0,Overview!$C$2))","v":{"$error":"#N/A"}},{"$error":"#N/A"},{"$error":"#N/A"}]
[null,{"$error":"#N/A"},{"$error":"#N/A"},{"$error":"#N/A"},{"$error":"#N/A"},{"$error":"#N/A"},{"$error":"#N/A"},{"$error":"#N/A"},{"$error":"#N/A"},{"$error":"#N/A"},{"$f":"AVERAGE(OFFSET(H445,0,0,Overview!$C$1))","v":{"$error":"#N/A"}},{"$f":"AVERAGE(OFFSET(H445,0,0,Overview!$C$2))","v":{"$error":"#N/A"}},{"$error":"#N/A"},{"$error":"#N/A"}]
[null,{"$error":"#N/A"},{"$error":"#N/A"},{"$error":"#N/A"},{"$error":"#N/A"},{"$error":"#N/A"},{"$error":"#N/A"},{"$error":"#N/A"},{"$error":"#N/A"},{"$error":"#N/A"},{"$f":"AVERAGE(OFFSET(H446,0,0,Overview!$C$1))","v":{"$error":"#N/A"}},{"$f":"AVERAGE(OFFSET(H446,0,0,Overview!$C$2))","v":{"$error":"#N/A"}},{"$error":"#N/A"},{"$error":"#N/A"}]
[null,{"$error":"#N/A"},{"$error":"#N/A"},{"$error":"#N/A"},{"$error":"#N/A"},{"$error":"#N/A"},{"$error":"#N/A"},{"$error":"#N/A"},{"$error":"#N/A"},{"$error":"#N/A"},{"$f":"AVERAGE(OFFSET(H447,0,0,Overview!$C$1))","v":{"$error":"#N/A"}},{"$f":"AVERAGE(OFFSET(H447,0,0,Overview!$C$2))","v":{"$error":"#N/A"}},{"$error":"#N/A"},{"$error":"#N/A"}]
[null,{"$error":"#N/A"},{"$error":"#N/A"},{"$error":"#N/A"},{"$error":"#N/A"},{"$error":"#N/A"},{"$error":"#N/A"},{"$error":"#N/A"},{"$error":"#N/A"},{"$error":"#N/A"},{"$f":"AVERAGE(OFFSET(H448,0,0,Overview!$C$1))","v":{"$error":"#N/A"}},{"$f":"AVERAGE(OFFSET(H448,0,0,Overview!$C$2))","v":{"$error":"#N/A"}},{"$error":"#N/A"},{"$error":"#N/A"}]
[null,{"$error":"#N/A"},{"$error":"#N/A"},{"$error":"#N/A"},{"$error":"#N/A"},{"$error":"#N/A"},{"$error":"#N/A"},{"$error":"#N/A"},{"$error":"#N/A"},{"$error":"#N/A"},{"$f":"AVERAGE(OFFSET(H449,0,0,Overview!$C$1))","v":{"$error":"#N/A"}},{"$f":"AVERAGE(OFFSET(H449,0,0,Overview!$C$2))","v":{"$error":"#N/A"}},{"$error":"#N/A"},{"$error":"#N/A"}]
[null,{"$error":"#N/A"},{"$f":"IF(TEXT(D450,\"MMM\")=TEXT(D451,\"MMM\"),\"\",TEXT(D450,\"MMM\"))","v":{"$error":"#N/A"}},{"$error":"#N/A"},{"$error":"#N/A"},{"$error":"#N/A"},{"$error":"#N/A"},{"$error":"#N/A"},{"$error":"#N/A"},{"$error":"#N/A"},{"$f":"AVERAGE(OFFSET(H450,0,0,Overview!$C$1))","v":{"$error":"#N/A"}},{"$f":"AVERAGE(OFFSET(H450,0,0,Overview!$C$2))","v":{"$error":"#N/A"}},{"$error":"#N/A"},{"$error":"#N/A"}]
[null,{"$error":"#N/A"},{"$error":"#N/A"},{"$error":"#N/A"},{"$error":"#N/A"},{"$error":"#N/A"},{"$error":"#N/A"},{"$error":"#N/A"},{"$error":"#N/A"},{"$error":"#N/A"},{"$f":"AVERAGE(OFFSET(H451,0,0,Overview!$C$1))","v":{"$error":"#N/A"}},{"$f":"AVERAGE(OFFSET(H451,0,0,Overview!$C$2))","v":{"$error":"#N/A"}},{"$f":"IF((L452<K452)*(L451>K451),K451,\"\")","v":{"$error":"#N/A"}},{"$f":"IF((L452>K452)*(L451<K451),K451,\"\")","v":{"$error":"#N/A"}}]
[null,{"$f":"IF(YEAR(D452)=YEAR(D453),\"\",YEAR(D452))","v":{"$error":"#N/A"}},{"$error":"#N/A"},{"$error":"#N/A"},{"$error":"#N/A"},{"$error":"#N/A"},{"$error":"#N/A"},{"$error":"#N/A"},{"$error":"#N/A"},{"$error":"#N/A"},{"$f":"AVERAGE(OFFSET(H452,0,0,Overview!$C$1))","v":{"$error":"#N/A"}},{"$f":"AVERAGE(OFFSET(H452,0,0,Overview!$C$2))","v":{"$error":"#N/A"}},{"$error":"#N/A"},{"$error":"#N/A"}]
[null,{"$error":"#N/A"},{"$error":"#N/A"},{"$error":"#N/A"},{"$error":"#N/A"},{"$error":"#N/A"},{"$error":"#N/A"},{"$error":"#N/A"},{"$error":"#N/A"},{"$error":"#N/A"},{"$f":"AVERAGE(OFFSET(H453,0,0,Overview!$C$1))","v":{"$error":"#N/A"}},{"$f":"AVERAGE(OFFSET(H453,0,0,Overview!$C$2))","v":{"$error":"#N/A"}},{"$error":"#N/A"},{"$error":"#N/A"}]
[null,{"$error":"#N/A"},{"$error":"#N/A"},{"$error":"#N/A"},{"$error":"#N/A"},{"$error":"#N/A"},{"$error":"#N/A"},{"$error":"#N/A"},{"$error":"#N/A"},{"$error":"#N/A"},{"$f":"AVERAGE(OFFSET(H454,0,0,Overview!$C$1))","v":{"$error":"#N/A"}},{"$f":"AVERAGE(OFFSET(H454,0,0,Overview!$C$2))","v":{"$error":"#N/A"}},{"$error":"#N/A"},{"$error":"#N/A"}]
[null,{"$error":"#N/A"},{"$error":"#N/A"},{"$error":"#N/A"},{"$error":"#N/A"},{"$error":"#N/A"},{"$error":"#N/A"},{"$error":"#N/A"},{"$error":"#N/A"},{"$error":"#N/A"},{"$f":"AVERAGE(OFFSET(H455,0,0,Overview!$C$1))","v":{"$error":"#N/A"}},{"$f":"AVERAGE(OFFSET(H455,0,0,Overview!$C$2))","v":{"$error":"#N/A"}},{"$error":"#N/A"},{"$error":"#N/A"}]
[null,{"$error":"#N/A"},{"$error":"#N/A"},{"$error":"#N/A"},{"$error":"#N/A"},{"$error":"#N/A"},{"$error":"#N/A"},{"$error":"#N/A"},{"$error":"#N/A"},{"$error":"#N/A"},{"$f":"AVERAGE(OFFSET(H456,0,0,Overview!$C$1))","v":{"$error":"#N/A"}},{"$f":"AVERAGE(OFFSET(H456,0,0,Overview!$C$2))","v":{"$error":"#N/A"}},{"$error":"#N/A"},{"$error":"#N/A"}]
[null,{"$error":"#N/A"},{"$error":"#N/A"},{"$error":"#N/A"},{"$error":"#N/A"},{"$error":"#N/A"},{"$error":"#N/A"},{"$error":"#N/A"},{"$error":"#N/A"},{"$error":"#N/A"},{"$f":"AVERAGE(OFFSET(H457,0,0,Overview!$C$1))","v":{"$error":"#N/A"}},{"$f":"AVERAGE(OFFSET(H457,0,0,Overview!$C$2))","v":{"$error":"#N/A"}},{"$error":"#N/A"},{"$error":"#N/A"}]
[null,{"$error":"#N/A"},{"$error":"#N/A"},{"$error":"#N/A"},{"$error":"#N/A"},{"$error":"#N/A"},{"$error":"#N/A"},{"$error":"#N/A"},{"$error":"#N/A"},{"$error":"#N/A"},{"$f":"AVERAGE(OFFSET(H458,0,0,Overview!$C$1))","v":{"$error":"#N/A"}},{"$f":"AVERAGE(OFFSET(H458,0,0,Overview!$C$2))","v":{"$error":"#N/A"}},{"$error":"#N/A"},{"$error":"#N/A"}]
[null,{"$error":"#N/A"},{"$error":"#N/A"},{"$error":"#N/A"},{"$error":"#N/A"},{"$error":"#N/A"},{"$error":"#N/A"},{"$error":"#N/A"},{"$error":"#N/A"},{"$error":"#N/A"},{"$f":"AVERAGE(OFFSET(H459,0,0,Overview!$C$1))","v":{"$error":"#N/A"}},{"$f":"AVERAGE(OFFSET(H459,0,0,Overview!$C$2))","v":{"$error":"#N/A"}},{"$error":"#N/A"},{"$error":"#N/A"}]
[null,{"$error":"#N/A"},{"$error":"#N/A"},{"$error":"#N/A"},{"$error":"#N/A"},{"$error":"#N/A"},{"$error":"#N/A"},{"$error":"#N/A"},{"$error":"#N/A"},{"$error":"#N/A"},{"$f":"AVERAGE(OFFSET(H460,0,0,Overview!$C$1))","v":{"$error":"#N/A"}},{"$f":"AVERAGE(OFFSET(H460,0,0,Overview!$C$2))","v":{"$error":"#N/A"}},{"$error":"#N/A"},{"$error":"#N/A"}]
[null,{"$error":"#N/A"},{"$error":"#N/A"},{"$error":"#N/A"},{"$error":"#N/A"},{"$error":"#N/A"},{"$error":"#N/A"},{"$error":"#N/A"},{"$error":"#N/A"},{"$error":"#N/A"},{"$f":"AVERAGE(OFFSET(H461,0,0,Overview!$C$1))","v":{"$error":"#N/A"}},{"$f":"AVERAGE(OFFSET(H461,0,0,Overview!$C$2))","v":{"$error":"#N/A"}},{"$error":"#N/A"},{"$error":"#N/A"}]
[null,{"$error":"#N/A"},{"$error":"#N/A"},{"$error":"#N/A"},{"$error":"#N/A"},{"$error":"#N/A"},{"$error":"#N/A"},{"$error":"#N/A"},{"$error":"#N/A"},{"$error":"#N/A"},{"$f":"AVERAGE(OFFSET(H462,0,0,Overview!$C$1))","v":{"$error":"#N/A"}},{"$f":"AVERAGE(OFFSET(H462,0,0,Overview!$C$2))","v":{"$error":"#N/A"}},{"$error":"#N/A"},{"$error":"#N/A"}]
[null,{"$error":"#N/A"},{"$error":"#N/A"},{"$error":"#N/A"},{"$error":"#N/A"},{"$error":"#N/A"},{"$error":"#N/A"},{"$error":"#N/A"},{"$error":"#N/A"},{"$error":"#N/A"},{"$f":"AVERAGE(OFFSET(H463,0,0,Overview!$C$1))","v":{"$error":"#N/A"}},{"$f":"AVERAGE(OFFSET(H463,0,0,Overview!$C$2))","v":{"$error":"#N/A"}},{"$error":"#N/A"},{"$error":"#N/A"}]
[null,{"$error":"#N/A"},{"$error":"#N/A"},{"$error":"#N/A"},{"$error":"#N/A"},{"$error":"#N/A"},{"$error":"#N/A"},{"$error":"#N/A"},{"$error":"#N/A"},{"$error":"#N/A"},{"$f":"AVERAGE(OFFSET(H464,0,0,Overview!$C$1))","v":{"$error":"#N/A"}},{"$f":"AVERAGE(OFFSET(H464,0,0,Overview!$C$2))","v":{"$error":"#N/A"}},{"$error":"#N/A"},{"$error":"#N/A"}]
[null,{"$error":"#N/A"},{"$error":"#N/A"},{"$error":"#N/A"},{"$error":"#N/A"},{"$error":"#N/A"},{"$error":"#N/A"},{"$error":"#N/A"},{"$error":"#N/A"},{"$error":"#N/A"},{"$f":"AVERAGE(OFFSET(H465,0,0,Overview!$C$1))","v":{"$error":"#N/A"}},{"$f":"AVERAGE(OFFSET(H465,0,0,Overview!$C$2))","v":{"$error":"#N/A"}},{"$error":"#N/A"},{"$error":"#N/A"}]
[null,{"$error":"#N/A"},{"$error":"#N/A"},{"$error":"#N/A"},{"$error":"#N/A"},{"$error":"#N/A"},{"$error":"#N/A"},{"$error":"#N/A"},{"$error":"#N/A"},{"$error":"#N/A"},{"$f":"AVERAGE(OFFSET(H466,0,0,Overview!$C$1))","v":{"$error":"#N/A"}},{"$f":"AVERAGE(OFFSET(H466,0,0,Overview!$C$2))","v":{"$error":"#N/A"}},{"$error":"#N/A"},{"$error":"#N/A"}]
[null,{"$error":"#N/A"},{"$error":"#N/A"},{"$error":"#N/A"},{"$error":"#N/A"},{"$error":"#N/A"},{"$error":"#N/A"},{"$error":"#N/A"},{"$error":"#N/A"},{"$error":"#N/A"},{"$f":"AVERAGE(OFFSET(H467,0,0,Overview!$C$1))","v":{"$error":"#N/A"}},{"$f":"AVERAGE(OFFSET(H467,0,0,Overview!$C$2))","v":{"$error":"#N/A"}},{"$error":"#N/A"},{"$error":"#N/A"}]
[null,{"$error":"#N/A"},{"$error":"#N/A"},{"$error":"#N/A"},{"$error":"#N/A"},{"$error":"#N/A"},{"$error":"#N/A"},{"$error":"#N/A"},{"$error":"#N/A"},{"$error":"#N/A"},{"$f":"AVERAGE(OFFSET(H468,0,0,Overview!$C$1))","v":{"$error":"#N/A"}},{"$f":"AVERAGE(OFFSET(H468,0,0,Overview!$C$2))","v":{"$error":"#N/A"}},{"$error":"#N/A"},{"$error":"#N/A"}]
[null,{"$error":"#N/A"},{"$error":"#N/A"},{"$error":"#N/A"},{"$error":"#N/A"},{"$error":"#N/A"},{"$error":"#N/A"},{"$error":"#N/A"},{"$error":"#N/A"},{"$error":"#N/A"},{"$f":"AVERAGE(OFFSET(H469,0,0,Overview!$C$1))","v":{"$error":"#N/A"}},{"$f":"AVERAGE(OFFSET(H469,0,0,Overview!$C$2))","v":{"$error":"#N/A"}},{"$error":"#N/A"},{"$error":"#N/A"}]
[null,{"$error":"#N/A"},{"$error":"#N/A"},{"$error":"#N/A"},{"$error":"#N/A"},{"$error":"#N/A"},{"$error":"#N/A"},{"$error":"#N/A"},{"$error":"#N/A"},{"$error":"#N/A"},{"$f":"AVERAGE(OFFSET(H470,0,0,Overview!$C$1))","v":{"$error":"#N/A"}},{"$f":"AVERAGE(OFFSET(H470,0,0,Overview!$C$2))","v":{"$error":"#N/A"}},{"$error":"#N/A"},{"$error":"#N/A"}]
[null,{"$error":"#N/A"},{"$error":"#N/A"},{"$error":"#N/A"},{"$error":"#N/A"},{"$error":"#N/A"},{"$error":"#N/A"},{"$error":"#N/A"},{"$error":"#N/A"},{"$error":"#N/A"},{"$f":"AVERAGE(OFFSET(H471,0,0,Overview!$C$1))","v":{"$error":"#N/A"}},{"$f":"AVERAGE(OFFSET(H471,0,0,Overview!$C$2))","v":{"$error":"#N/A"}},{"$error":"#N/A"},{"$error":"#N/A"}]
[null,{"$error":"#N/A"},{"$error":"#N/A"},{"$error":"#N/A"},{"$error":"#N/A"},{"$error":"#N/A"},{"$error":"#N/A"},{"$error":"#N/A"},{"$error":"#N/A"},{"$error":"#N/A"},{"$f":"AVERAGE(OFFSET(H472,0,0,Overview!$C$1))","v":{"$error":"#N/A"}},{"$f":"AVERAGE(OFFSET(H472,0,0,Overview!$C$2))","v":{"$error":"#N/A"}},{"$error":"#N/A"},{"$error":"#N/A"}]
[null,{"$error":"#N/A"},{"$error":"#N/A"},{"$error":"#N/A"},{"$error":"#N/A"},{"$error":"#N/A"},{"$error":"#N/A"},{"$error":"#N/A"},{"$error":"#N/A"},{"$error":"#N/A"},{"$f":"AVERAGE(OFFSET(H473,0,0,Overview!$C$1))","v":{"$error":"#N/A"}},{"$f":"AVERAGE(OFFSET(H473,0,0,Overview!$C$2))","v":{"$error":"#N/A"}},{"$error":"#N/A"},{"$error":"#N/A"}]
[null,{"$error":"#N/A"},{"$error":"#N/A"},{"$error":"#N/A"},{"$error":"#N/A"},{"$error":"#N/A"},{"$error":"#N/A"},{"$error":"#N/A"},{"$error":"#N/A"},{"$error":"#N/A"},{"$f":"AVERAGE(OFFSET(H474,0,0,Overview!$C$1))","v":{"$error":"#N/A"}},{"$f":"AVERAGE(OFFSET(H474,0,0,Overview!$C$2))","v":{"$error":"#N/A"}},{"$error":"#N/A"},{"$error":"#N/A"}]
[null,{"$error":"#N/A"},{"$error":"#N/A"},{"$error":"#N/A"},{"$error":"#N/A"},{"$error":"#N/A"},{"$error":"#N/A"},{"$error":"#N/A"},{"$error":"#N/A"},{"$error":"#N/A"},{"$f":"AVERAGE(OFFSET(H475,0,0,Overview!$C$1))","v":{"$error":"#N/A"}},{"$f":"AVERAGE(OFFSET(H475,0,0,Overview!$C$2))","v":{"$error":"#N/A"}},{"$error":"#N/A"},{"$error":"#N/A"}]
[null,{"$error":"#N/A"},{"$error":"#N/A"},{"$error":"#N/A"},{"$error":"#N/A"},{"$error":"#N/A"},{"$error":"#N/A"},{"$error":"#N/A"},{"$error":"#N/A"},{"$error":"#N/A"},{"$f":"AVERAGE(OFFSET(H476,0,0,Overview!$C$1))","v":{"$error":"#N/A"}},{"$f":"AVERAGE(OFFSET(H476,0,0,Overview!$C$2))","v":{"$error":"#N/A"}},{"$error":"#N/A"},{"$error":"#N/A"}]
[null,{"$error":"#N/A"},{"$error":"#N/A"},{"$error":"#N/A"},{"$error":"#N/A"},{"$error":"#N/A"},{"$error":"#N/A"},{"$error":"#N/A"},{"$error":"#N/A"},{"$error":"#N/A"},{"$f":"AVERAGE(OFFSET(H477,0,0,Overview!$C$1))","v":{"$error":"#N/A"}},{"$f":"AVERAGE(OFFSET(H477,0,0,Overview!$C$2))","v":{"$error":"#N/A"}},{"$error":"#N/A"},{"$error":"#N/A"}]
[null,{"$error":"#N/A"},{"$error":"#N/A"},{"$error":"#N/A"},{"$error":"#N/A"},{"$error":"#N/A"},{"$error":"#N/A"},{"$error":"#N/A"},{"$error":"#N/A"},{"$error":"#N/A"},{"$f":"AVERAGE(OFFSET(H478,0,0,Overview!$C$1))","v":{"$error":"#N/A"}},{"$f":"AVERAGE(OFFSET(H478,0,0,Overview!$C$2))","v":{"$error":"#N/A"}},{"$error":"#N/A"},{"$error":"#N/A"}]
[null,{"$error":"#N/A"},{"$error":"#N/A"},{"$error":"#N/A"},{"$error":"#N/A"},{"$error":"#N/A"},{"$error":"#N/A"},{"$error":"#N/A"},{"$error":"#N/A"},{"$error":"#N/A"},{"$f":"AVERAGE(OFFSET(H479,0,0,Overview!$C$1))","v":{"$error":"#N/A"}},{"$f":"AVERAGE(OFFSET(H479,0,0,Overview!$C$2))","v":{"$error":"#N/A"}},{"$error":"#N/A"},{"$error":"#N/A"}]
[null,{"$error":"#N/A"},{"$error":"#N/A"},{"$error":"#N/A"},{"$error":"#N/A"},{"$error":"#N/A"},{"$error":"#N/A"},{"$error":"#N/A"},{"$error":"#N/A"},{"$error":"#N/A"},{"$f":"AVERAGE(OFFSET(H480,0,0,Overview!$C$1))","v":{"$error":"#N/A"}},{"$f":"AVERAGE(OFFSET(H480,0,0,Overview!$C$2))","v":{"$error":"#N/A"}},{"$error":"#N/A"},{"$error":"#N/A"}]
[null,{"$error":"#N/A"},{"$error":"#N/A"},{"$error":"#N/A"},{"$error":"#N/A"},{"$error":"#N/A"},{"$error":"#N/A"},{"$error":"#N/A"},{"$error":"#N/A"},{"$error":"#N/A"},{"$f":"AVERAGE(OFFSET(H481,0,0,Overview!$C$1))","v":{"$error":"#N/A"}},{"$f":"AVERAGE(OFFSET(H481,0,0,Overview!$C$2))","v":{"$error":"#N/A"}},{"$error":"#N/A"},{"$error":"#N/A"}]
[null,{"$error":"#N/A"},{"$error":"#N/A"},{"$error":"#N/A"},{"$error":"#N/A"},{"$error":"#N/A"},{"$error":"#N/A"},{"$error":"#N/A"},{"$error":"#N/A"},{"$error":"#N/A"},{"$f":"AVERAGE(OFFSET(H482,0,0,Overview!$C$1))","v":{"$error":"#N/A"}},{"$f":"AVERAGE(OFFSET(H482,0,0,Overview!$C$2))","v":{"$error":"#N/A"}},{"$error":"#N/A"},{"$error":"#N/A"}]
[null,{"$error":"#N/A"},{"$error":"#N/A"},{"$error":"#N/A"},{"$error":"#N/A"},{"$error":"#N/A"},{"$error":"#N/A"},{"$error":"#N/A"},{"$error":"#N/A"},{"$error":"#N/A"},{"$f":"AVERAGE(OFFSET(H483,0,0,Overview!$C$1))","v":{"$error":"#N/A"}},{"$f":"AVERAGE(OFFSET(H483,0,0,Overview!$C$2))","v":{"$error":"#N/A"}},{"$error":"#N/A"},{"$error":"#N/A"}]
[null,{"$error":"#N/A"},{"$error":"#N/A"},{"$error":"#N/A"},{"$error":"#N/A"},{"$error":"#N/A"},{"$error":"#N/A"},{"$error":"#N/A"},{"$error":"#N/A"},{"$error":"#N/A"},{"$f":"AVERAGE(OFFSET(H484,0,0,Overview!$C$1))","v":{"$error":"#N/A"}},{"$f":"AVERAGE(OFFSET(H484,0,0,Overview!$C$2))","v":{"$error":"#N/A"}},{"$error":"#N/A"},{"$error":"#N/A"}]
[null,{"$error":"#N/A"},{"$error":"#N/A"},{"$error":"#N/A"},{"$error":"#N/A"},{"$error":"#N/A"},{"$error":"#N/A"},{"$error":"#N/A"},{"$error":"#N/A"},{"$error":"#N/A"},{"$f":"AVERAGE(OFFSET(H485,0,0,Overview!$C$1))","v":{"$error":"#N/A"}},{"$f":"AVERAGE(OFFSET(H485,0,0,Overview!$C$2))","v":{"$error":"#N/A"}},{"$error":"#N/A"},{"$error":"#N/A"}]
[null,{"$error":"#N/A"},{"$error":"#N/A"},{"$error":"#N/A"},{"$error":"#N/A"},{"$error":"#N/A"},{"$error":"#N/A"},{"$error":"#N/A"},{"$error":"#N/A"},{"$error":"#N/A"},{"$f":"AVERAGE(OFFSET(H486,0,0,Overview!$C$1))","v":{"$error":"#N/A"}},{"$f":"AVERAGE(OFFSET(H486,0,0,Overview!$C$2))","v":{"$error":"#N/A"}},{"$error":"#N/A"},{"$error":"#N/A"}]
[null,{"$error":"#N/A"},{"$error":"#N/A"},{"$error":"#N/A"},{"$error":"#N/A"},{"$error":"#N/A"},{"$error":"#N/A"},{"$error":"#N/A"},{"$error":"#N/A"},{"$error":"#N/A"},{"$f":"AVERAGE(OFFSET(H487,0,0,Overview!$C$1))","v":{"$error":"#N/A"}},{"$f":"AVERAGE(OFFSET(H487,0,0,Overview!$C$2))","v":{"$error":"#N/A"}},{"$error":"#N/A"},{"$error":"#N/A"}]
[null,{"$error":"#N/A"},{"$error":"#N/A"},{"$error":"#N/A"},{"$error":"#N/A"},{"$error":"#N/A"},{"$error":"#N/A"},{"$error":"#N/A"},{"$error":"#N/A"},{"$error":"#N/A"},{"$f":"AVERAGE(OFFSET(H488,0,0,Overview!$C$1))","v":{"$error":"#N/A"}},{"$f":"AVERAGE(OFFSET(H488,0,0,Overview!$C$2))","v":{"$error":"#N/A"}},{"$error":"#N/A"},{"$error":"#N/A"}]
[null,{"$error":"#N/A"},{"$error":"#N/A"},{"$error":"#N/A"},{"$error":"#N/A"},{"$error":"#N/A"},{"$error":"#N/A"},{"$error":"#N/A"},{"$error":"#N/A"},{"$error":"#N/A"},{"$f":"AVERAGE(OFFSET(H489,0,0,Overview!$C$1))","v":{"$error":"#N/A"}},{"$f":"AVERAGE(OFFSET(H489,0,0,Overview!$C$2))","v":{"$error":"#N/A"}},{"$error":"#N/A"},{"$error":"#N/A"}]
[null,{"$error":"#N/A"},{"$error":"#N/A"},{"$error":"#N/A"},{"$error":"#N/A"},{"$error":"#N/A"},{"$error":"#N/A"},{"$error":"#N/A"},{"$error":"#N/A"},{"$error":"#N/A"},{"$f":"AVERAGE(OFFSET(H490,0,0,Overview!$C$1))","v":{"$error":"#N/A"}},{"$f":"AVERAGE(OFFSET(H490,0,0,Overview!$C$2))","v":{"$error":"#N/A"}},{"$error":"#N/A"},{"$error":"#N/A"}]
[null,{"$error":"#N/A"},{"$error":"#N/A"},{"$error":"#N/A"},{"$error":"#N/A"},{"$error":"#N/A"},{"$error":"#N/A"},{"$error":"#N/A"},{"$error":"#N/A"},{"$error":"#N/A"},{"$f":"AVERAGE(OFFSET(H491,0,0,Overview!$C$1))","v":{"$error":"#N/A"}},{"$f":"AVERAGE(OFFSET(H491,0,0,Overview!$C$2))","v":{"$error":"#N/A"}},{"$error":"#N/A"},{"$error":"#N/A"}]
[null,{"$error":"#N/A"},{"$error":"#N/A"},{"$error":"#N/A"},{"$error":"#N/A"},{"$error":"#N/A"},{"$error":"#N/A"},{"$error":"#N/A"},{"$error":"#N/A"},{"$error":"#N/A"},{"$f":"AVERAGE(OFFSET(H492,0,0,Overview!$C$1))","v":{"$error":"#N/A"}},{"$f":"AVERAGE(OFFSET(H492,0,0,Overview!$C$2))","v":{"$error":"#N/A"}},{"$error":"#N/A"},{"$error":"#N/A"}]
[null,{"$error":"#N/A"},{"$error":"#N/A"},{"$error":"#N/A"},{"$error":"#N/A"},{"$error":"#N/A"},{"$error":"#N/A"},{"$error":"#N/A"},{"$error":"#N/A"},{"$error":"#N/A"},{"$f":"AVERAGE(OFFSET(H493,0,0,Overview!$C$1))","v":{"$error":"#N/A"}},{"$f":"AVERAGE(OFFSET(H493,0,0,Overview!$C$2))","v":{"$error":"#N/A"}},{"$error":"#N/A"},{"$error":"#N/A"}]
[null,{"$error":"#N/A"},{"$error":"#N/A"},{"$error":"#N/A"},{"$error":"#N/A"},{"$error":"#N/A"},{"$error":"#N/A"},{"$error":"#N/A"},{"$error":"#N/A"},{"$error":"#N/A"},{"$f":"AVERAGE(OFFSET(H494,0,0,Overview!$C$1))","v":{"$error":"#N/A"}},{"$f":"AVERAGE(OFFSET(H494,0,0,Overview!$C$2))","v":{"$error":"#N/A"}},{"$error":"#N/A"},{"$error":"#N/A"}]
[null,{"$error":"#N/A"},{"$error":"#N/A"},{"$error":"#N/A"},{"$error":"#N/A"},{"$error":"#N/A"},{"$error":"#N/A"},{"$error":"#N/A"},{"$error":"#N/A"},{"$error":"#N/A"},{"$f":"AVERAGE(OFFSET(H495,0,0,Overview!$C$1))","v":{"$error":"#N/A"}},{"$f":"AVERAGE(OFFSET(H495,0,0,Overview!$C$2))","v":{"$error":"#N/A"}},{"$error":"#N/A"},{"$error":"#N/A"}]
[null,{"$error":"#N/A"},{"$error":"#N/A"},{"$error":"#N/A"},{"$error":"#N/A"},{"$error":"#N/A"},{"$error":"#N/A"},{"$error":"#N/A"},{"$error":"#N/A"},{"$error":"#N/A"},{"$f":"AVERAGE(OFFSET(H496,0,0,Overview!$C$1))","v":{"$error":"#N/A"}},{"$f":"AVERAGE(OFFSET(H496,0,0,Overview!$C$2))","v":{"$error":"#N/A"}},{"$error":"#N/A"},{"$error":"#N/A"}]
[null,{"$error":"#N/A"},{"$error":"#N/A"},{"$error":"#N/A"},{"$error":"#N/A"},{"$error":"#N/A"},{"$error":"#N/A"},{"$error":"#N/A"},{"$error":"#N/A"},{"$error":"#N/A"},{"$f":"AVERAGE(OFFSET(H497,0,0,Overview!$C$1))","v":{"$error":"#N/A"}},{"$f":"AVERAGE(OFFSET(H497,0,0,Overview!$C$2))","v":{"$error":"#N/A"}},{"$error":"#N/A"},{"$error":"#N/A"}]
[null,{"$error":"#N/A"},{"$error":"#N/A"},{"$error":"#N/A"},{"$error":"#N/A"},{"$error":"#N/A"},{"$error":"#N/A"},{"$error":"#N/A"},{"$error":"#N/A"},{"$error":"#N/A"},{"$f":"AVERAGE(OFFSET(H498,0,0,Overview!$C$1))","v":{"$error":"#N/A"}},{"$f":"AVERAGE(OFFSET(H498,0,0,Overview!$C$2))","v":{"$error":"#N/A"}},{"$error":"#N/A"},{"$error":"#N/A"}]
[null,{"$error":"#N/A"},{"$error":"#N/A"},{"$error":"#N/A"},{"$error":"#N/A"},{"$error":"#N/A"},{"$error":"#N/A"},{"$error":"#N/A"},{"$error":"#N/A"},{"$error":"#N/A"},{"$f":"AVERAGE(OFFSET(H499,0,0,Overview!$C$1))","v":{"$error":"#N/A"}},{"$f":"AVERAGE(OFFSET(H499,0,0,Overview!$C$2))","v":{"$error":"#N/A"}},{"$error":"#N/A"},{"$error":"#N/A"}]
[null,{"$error":"#N/A"},{"$error":"#N/A"},{"$error":"#N/A"},{"$error":"#N/A"},{"$error":"#N/A"},{"$error":"#N/A"},{"$error":"#N/A"},{"$error":"#N/A"},{"$error":"#N/A"},{"$f":"AVERAGE(OFFSET(H500,0,0,Overview!$C$1))","v":{"$error":"#N/A"}},{"$f":"AVERAGE(OFFSET(H500,0,0,Overview!$C$2))","v":{"$error":"#N/A"}},{"$error":"#N/A"},{"$error":"#N/A"}]
[null,{"$error":"#N/A"},{"$error":"#N/A"},{"$error":"#N/A"},{"$error":"#N/A"},{"$error":"#N/A"},{"$error":"#N/A"},{"$error":"#N/A"},{"$error":"#N/A"},{"$error":"#N/A"},{"$f":"AVERAGE(OFFSET(H501,0,0,Overview!$C$1))","v":{"$error":"#N/A"}},{"$f":"AVERAGE(OFFSET(H501,0,0,Overview!$C$2))","v":{"$error":"#N/A"}},{"$error":"#N/A"},{"$error":"#N/A"}]
[null,{"$error":"#N/A"},{"$error":"#N/A"},{"$error":"#N/A"},{"$error":"#N/A"},{"$error":"#N/A"},{"$error":"#N/A"},{"$error":"#N/A"},{"$error":"#N/A"},{"$error":"#N/A"},{"$f":"AVERAGE(OFFSET(H502,0,0,Overview!$C$1))","v":{"$error":"#N/A"}},{"$f":"AVERAGE(OFFSET(H502,0,0,Overview!$C$2))","v":{"$error":"#N/A"}},{"$error":"#N/A"},{"$error":"#N/A"}]
[null,{"$error":"#N/A"},{"$error":"#N/A"},{"$error":"#N/A"},{"$error":"#N/A"},{"$error":"#N/A"},{"$error":"#N/A"},{"$error":"#N/A"},{"$error":"#N/A"},{"$error":"#N/A"},{"$f":"AVERAGE(OFFSET(H503,0,0,Overview!$C$1))","v":{"$error":"#N/A"}},{"$f":"AVERAGE(OFFSET(H503,0,0,Overview!$C$2))","v":{"$error":"#N/A"}},{"$error":"#N/A"},{"$error":"#N/A"}]
[null,{"$error":"#N/A"},{"$error":"#N/A"},{"$error":"#N/A"},{"$error":"#N/A"},{"$error":"#N/A"},{"$error":"#N/A"},{"$error":"#N/A"},{"$error":"#N/A"},{"$error":"#N/A"},{"$f":"AVERAGE(OFFSET(H504,0,0,Overview!$C$1))","v":{"$error":"#N/A"}},{"$f":"AVERAGE(OFFSET(H504,0,0,Overview!$C$2))","v":{"$error":"#N/A"}},{"$error":"#N/A"},{"$error":"#N/A"}]
[null,{"$error":"#N/A"},{"$error":"#N/A"},{"$error":"#N/A"},{"$error":"#N/A"},{"$error":"#N/A"},{"$error":"#N/A"},{"$error":"#N/A"},{"$error":"#N/A"},{"$error":"#N/A"},{"$f":"AVERAGE(OFFSET(H505,0,0,Overview!$C$1))","v":{"$error":"#N/A"}},{"$f":"AVERAGE(OFFSET(H505,0,0,Overview!$C$2))","v":{"$error":"#N/A"}},{"$error":"#N/A"},{"$error":"#N/A"}]
[null,{"$error":"#N/A"},{"$error":"#N/A"},{"$error":"#N/A"},{"$error":"#N/A"},{"$error":"#N/A"},{"$error":"#N/A"},{"$error":"#N/A"},{"$error":"#N/A"},{"$error":"#N/A"},{"$f":"AVERAGE(OFFSET(H506,0,0,Overview!$C$1))","v":{"$error":"#N/A"}},{"$f":"AVERAGE(OFFSET(H506,0,0,Overview!$C$2))","v":{"$error":"#N/A"}},{"$error":"#N/A"},{"$error":"#N/A"}]
[null,{"$error":"#N/A"},{"$error":"#N/A"},{"$error":"#N/A"},{"$error":"#N/A"},{"$error":"#N/A"},{"$error":"#N/A"},{"$error":"#N/A"},{"$error":"#N/A"},{"$error":"#N/A"},{"$f":"AVERAGE(OFFSET(H507,0,0,Overview!$C$1))","v":{"$error":"#N/A"}},{"$f":"AVERAGE(OFFSET(H507,0,0,Overview!$C$2))","v":{"$error":"#N/A"}},{"$error":"#N/A"},{"$error":"#N/A"}]
[null,{"$error":"#N/A"},{"$error":"#N/A"},{"$error":"#N/A"},{"$error":"#N/A"},{"$error":"#N/A"},{"$error":"#N/A"},{"$error":"#N/A"},{"$error":"#N/A"},{"$error":"#N/A"},{"$f":"AVERAGE(OFFSET(H508,0,0,Overview!$C$1))","v":{"$error":"#N/A"}},{"$f":"AVERAGE(OFFSET(H508,0,0,Overview!$C$2))","v":{"$error":"#N/A"}},{"$error":"#N/A"},{"$error":"#N/A"}]
[null,{"$error":"#N/A"},{"$error":"#N/A"},{"$error":"#N/A"},{"$error":"#N/A"},{"$error":"#N/A"},{"$error":"#N/A"},{"$error":"#N/A"},{"$error":"#N/A"},{"$error":"#N/A"},{"$f":"AVERAGE(OFFSET(H509,0,0,Overview!$C$1))","v":{"$error":"#N/A"}},{"$f":"AVERAGE(OFFSET(H509,0,0,Overview!$C$2))","v":{"$error":"#N/A"}},{"$error":"#N/A"},{"$error":"#N/A"}]
[null,{"$error":"#N/A"},{"$error":"#N/A"},{"$error":"#N/A"},{"$error":"#N/A"},{"$error":"#N/A"},{"$error":"#N/A"},{"$error":"#N/A"},{"$error":"#N/A"},{"$error":"#N/A"},{"$f":"AVERAGE(OFFSET(H510,0,0,Overview!$C$1))","v":{"$error":"#N/A"}},{"$f":"AVERAGE(OFFSET(H510,0,0,Overview!$C$2))","v":{"$error":"#N/A"}},{"$error":"#N/A"},{"$error":"#N/A"}]
[null,{"$error":"#N/A"},{"$error":"#N/A"},{"$error":"#N/A"},{"$error":"#N/A"},{"$error":"#N/A"},{"$error":"#N/A"},{"$error":"#N/A"},{"$error":"#N/A"},{"$error":"#N/A"},{"$f":"AVERAGE(OFFSET(H511,0,0,Overview!$C$1))","v":{"$error":"#N/A"}},{"$f":"AVERAGE(OFFSET(H511,0,0,Overview!$C$2))","v":{"$error":"#N/A"}},{"$error":"#N/A"},{"$error":"#N/A"}]
[null,{"$error":"#N/A"},{"$error":"#N/A"},{"$error":"#N/A"},{"$error":"#N/A"},{"$error":"#N/A"},{"$error":"#N/A"},{"$error":"#N/A"},{"$error":"#N/A"},{"$error":"#N/A"},{"$f":"AVERAGE(OFFSET(H512,0,0,Overview!$C$1))","v":{"$error":"#N/A"}},{"$f":"AVERAGE(OFFSET(H512,0,0,Overview!$C$2))","v":{"$error":"#N/A"}},{"$error":"#N/A"},{"$error":"#N/A"}]
[null,{"$error":"#N/A"},{"$error":"#N/A"},{"$error":"#N/A"},{"$error":"#N/A"},{"$error":"#N/A"},{"$error":"#N/A"},{"$error":"#N/A"},{"$error":"#N/A"},{"$error":"#N/A"},{"$f":"AVERAGE(OFFSET(H513,0,0,Overview!$C$1))","v":{"$error":"#N/A"}},{"$f":"AVERAGE(OFFSET(H513,0,0,Overview!$C$2))","v":{"$error":"#N/A"}},{"$error":"#N/A"},{"$error":"#N/A"}]
[null,{"$error":"#N/A"},{"$f":"IF(TEXT(D514,\"MMM\")=TEXT(D515,\"MMM\"),\"\",TEXT(D514,\"MMM\"))","v":{"$error":"#N/A"}},{"$error":"#N/A"},{"$error":"#N/A"},{"$error":"#N/A"},{"$error":"#N/A"},{"$error":"#N/A"},{"$error":"#N/A"},{"$error":"#N/A"},{"$f":"AVERAGE(OFFSET(H514,0,0,Overview!$C$1))","v":{"$error":"#N/A"}},{"$f":"AVERAGE(OFFSET(H514,0,0,Overview!$C$2))","v":{"$error":"#N/A"}},{"$error":"#N/A"},{"$error":"#N/A"}]
[null,{"$error":"#N/A"},{"$error":"#N/A"},{"$error":"#N/A"},{"$error":"#N/A"},{"$error":"#N/A"},{"$error":"#N/A"},{"$error":"#N/A"},{"$error":"#N/A"},{"$error":"#N/A"},{"$f":"AVERAGE(OFFSET(H515,0,0,Overview!$C$1))","v":{"$error":"#N/A"}},{"$f":"AVERAGE(OFFSET(H515,0,0,Overview!$C$2))","v":{"$error":"#N/A"}},{"$f":"IF((L516<K516)*(L515>K515),K515,\"\")","v":{"$error":"#N/A"}},{"$f":"IF((L516>K516)*(L515<K515),K515,\"\")","v":{"$error":"#N/A"}}]
[null,{"$f":"IF(YEAR(D516)=YEAR(D517),\"\",YEAR(D516))","v":{"$error":"#N/A"}},{"$error":"#N/A"},{"$error":"#N/A"},{"$error":"#N/A"},{"$error":"#N/A"},{"$error":"#N/A"},{"$error":"#N/A"},{"$error":"#N/A"},{"$error":"#N/A"},{"$f":"AVERAGE(OFFSET(H516,0,0,Overview!$C$1))","v":{"$error":"#N/A"}},{"$f":"AVERAGE(OFFSET(H516,0,0,Overview!$C$2))","v":{"$error":"#N/A"}},{"$error":"#N/A"},{"$error":"#N/A"}]
[null,{"$error":"#N/A"},{"$error":"#N/A"},{"$error":"#N/A"},{"$error":"#N/A"},{"$error":"#N/A"},{"$error":"#N/A"},{"$error":"#N/A"},{"$error":"#N/A"},{"$error":"#N/A"},{"$f":"AVERAGE(OFFSET(H517,0,0,Overview!$C$1))","v":{"$error":"#N/A"}},{"$f":"AVERAGE(OFFSET(H517,0,0,Overview!$C$2))","v":{"$error":"#N/A"}},{"$error":"#N/A"},{"$error":"#N/A"}]
[null,{"$error":"#N/A"},{"$error":"#N/A"},{"$error":"#N/A"},{"$error":"#N/A"},{"$error":"#N/A"},{"$error":"#N/A"},{"$error":"#N/A"},{"$error":"#N/A"},{"$error":"#N/A"},{"$f":"AVERAGE(OFFSET(H518,0,0,Overview!$C$1))","v":{"$error":"#N/A"}},{"$f":"AVERAGE(OFFSET(H518,0,0,Overview!$C$2))","v":{"$error":"#N/A"}},{"$error":"#N/A"},{"$error":"#N/A"}]
[null,{"$error":"#N/A"},{"$error":"#N/A"},{"$error":"#N/A"},{"$error":"#N/A"},{"$error":"#N/A"},{"$error":"#N/A"},{"$error":"#N/A"},{"$error":"#N/A"},{"$error":"#N/A"},{"$f":"AVERAGE(OFFSET(H519,0,0,Overview!$C$1))","v":{"$error":"#N/A"}},{"$f":"AVERAGE(OFFSET(H519,0,0,Overview!$C$2))","v":{"$error":"#N/A"}},{"$error":"#N/A"},{"$error":"#N/A"}]
[null,{"$error":"#N/A"},{"$error":"#N/A"},{"$error":"#N/A"},{"$error":"#N/A"},{"$error":"#N/A"},{"$error":"#N/A"},{"$error":"#N/A"},{"$error":"#N/A"},{"$error":"#N/A"},{"$f":"AVERAGE(OFFSET(H520,0,0,Overview!$C$1))","v":{"$error":"#N/A"}},{"$f":"AVERAGE(OFFSET(H520,0,0,Overview!$C$2))","v":{"$error":"#N/A"}},{"$error":"#N/A"},{"$error":"#N/A"}]
[null,{"$error":"#N/A"},{"$error":"#N/A"},{"$error":"#N/A"},{"$error":"#N/A"},{"$error":"#N/A"},{"$error":"#N/A"},{"$error":"#N/A"},{"$error":"#N/A"},{"$error":"#N/A"},{"$f":"AVERAGE(OFFSET(H521,0,0,Overview!$C$1))","v":{"$error":"#N/A"}},{"$f":"AVERAGE(OFFSET(H521,0,0,Overview!$C$2))","v":{"$error":"#N/A"}},{"$error":"#N/A"},{"$error":"#N/A"}]
[null,{"$error":"#N/A"},{"$error":"#N/A"},{"$error":"#N/A"},{"$error":"#N/A"},{"$error":"#N/A"},{"$error":"#N/A"},{"$error":"#N/A"},{"$error":"#N/A"},{"$error":"#N/A"},{"$f":"AVERAGE(OFFSET(H522,0,0,Overview!$C$1))","v":{"$error":"#N/A"}},{"$f":"AVERAGE(OFFSET(H522,0,0,Overview!$C$2))","v":{"$error":"#N/A"}},{"$error":"#N/A"},{"$error":"#N/A"}]
[null,{"$error":"#N/A"},{"$error":"#N/A"},{"$error":"#N/A"},{"$error":"#N/A"},{"$error":"#N/A"},{"$error":"#N/A"},{"$error":"#N/A"},{"$error":"#N/A"},{"$error":"#N/A"},{"$f":"AVERAGE(OFFSET(H523,0,0,Overview!$C$1))","v":{"$error":"#N/A"}},{"$f":"AVERAGE(OFFSET(H523,0,0,Overview!$C$2))","v":{"$error":"#N/A"}},{"$error":"#N/A"},{"$error":"#N/A"}]
[null,{"$error":"#N/A"},{"$error":"#N/A"},{"$error":"#N/A"},{"$error":"#N/A"},{"$error":"#N/A"},{"$error":"#N/A"},{"$error":"#N/A"},{"$error":"#N/A"},{"$error":"#N/A"},{"$f":"AVERAGE(OFFSET(H524,0,0,Overview!$C$1))","v":{"$error":"#N/A"}},{"$f":"AVERAGE(OFFSET(H524,0,0,Overview!$C$2))","v":{"$error":"#N/A"}},{"$error":"#N/A"},{"$error":"#N/A"}]
[null,{"$error":"#N/A"},{"$error":"#N/A"},{"$error":"#N/A"},{"$error":"#N/A"},{"$error":"#N/A"},{"$error":"#N/A"},{"$error":"#N/A"},{"$error":"#N/A"},{"$error":"#N/A"},{"$f":"AVERAGE(OFFSET(H525,0,0,Overview!$C$1))","v":{"$error":"#N/A"}},{"$f":"AVERAGE(OFFSET(H525,0,0,Overview!$C$2))","v":{"$error":"#N/A"}},{"$error":"#N/A"},{"$error":"#N/A"}]
[null,{"$error":"#N/A"},{"$error":"#N/A"},{"$error":"#N/A"},{"$error":"#N/A"},{"$error":"#N/A"},{"$error":"#N/A"},{"$error":"#N/A"},{"$error":"#N/A"},{"$error":"#N/A"},{"$f":"AVERAGE(OFFSET(H526,0,0,Overview!$C$1))","v":{"$error":"#N/A"}},{"$f":"AVERAGE(OFFSET(H526,0,0,Overview!$C$2))","v":{"$error":"#N/A"}},{"$error":"#N/A"},{"$error":"#N/A"}]
[null,{"$error":"#N/A"},{"$error":"#N/A"},{"$error":"#N/A"},{"$error":"#N/A"},{"$error":"#N/A"},{"$error":"#N/A"},{"$error":"#N/A"},{"$error":"#N/A"},{"$error":"#N/A"},{"$f":"AVERAGE(OFFSET(H527,0,0,Overview!$C$1))","v":{"$error":"#N/A"}},{"$f":"AVERAGE(OFFSET(H527,0,0,Overview!$C$2))","v":{"$error":"#N/A"}},{"$error":"#N/A"},{"$error":"#N/A"}]
[null,{"$error":"#N/A"},{"$error":"#N/A"},{"$error":"#N/A"},{"$error":"#N/A"},{"$error":"#N/A"},{"$error":"#N/A"},{"$error":"#N/A"},{"$error":"#N/A"},{"$error":"#N/A"},{"$f":"AVERAGE(OFFSET(H528,0,0,Overview!$C$1))","v":{"$error":"#N/A"}},{"$f":"AVERAGE(OFFSET(H528,0,0,Overview!$C$2))","v":{"$error":"#N/A"}},{"$error":"#N/A"},{"$error":"#N/A"}]
[null,{"$error":"#N/A"},{"$error":"#N/A"},{"$error":"#N/A"},{"$error":"#N/A"},{"$error":"#N/A"},{"$error":"#N/A"},{"$error":"#N/A"},{"$error":"#N/A"},{"$error":"#N/A"},{"$f":"AVERAGE(OFFSET(H529,0,0,Overview!$C$1))","v":{"$error":"#N/A"}},{"$f":"AVERAGE(OFFSET(H529,0,0,Overview!$C$2))","v":{"$error":"#N/A"}},{"$error":"#N/A"},{"$error":"#N/A"}]
[null,{"$error":"#N/A"},{"$error":"#N/A"},{"$error":"#N/A"},{"$error":"#N/A"},{"$error":"#N/A"},{"$error":"#N/A"},{"$error":"#N/A"},{"$error":"#N/A"},{"$error":"#N/A"},{"$f":"AVERAGE(OFFSET(H530,0,0,Overview!$C$1))","v":{"$error":"#N/A"}},{"$f":"AVERAGE(OFFSET(H530,0,0,Overview!$C$2))","v":{"$error":"#N/A"}},{"$error":"#N/A"},{"$error":"#N/A"}]
[null,{"$error":"#N/A"},{"$error":"#N/A"},{"$error":"#N/A"},{"$error":"#N/A"},{"$error":"#N/A"},{"$error":"#N/A"},{"$error":"#N/A"},{"$error":"#N/A"},{"$error":"#N/A"},{"$f":"AVERAGE(OFFSET(H531,0,0,Overview!$C$1))","v":{"$error":"#N/A"}},{"$f":"AVERAGE(OFFSET(H531,0,0,Overview!$C$2))","v":{"$error":"#N/A"}},{"$error":"#N/A"},{"$error":"#N/A"}]
[null,{"$error":"#N/A"},{"$error":"#N/A"},{"$error":"#N/A"},{"$error":"#N/A"},{"$error":"#N/A"},{"$error":"#N/A"},{"$error":"#N/A"},{"$error":"#N/A"},{"$error":"#N/A"},{"$f":"AVERAGE(OFFSET(H532,0,0,Overview!$C$1))","v":{"$error":"#N/A"}},{"$f":"AVERAGE(OFFSET(H532,0,0,Overview!$C$2))","v":{"$error":"#N/A"}},{"$error":"#N/A"},{"$error":"#N/A"}]
[null,{"$error":"#N/A"},{"$error":"#N/A"},{"$error":"#N/A"},{"$error":"#N/A"},{"$error":"#N/A"},{"$error":"#N/A"},{"$error":"#N/A"},{"$error":"#N/A"},{"$error":"#N/A"},{"$f":"AVERAGE(OFFSET(H533,0,0,Overview!$C$1))","v":{"$error":"#N/A"}},{"$f":"AVERAGE(OFFSET(H533,0,0,Overview!$C$2))","v":{"$error":"#N/A"}},{"$error":"#N/A"},{"$error":"#N/A"}]
[null,{"$error":"#N/A"},{"$error":"#N/A"},{"$error":"#N/A"},{"$error":"#N/A"},{"$error":"#N/A"},{"$error":"#N/A"},{"$error":"#N/A"},{"$error":"#N/A"},{"$error":"#N/A"},{"$f":"AVERAGE(OFFSET(H534,0,0,Overview!$C$1))","v":{"$error":"#N/A"}},{"$f":"AVERAGE(OFFSET(H534,0,0,Overview!$C$2))","v":{"$error":"#N/A"}},{"$error":"#N/A"},{"$error":"#N/A"}]
[null,{"$error":"#N/A"},{"$error":"#N/A"},{"$error":"#N/A"},{"$error":"#N/A"},{"$error":"#N/A"},{"$error":"#N/A"},{"$error":"#N/A"},{"$error":"#N/A"},{"$error":"#N/A"},{"$f":"AVERAGE(OFFSET(H535,0,0,Overview!$C$1))","v":{"$error":"#N/A"}},{"$f":"AVERAGE(OFFSET(H535,0,0,Overview!$C$2))","v":{"$error":"#N/A"}},{"$error":"#N/A"},{"$error":"#N/A"}]
[null,{"$error":"#N/A"},{"$error":"#N/A"},{"$error":"#N/A"},{"$error":"#N/A"},{"$error":"#N/A"},{"$error":"#N/A"},{"$error":"#N/A"},{"$error":"#N/A"},{"$error":"#N/A"},{"$f":"AVERAGE(OFFSET(H536,0,0,Overview!$C$1))","v":{"$error":"#N/A"}},{"$f":"AVERAGE(OFFSET(H536,0,0,Overview!$C$2))","v":{"$error":"#N/A"}},{"$error":"#N/A"},{"$error":"#N/A"}]
[null,{"$error":"#N/A"},{"$error":"#N/A"},{"$error":"#N/A"},{"$error":"#N/A"},{"$error":"#N/A"},{"$error":"#N/A"},{"$error":"#N/A"},{"$error":"#N/A"},{"$error":"#N/A"},{"$f":"AVERAGE(OFFSET(H537,0,0,Overview!$C$1))","v":{"$error":"#N/A"}},{"$f":"AVERAGE(OFFSET(H537,0,0,Overview!$C$2))","v":{"$error":"#N/A"}},{"$error":"#N/A"},{"$error":"#N/A"}]
[null,{"$error":"#N/A"},{"$error":"#N/A"},{"$error":"#N/A"},{"$error":"#N/A"},{"$error":"#N/A"},{"$error":"#N/A"},{"$error":"#N/A"},{"$error":"#N/A"},{"$error":"#N/A"},{"$f":"AVERAGE(OFFSET(H538,0,0,Overview!$C$1))","v":{"$error":"#N/A"}},{"$f":"AVERAGE(OFFSET(H538,0,0,Overview!$C$2))","v":{"$error":"#N/A"}},{"$error":"#N/A"},{"$error":"#N/A"}]
[null,{"$error":"#N/A"},{"$error":"#N/A"},{"$error":"#N/A"},{"$error":"#N/A"},{"$error":"#N/A"},{"$error":"#N/A"},{"$error":"#N/A"},{"$error":"#N/A"},{"$error":"#N/A"},{"$f":"AVERAGE(OFFSET(H539,0,0,Overview!$C$1))","v":{"$error":"#N/A"}},{"$f":"AVERAGE(OFFSET(H539,0,0,Overview!$C$2))","v":{"$error":"#N/A"}},{"$error":"#N/A"},{"$error":"#N/A"}]
[null,{"$error":"#N/A"},{"$error":"#N/A"},{"$error":"#N/A"},{"$error":"#N/A"},{"$error":"#N/A"},{"$error":"#N/A"},{"$error":"#N/A"},{"$error":"#N/A"},{"$error":"#N/A"},{"$f":"AVERAGE(OFFSET(H540,0,0,Overview!$C$1))","v":{"$error":"#N/A"}},{"$f":"AVERAGE(OFFSET(H540,0,0,Overview!$C$2))","v":{"$error":"#N/A"}},{"$error":"#N/A"},{"$error":"#N/A"}]
[null,{"$error":"#N/A"},{"$error":"#N/A"},{"$error":"#N/A"},{"$error":"#N/A"},{"$error":"#N/A"},{"$error":"#N/A"},{"$error":"#N/A"},{"$error":"#N/A"},{"$error":"#N/A"},{"$f":"AVERAGE(OFFSET(H541,0,0,Overview!$C$1))","v":{"$error":"#N/A"}},{"$f":"AVERAGE(OFFSET(H541,0,0,Overview!$C$2))","v":{"$error":"#N/A"}},{"$error":"#N/A"},{"$error":"#N/A"}]
[null,{"$error":"#N/A"},{"$error":"#N/A"},{"$error":"#N/A"},{"$error":"#N/A"},{"$error":"#N/A"},{"$error":"#N/A"},{"$error":"#N/A"},{"$error":"#N/A"},{"$error":"#N/A"},{"$f":"AVERAGE(OFFSET(H542,0,0,Overview!$C$1))","v":{"$error":"#N/A"}},{"$f":"AVERAGE(OFFSET(H542,0,0,Overview!$C$2))","v":{"$error":"#N/A"}},{"$error":"#N/A"},{"$error":"#N/A"}]
[null,{"$error":"#N/A"},{"$error":"#N/A"},{"$error":"#N/A"},{"$error":"#N/A"},{"$error":"#N/A"},{"$error":"#N/A"},{"$error":"#N/A"},{"$error":"#N/A"},{"$error":"#N/A"},{"$f":"AVERAGE(OFFSET(H543,0,0,Overview!$C$1))","v":{"$error":"#N/A"}},{"$f":"AVERAGE(OFFSET(H543,0,0,Overview!$C$2))","v":{"$error":"#N/A"}},{"$error":"#N/A"},{"$error":"#N/A"}]
[null,{"$error":"#N/A"},{"$error":"#N/A"},{"$error":"#N/A"},{"$error":"#N/A"},{"$error":"#N/A"},{"$error":"#N/A"},{"$error":"#N/A"},{"$error":"#N/A"},{"$error":"#N/A"},{"$f":"AVERAGE(OFFSET(H544,0,0,Overview!$C$1))","v":{"$error":"#N/A"}},{"$f":"AVERAGE(OFFSET(H544,0,0,Overview!$C$2))","v":{"$error":"#N/A"}},{"$error":"#N/A"},{"$error":"#N/A"}]
[null,{"$error":"#N/A"},{"$error":"#N/A"},{"$error":"#N/A"},{"$error":"#N/A"},{"$error":"#N/A"},{"$error":"#N/A"},{"$error":"#N/A"},{"$error":"#N/A"},{"$error":"#N/A"},{"$f":"AVERAGE(OFFSET(H545,0,0,Overview!$C$1))","v":{"$error":"#N/A"}},{"$f":"AVERAGE(OFFSET(H545,0,0,Overview!$C$2))","v":{"$error":"#N/A"}},{"$error":"#N/A"},{"$error":"#N/A"}]
[null,{"$error":"#N/A"},{"$error":"#N/A"},{"$error":"#N/A"},{"$error":"#N/A"},{"$error":"#N/A"},{"$error":"#N/A"},{"$error":"#N/A"},{"$error":"#N/A"},{"$error":"#N/A"},{"$f":"AVERAGE(OFFSET(H546,0,0,Overview!$C$1))","v":{"$error":"#N/A"}},{"$f":"AVERAGE(OFFSET(H546,0,0,Overview!$C$2))","v":{"$error":"#N/A"}},{"$error":"#N/A"},{"$error":"#N/A"}]
[null,{"$error":"#N/A"},{"$error":"#N/A"},{"$error":"#N/A"},{"$error":"#N/A"},{"$error":"#N/A"},{"$error":"#N/A"},{"$error":"#N/A"},{"$error":"#N/A"},{"$error":"#N/A"},{"$f":"AVERAGE(OFFSET(H547,0,0,Overview!$C$1))","v":{"$error":"#N/A"}},{"$f":"AVERAGE(OFFSET(H547,0,0,Overview!$C$2))","v":{"$error":"#N/A"}},{"$error":"#N/A"},{"$error":"#N/A"}]
[null,{"$error":"#N/A"},{"$error":"#N/A"},{"$error":"#N/A"},{"$error":"#N/A"},{"$error":"#N/A"},{"$error":"#N/A"},{"$error":"#N/A"},{"$error":"#N/A"},{"$error":"#N/A"},{"$f":"AVERAGE(OFFSET(H548,0,0,Overview!$C$1))","v":{"$error":"#N/A"}},{"$f":"AVERAGE(OFFSET(H548,0,0,Overview!$C$2))","v":{"$error":"#N/A"}},{"$error":"#N/A"},{"$error":"#N/A"}]
[null,{"$error":"#N/A"},{"$error":"#N/A"},{"$error":"#N/A"},{"$error":"#N/A"},{"$error":"#N/A"},{"$error":"#N/A"},{"$error":"#N/A"},{"$error":"#N/A"},{"$error":"#N/A"},{"$f":"AVERAGE(OFFSET(H549,0,0,Overview!$C$1))","v":{"$error":"#N/A"}},{"$f":"AVERAGE(OFFSET(H549,0,0,Overview!$C$2))","v":{"$error":"#N/A"}},{"$error":"#N/A"},{"$error":"#N/A"}]
[null,{"$error":"#N/A"},{"$error":"#N/A"},{"$error":"#N/A"},{"$error":"#N/A"},{"$error":"#N/A"},{"$error":"#N/A"},{"$error":"#N/A"},{"$error":"#N/A"},{"$error":"#N/A"},{"$f":"AVERAGE(OFFSET(H550,0,0,Overview!$C$1))","v":{"$error":"#N/A"}},{"$f":"AVERAGE(OFFSET(H550,0,0,Overview!$C$2))","v":{"$error":"#N/A"}},{"$error":"#N/A"},{"$error":"#N/A"}]
[null,{"$error":"#N/A"},{"$error":"#N/A"},{"$error":"#N/A"},{"$error":"#N/A"},{"$error":"#N/A"},{"$error":"#N/A"},{"$error":"#N/A"},{"$error":"#N/A"},{"$error":"#N/A"},{"$f":"AVERAGE(OFFSET(H551,0,0,Overview!$C$1))","v":{"$error":"#N/A"}},{"$f":"AVERAGE(OFFSET(H551,0,0,Overview!$C$2))","v":{"$error":"#N/A"}},{"$error":"#N/A"},{"$error":"#N/A"}]
[null,{"$error":"#N/A"},{"$error":"#N/A"},{"$error":"#N/A"},{"$error":"#N/A"},{"$error":"#N/A"},{"$error":"#N/A"},{"$error":"#N/A"},{"$error":"#N/A"},{"$error":"#N/A"},{"$f":"AVERAGE(OFFSET(H552,0,0,Overview!$C$1))","v":{"$error":"#N/A"}},{"$f":"AVERAGE(OFFSET(H552,0,0,Overview!$C$2))","v":{"$error":"#N/A"}},{"$error":"#N/A"},{"$error":"#N/A"}]
[null,{"$error":"#N/A"},{"$error":"#N/A"},{"$error":"#N/A"},{"$error":"#N/A"},{"$error":"#N/A"},{"$error":"#N/A"},{"$error":"#N/A"},{"$error":"#N/A"},{"$error":"#N/A"},{"$f":"AVERAGE(OFFSET(H553,0,0,Overview!$C$1))","v":{"$error":"#N/A"}},{"$f":"AVERAGE(OFFSET(H553,0,0,Overview!$C$2))","v":{"$error":"#N/A"}},{"$error":"#N/A"},{"$error":"#N/A"}]
[null,{"$error":"#N/A"},{"$error":"#N/A"},{"$error":"#N/A"},{"$error":"#N/A"},{"$error":"#N/A"},{"$error":"#N/A"},{"$error":"#N/A"},{"$error":"#N/A"},{"$error":"#N/A"},{"$f":"AVERAGE(OFFSET(H554,0,0,Overview!$C$1))","v":{"$error":"#N/A"}},{"$f":"AVERAGE(OFFSET(H554,0,0,Overview!$C$2))","v":{"$error":"#N/A"}},{"$error":"#N/A"},{"$error":"#N/A"}]
[null,{"$error":"#N/A"},{"$error":"#N/A"},{"$error":"#N/A"},{"$error":"#N/A"},{"$error":"#N/A"},{"$error":"#N/A"},{"$error":"#N/A"},{"$error":"#N/A"},{"$error":"#N/A"},{"$f":"AVERAGE(OFFSET(H555,0,0,Overview!$C$1))","v":{"$error":"#N/A"}},{"$f":"AVERAGE(OFFSET(H555,0,0,Overview!$C$2))","v":{"$error":"#N/A"}},{"$error":"#N/A"},{"$error":"#N/A"}]
[null,{"$error":"#N/A"},{"$error":"#N/A"},{"$error":"#N/A"},{"$error":"#N/A"},{"$error":"#N/A"},{"$error":"#N/A"},{"$error":"#N/A"},{"$error":"#N/A"},{"$error":"#N/A"},{"$f":"AVERAGE(OFFSET(H556,0,0,Overview!$C$1))","v":{"$error":"#N/A"}},{"$f":"AVERAGE(OFFSET(H556,0,0,Overview!$C$2))","v":{"$error":"#N/A"}},{"$error":"#N/A"},{"$error":"#N/A"}]
[null,{"$error":"#N/A"},{"$error":"#N/A"},{"$error":"#N/A"},{"$error":"#N/A"},{"$error":"#N/A"},{"$error":"#N/A"},{"$error":"#N/A"},{"$error":"#N/A"},{"$error":"#N/A"},{"$f":"AVERAGE(OFFSET(H557,0,0,Overview!$C$1))","v":{"$error":"#N/A"}},{"$f":"AVERAGE(OFFSET(H557,0,0,Overview!$C$2))","v":{"$error":"#N/A"}},{"$error":"#N/A"},{"$error":"#N/A"}]
[null,{"$error":"#N/A"},{"$error":"#N/A"},{"$error":"#N/A"},{"$error":"#N/A"},{"$error":"#N/A"},{"$error":"#N/A"},{"$error":"#N/A"},{"$error":"#N/A"},{"$error":"#N/A"},{"$f":"AVERAGE(OFFSET(H558,0,0,Overview!$C$1))","v":{"$error":"#N/A"}},{"$f":"AVERAGE(OFFSET(H558,0,0,Overview!$C$2))","v":{"$error":"#N/A"}},{"$error":"#N/A"},{"$error":"#N/A"}]
[null,{"$error":"#N/A"},{"$error":"#N/A"},{"$error":"#N/A"},{"$error":"#N/A"},{"$error":"#N/A"},{"$error":"#N/A"},{"$error":"#N/A"},{"$error":"#N/A"},{"$error":"#N/A"},{"$f":"AVERAGE(OFFSET(H559,0,0,Overview!$C$1))","v":{"$error":"#N/A"}},{"$f":"AVERAGE(OFFSET(H559,0,0,Overview!$C$2))","v":{"$error":"#N/A"}},{"$error":"#N/A"},{"$error":"#N/A"}]
[null,{"$error":"#N/A"},{"$error":"#N/A"},{"$error":"#N/A"},{"$error":"#N/A"},{"$error":"#N/A"},{"$error":"#N/A"},{"$error":"#N/A"},{"$error":"#N/A"},{"$error":"#N/A"},{"$f":"AVERAGE(OFFSET(H560,0,0,Overview!$C$1))","v":{"$error":"#N/A"}},{"$f":"AVERAGE(OFFSET(H560,0,0,Overview!$C$2))","v":{"$error":"#N/A"}},{"$error":"#N/A"},{"$error":"#N/A"}]
[null,{"$error":"#N/A"},{"$error":"#N/A"},{"$error":"#N/A"},{"$error":"#N/A"},{"$error":"#N/A"},{"$error":"#N/A"},{"$error":"#N/A"},{"$error":"#N/A"},{"$error":"#N/A"},{"$f":"AVERAGE(OFFSET(H561,0,0,Overview!$C$1))","v":{"$error":"#N/A"}},{"$f":"AVERAGE(OFFSET(H561,0,0,Overview!$C$2))","v":{"$error":"#N/A"}},{"$error":"#N/A"},{"$error":"#N/A"}]
[null,{"$error":"#N/A"},{"$error":"#N/A"},{"$error":"#N/A"},{"$error":"#N/A"},{"$error":"#N/A"},{"$error":"#N/A"},{"$error":"#N/A"},{"$error":"#N/A"},{"$error":"#N/A"},{"$f":"AVERAGE(OFFSET(H562,0,0,Overview!$C$1))","v":{"$error":"#N/A"}},{"$f":"AVERAGE(OFFSET(H562,0,0,Overview!$C$2))","v":{"$error":"#N/A"}},{"$error":"#N/A"},{"$error":"#N/A"}]
[null,{"$error":"#N/A"},{"$error":"#N/A"},{"$error":"#N/A"},{"$error":"#N/A"},{"$error":"#N/A"},{"$error":"#N/A"},{"$error":"#N/A"},{"$error":"#N/A"},{"$error":"#N/A"},{"$f":"AVERAGE(OFFSET(H563,0,0,Overview!$C$1))","v":{"$error":"#N/A"}},{"$f":"AVERAGE(OFFSET(H563,0,0,Overview!$C$2))","v":{"$error":"#N/A"}},{"$error":"#N/A"},{"$error":"#N/A"}]
[null,{"$error":"#N/A"},{"$error":"#N/A"},{"$error":"#N/A"},{"$error":"#N/A"},{"$error":"#N/A"},{"$error":"#N/A"},{"$error":"#N/A"},{"$error":"#N/A"},{"$error":"#N/A"},{"$f":"AVERAGE(OFFSET(H564,0,0,Overview!$C$1))","v":{"$error":"#N/A"}},{"$f":"AVERAGE(OFFSET(H564,0,0,Overview!$C$2))","v":{"$error":"#N/A"}},{"$error":"#N/A"},{"$error":"#N/A"}]
[null,{"$error":"#N/A"},{"$error":"#N/A"},{"$error":"#N/A"},{"$error":"#N/A"},{"$error":"#N/A"},{"$error":"#N/A"},{"$error":"#N/A"},{"$error":"#N/A"},{"$error":"#N/A"},{"$f":"AVERAGE(OFFSET(H565,0,0,Overview!$C$1))","v":{"$error":"#N/A"}},{"$f":"AVERAGE(OFFSET(H565,0,0,Overview!$C$2))","v":{"$error":"#N/A"}},{"$error":"#N/A"},{"$error":"#N/A"}]
[null,{"$error":"#N/A"},{"$error":"#N/A"},{"$error":"#N/A"},{"$error":"#N/A"},{"$error":"#N/A"},{"$error":"#N/A"},{"$error":"#N/A"},{"$error":"#N/A"},{"$error":"#N/A"},{"$f":"AVERAGE(OFFSET(H566,0,0,Overview!$C$1))","v":{"$error":"#N/A"}},{"$f":"AVERAGE(OFFSET(H566,0,0,Overview!$C$2))","v":{"$error":"#N/A"}},{"$error":"#N/A"},{"$error":"#N/A"}]
[null,{"$error":"#N/A"},{"$error":"#N/A"},{"$error":"#N/A"},{"$error":"#N/A"},{"$error":"#N/A"},{"$error":"#N/A"},{"$error":"#N/A"},{"$error":"#N/A"},{"$error":"#N/A"},{"$f":"AVERAGE(OFFSET(H567,0,0,Overview!$C$1))","v":{"$error":"#N/A"}},{"$f":"AVERAGE(OFFSET(H567,0,0,Overview!$C$2))","v":{"$error":"#N/A"}},{"$error":"#N/A"},{"$error":"#N/A"}]
[null,{"$error":"#N/A"},{"$error":"#N/A"},{"$error":"#N/A"},{"$error":"#N/A"},{"$error":"#N/A"},{"$error":"#N/A"},{"$error":"#N/A"},{"$error":"#N/A"},{"$error":"#N/A"},{"$f":"AVERAGE(OFFSET(H568,0,0,Overview!$C$1))","v":{"$error":"#N/A"}},{"$f":"AVERAGE(OFFSET(H568,0,0,Overview!$C$2))","v":{"$error":"#N/A"}},{"$error":"#N/A"},{"$error":"#N/A"}]
[null,{"$error":"#N/A"},{"$error":"#N/A"},{"$error":"#N/A"},{"$error":"#N/A"},{"$error":"#N/A"},{"$error":"#N/A"},{"$error":"#N/A"},{"$error":"#N/A"},{"$error":"#N/A"},{"$f":"AVERAGE(OFFSET(H569,0,0,Overview!$C$1))","v":{"$error":"#N/A"}},{"$f":"AVERAGE(OFFSET(H569,0,0,Overview!$C$2))","v":{"$error":"#N/A"}},{"$error":"#N/A"},{"$error":"#N/A"}]
[null,{"$error":"#N/A"},{"$error":"#N/A"},{"$error":"#N/A"},{"$error":"#N/A"},{"$error":"#N/A"},{"$error":"#N/A"},{"$error":"#N/A"},{"$error":"#N/A"},{"$error":"#N/A"},{"$f":"AVERAGE(OFFSET(H570,0,0,Overview!$C$1))","v":{"$error":"#N/A"}},{"$f":"AVERAGE(OFFSET(H570,0,0,Overview!$C$2))","v":{"$error":"#N/A"}},{"$error":"#N/A"},{"$error":"#N/A"}]
[null,{"$error":"#N/A"},{"$error":"#N/A"},{"$error":"#N/A"},{"$error":"#N/A"},{"$error":"#N/A"},{"$error":"#N/A"},{"$error":"#N/A"},{"$error":"#N/A"},{"$error":"#N/A"},{"$f":"AVERAGE(OFFSET(H571,0,0,Overview!$C$1))","v":{"$error":"#N/A"}},{"$f":"AVERAGE(OFFSET(H571,0,0,Overview!$C$2))","v":{"$error":"#N/A"}},{"$error":"#N/A"},{"$error":"#N/A"}]
[null,{"$error":"#N/A"},{"$error":"#N/A"},{"$error":"#N/A"},{"$error":"#N/A"},{"$error":"#N/A"},{"$error":"#N/A"},{"$error":"#N/A"},{"$error":"#N/A"},{"$error":"#N/A"},{"$f":"AVERAGE(OFFSET(H572,0,0,Overview!$C$1))","v":{"$error":"#N/A"}},{"$f":"AVERAGE(OFFSET(H572,0,0,Overview!$C$2))","v":{"$error":"#N/A"}},{"$error":"#N/A"},{"$error":"#N/A"}]
[null,{"$error":"#N/A"},{"$error":"#N/A"},{"$error":"#N/A"},{"$error":"#N/A"},{"$error":"#N/A"},{"$error":"#N/A"},{"$error":"#N/A"},{"$error":"#N/A"},{"$error":"#N/A"},{"$f":"AVERAGE(OFFSET(H573,0,0,Overview!$C$1))","v":{"$error":"#N/A"}},{"$f":"AVERAGE(OFFSET(H573,0,0,Overview!$C$2))","v":{"$error":"#N/A"}},{"$error":"#N/A"},{"$error":"#N/A"}]
[null,{"$error":"#N/A"},{"$error":"#N/A"},{"$error":"#N/A"},{"$error":"#N/A"},{"$error":"#N/A"},{"$error":"#N/A"},{"$error":"#N/A"},{"$error":"#N/A"},{"$error":"#N/A"},{"$f":"AVERAGE(OFFSET(H574,0,0,Overview!$C$1))","v":{"$error":"#N/A"}},{"$f":"AVERAGE(OFFSET(H574,0,0,Overview!$C$2))","v":{"$error":"#N/A"}},{"$error":"#N/A"},{"$error":"#N/A"}]
[null,{"$error":"#N/A"},{"$error":"#N/A"},{"$error":"#N/A"},{"$error":"#N/A"},{"$error":"#N/A"},{"$error":"#N/A"},{"$error":"#N/A"},{"$error":"#N/A"},{"$error":"#N/A"},{"$f":"AVERAGE(OFFSET(H575,0,0,Overview!$C$1))","v":{"$error":"#N/A"}},{"$f":"AVERAGE(OFFSET(H575,0,0,Overview!$C$2))","v":{"$error":"#N/A"}},{"$error":"#N/A"},{"$error":"#N/A"}]
[null,{"$error":"#N/A"},{"$error":"#N/A"},{"$error":"#N/A"},{"$error":"#N/A"},{"$error":"#N/A"},{"$error":"#N/A"},{"$error":"#N/A"},{"$error":"#N/A"},{"$error":"#N/A"},{"$f":"AVERAGE(OFFSET(H576,0,0,Overview!$C$1))","v":{"$error":"#N/A"}},{"$f":"AVERAGE(OFFSET(H576,0,0,Overview!$C$2))","v":{"$error":"#N/A"}},{"$error":"#N/A"},{"$error":"#N/A"}]
[null,{"$error":"#N/A"},{"$error":"#N/A"},{"$error":"#N/A"},{"$error":"#N/A"},{"$error":"#N/A"},{"$error":"#N/A"},{"$error":"#N/A"},{"$error":"#N/A"},{"$error":"#N/A"},{"$f":"AVERAGE(OFFSET(H577,0,0,Overview!$C$1))","v":{"$error":"#N/A"}},{"$f":"AVERAGE(OFFSET(H577,0,0,Overview!$C$2))","v":{"$error":"#N/A"}},{"$error":"#N/A"},{"$error":"#N/A"}]
[null,{"$error":"#N/A"},{"$f":"IF(TEXT(D578,\"MMM\")=TEXT(D579,\"MMM\"),\"\",TEXT(D578,\"MMM\"))","v":{"$error":"#N/A"}},{"$error":"#N/A"},{"$error":"#N/A"},{"$error":"#N/A"},{"$error":"#N/A"},{"$error":"#N/A"},{"$error":"#N/A"},{"$error":"#N/A"},{"$f":"AVERAGE(OFFSET(H578,0,0,Overview!$C$1))","v":{"$error":"#N/A"}},{"$f":"AVERAGE(OFFSET(H578,0,0,Overview!$C$2))","v":{"$error":"#N/A"}},{"$error":"#N/A"},{"$error":"#N/A"}]
[null,{"$error":"#N/A"},{"$error":"#N/A"},{"$error":"#N/A"},{"$error":"#N/A"},{"$error":"#N/A"},{"$error":"#N/A"},{"$error":"#N/A"},{"$error":"#N/A"},{"$error":"#N/A"},{"$f":"AVERAGE(OFFSET(H579,0,0,Overview!$C$1))","v":{"$error":"#N/A"}},{"$f":"AVERAGE(OFFSET(H579,0,0,Overview!$C$2))","v":{"$error":"#N/A"}},{"$f":"IF((L580<K580)*(L579>K579),K579,\"\")","v":{"$error":"#N/A"}},{"$f":"IF((L580>K580)*(L579<K579),K579,\"\")","v":{"$error":"#N/A"}}]
[null,{"$f":"IF(YEAR(D580)=YEAR(D581),\"\",YEAR(D580))","v":{"$error":"#N/A"}},{"$error":"#N/A"},{"$error":"#N/A"},{"$error":"#N/A"},{"$error":"#N/A"},{"$error":"#N/A"},{"$error":"#N/A"},{"$error":"#N/A"},{"$error":"#N/A"},{"$f":"AVERAGE(OFFSET(H580,0,0,Overview!$C$1))","v":{"$error":"#N/A"}},{"$f":"AVERAGE(OFFSET(H580,0,0,Overview!$C$2))","v":{"$error":"#N/A"}},{"$error":"#N/A"},{"$error":"#N/A"}]
[null,{"$error":"#N/A"},{"$error":"#N/A"},{"$error":"#N/A"},{"$error":"#N/A"},{"$error":"#N/A"},{"$error":"#N/A"},{"$error":"#N/A"},{"$error":"#N/A"},{"$error":"#N/A"},{"$f":"AVERAGE(OFFSET(H581,0,0,Overview!$C$1))","v":{"$error":"#N/A"}},{"$f":"AVERAGE(OFFSET(H581,0,0,Overview!$C$2))","v":{"$error":"#N/A"}},{"$error":"#N/A"},{"$error":"#N/A"}]
[null,{"$error":"#N/A"},{"$error":"#N/A"},{"$error":"#N/A"},{"$error":"#N/A"},{"$error":"#N/A"},{"$error":"#N/A"},{"$error":"#N/A"},{"$error":"#N/A"},{"$error":"#N/A"},{"$f":"AVERAGE(OFFSET(H582,0,0,Overview!$C$1))","v":{"$error":"#N/A"}},{"$f":"AVERAGE(OFFSET(H582,0,0,Overview!$C$2))","v":{"$error":"#N/A"}},{"$error":"#N/A"},{"$error":"#N/A"}]
[null,{"$error":"#N/A"},{"$error":"#N/A"},{"$error":"#N/A"},{"$error":"#N/A"},{"$error":"#N/A"},{"$error":"#N/A"},{"$error":"#N/A"},{"$error":"#N/A"},{"$error":"#N/A"},{"$f":"AVERAGE(OFFSET(H583,0,0,Overview!$C$1))","v":{"$error":"#N/A"}},{"$f":"AVERAGE(OFFSET(H583,0,0,Overview!$C$2))","v":{"$error":"#N/A"}},{"$error":"#N/A"},{"$error":"#N/A"}]
[null,{"$error":"#N/A"},{"$error":"#N/A"},{"$error":"#N/A"},{"$error":"#N/A"},{"$error":"#N/A"},{"$error":"#N/A"},{"$error":"#N/A"},{"$error":"#N/A"},{"$error":"#N/A"},{"$f":"AVERAGE(OFFSET(H584,0,0,Overview!$C$1))","v":{"$error":"#N/A"}},{"$f":"AVERAGE(OFFSET(H584,0,0,Overview!$C$2))","v":{"$error":"#N/A"}},{"$error":"#N/A"},{"$error":"#N/A"}]
[null,{"$error":"#N/A"},{"$error":"#N/A"},{"$error":"#N/A"},{"$error":"#N/A"},{"$error":"#N/A"},{"$error":"#N/A"},{"$error":"#N/A"},{"$error":"#N/A"},{"$error":"#N/A"},{"$f":"AVERAGE(OFFSET(H585,0,0,Overview!$C$1))","v":{"$error":"#N/A"}},{"$f":"AVERAGE(OFFSET(H585,0,0,Overview!$C$2))","v":{"$error":"#N/A"}},{"$error":"#N/A"},{"$error":"#N/A"}]
[null,{"$error":"#N/A"},{"$error":"#N/A"},{"$error":"#N/A"},{"$error":"#N/A"},{"$error":"#N/A"},{"$error":"#N/A"},{"$error":"#N/A"},{"$error":"#N/A"},{"$error":"#N/A"},{"$f":"AVERAGE(OFFSET(H586,0,0,Overview!$C$1))","v":{"$error":"#N/A"}},{"$f":"AVERAGE(OFFSET(H586,0,0,Overview!$C$2))","v":{"$error":"#N/A"}},{"$error":"#N/A"},{"$error":"#N/A"}]
[null,{"$error":"#N/A"},{"$error":"#N/A"},{"$error":"#N/A"},{"$error":"#N/A"},{"$error":"#N/A"},{"$error":"#N/A"},{"$error":"#N/A"},{"$error":"#N/A"},{"$error":"#N/A"},{"$f":"AVERAGE(OFFSET(H587,0,0,Overview!$C$1))","v":{"$error":"#N/A"}},{"$f":"AVERAGE(OFFSET(H587,0,0,Overview!$C$2))","v":{"$error":"#N/A"}},{"$error":"#N/A"},{"$error":"#N/A"}]
[null,{"$error":"#N/A"},{"$error":"#N/A"},{"$error":"#N/A"},{"$error":"#N/A"},{"$error":"#N/A"},{"$error":"#N/A"},{"$error":"#N/A"},{"$error":"#N/A"},{"$error":"#N/A"},{"$f":"AVERAGE(OFFSET(H588,0,0,Overview!$C$1))","v":{"$error":"#N/A"}},{"$f":"AVERAGE(OFFSET(H588,0,0,Overview!$C$2))","v":{"$error":"#N/A"}},{"$error":"#N/A"},{"$error":"#N/A"}]
[null,{"$error":"#N/A"},{"$error":"#N/A"},{"$error":"#N/A"},{"$error":"#N/A"},{"$error":"#N/A"},{"$error":"#N/A"},{"$error":"#N/A"},{"$error":"#N/A"},{"$error":"#N/A"},{"$f":"AVERAGE(OFFSET(H589,0,0,Overview!$C$1))","v":{"$error":"#N/A"}},{"$f":"AVERAGE(OFFSET(H589,0,0,Overview!$C$2))","v":{"$error":"#N/A"}},{"$error":"#N/A"},{"$error":"#N/A"}]
[null,{"$error":"#N/A"},{"$error":"#N/A"},{"$error":"#N/A"},{"$error":"#N/A"},{"$error":"#N/A"},{"$error":"#N/A"},{"$error":"#N/A"},{"$error":"#N/A"},{"$error":"#N/A"},{"$f":"AVERAGE(OFFSET(H590,0,0,Overview!$C$1))","v":{"$error":"#N/A"}},{"$f":"AVERAGE(OFFSET(H590,0,0,Overview!$C$2))","v":{"$error":"#N/A"}},{"$error":"#N/A"},{"$error":"#N/A"}]
[null,{"$error":"#N/A"},{"$error":"#N/A"},{"$error":"#N/A"},{"$error":"#N/A"},{"$error":"#N/A"},{"$error":"#N/A"},{"$error":"#N/A"},{"$error":"#N/A"},{"$error":"#N/A"},{"$f":"AVERAGE(OFFSET(H591,0,0,Overview!$C$1))","v":{"$error":"#N/A"}},{"$f":"AVERAGE(OFFSET(H591,0,0,Overview!$C$2))","v":{"$error":"#N/A"}},{"$error":"#N/A"},{"$error":"#N/A"}]
[null,{"$error":"#N/A"},{"$error":"#N/A"},{"$error":"#N/A"},{"$error":"#N/A"},{"$error":"#N/A"},{"$error":"#N/A"},{"$error":"#N/A"},{"$error":"#N/A"},{"$error":"#N/A"},{"$f":"AVERAGE(OFFSET(H592,0,0,Overview!$C$1))","v":{"$error":"#N/A"}},{"$f":"AVERAGE(OFFSET(H592,0,0,Overview!$C$2))","v":{"$error":"#N/A"}},{"$error":"#N/A"},{"$error":"#N/A"}]
[null,{"$error":"#N/A"},{"$error":"#N/A"},{"$error":"#N/A"},{"$error":"#N/A"},{"$error":"#N/A"},{"$error":"#N/A"},{"$error":"#N/A"},{"$error":"#N/A"},{"$error":"#N/A"},{"$f":"AVERAGE(OFFSET(H593,0,0,Overview!$C$1))","v":{"$error":"#N/A"}},{"$f":"AVERAGE(OFFSET(H593,0,0,Overview!$C$2))","v":{"$error":"#N/A"}},{"$error":"#N/A"},{"$error":"#N/A"}]
[null,{"$error":"#N/A"},{"$error":"#N/A"},{"$error":"#N/A"},{"$error":"#N/A"},{"$error":"#N/A"},{"$error":"#N/A"},{"$error":"#N/A"},{"$error":"#N/A"},{"$error":"#N/A"},{"$f":"AVERAGE(OFFSET(H594,0,0,Overview!$C$1))","v":{"$error":"#N/A"}},{"$f":"AVERAGE(OFFSET(H594,0,0,Overview!$C$2))","v":{"$error":"#N/A"}},{"$error":"#N/A"},{"$error":"#N/A"}]
[null,{"$error":"#N/A"},{"$error":"#N/A"},{"$error":"#N/A"},{"$error":"#N/A"},{"$error":"#N/A"},{"$error":"#N/A"},{"$error":"#N/A"},{"$error":"#N/A"},{"$error":"#N/A"},{"$f":"AVERAGE(OFFSET(H595,0,0,Overview!$C$1))","v":{"$error":"#N/A"}},{"$f":"AVERAGE(OFFSET(H595,0,0,Overview!$C$2))","v":{"$error":"#N/A"}},{"$error":"#N/A"},{"$error":"#N/A"}]
[null,{"$error":"#N/A"},{"$error":"#N/A"},{"$error":"#N/A"},{"$error":"#N/A"},{"$error":"#N/A"},{"$error":"#N/A"},{"$error":"#N/A"},{"$error":"#N/A"},{"$error":"#N/A"},{"$f":"AVERAGE(OFFSET(H596,0,0,Overview!$C$1))","v":{"$error":"#N/A"}},{"$f":"AVERAGE(OFFSET(H596,0,0,Overview!$C$2))","v":{"$error":"#N/A"}},{"$error":"#N/A"},{"$error":"#N/A"}]
[null,{"$error":"#N/A"},{"$error":"#N/A"},{"$error":"#N/A"},{"$error":"#N/A"},{"$error":"#N/A"},{"$error":"#N/A"},{"$error":"#N/A"},{"$error":"#N/A"},{"$error":"#N/A"},{"$f":"AVERAGE(OFFSET(H597,0,0,Overview!$C$1))","v":{"$error":"#N/A"}},{"$f":"AVERAGE(OFFSET(H597,0,0,Overview!$C$2))","v":{"$error":"#N/A"}},{"$error":"#N/A"},{"$error":"#N/A"}]
[null,{"$error":"#N/A"},{"$error":"#N/A"},{"$error":"#N/A"},{"$error":"#N/A"},{"$error":"#N/A"},{"$error":"#N/A"},{"$error":"#N/A"},{"$error":"#N/A"},{"$error":"#N/A"},{"$f":"AVERAGE(OFFSET(H598,0,0,Overview!$C$1))","v":{"$error":"#N/A"}},{"$f":"AVERAGE(OFFSET(H598,0,0,Overview!$C$2))","v":{"$error":"#N/A"}},{"$error":"#N/A"},{"$error":"#N/A"}]
[null,{"$error":"#N/A"},{"$error":"#N/A"},{"$error":"#N/A"},{"$error":"#N/A"},{"$error":"#N/A"},{"$error":"#N/A"},{"$error":"#N/A"},{"$error":"#N/A"},{"$error":"#N/A"},{"$f":"AVERAGE(OFFSET(H599,0,0,Overview!$C$1))","v":{"$error":"#N/A"}},{"$f":"AVERAGE(OFFSET(H599,0,0,Overview!$C$2))","v":{"$error":"#N/A"}},{"$error":"#N/A"},{"$error":"#N/A"}]
[null,{"$error":"#N/A"},{"$error":"#N/A"},{"$error":"#N/A"},{"$error":"#N/A"},{"$error":"#N/A"},{"$error":"#N/A"},{"$error":"#N/A"},{"$error":"#N/A"},{"$error":"#N/A"},{"$f":"AVERAGE(OFFSET(H600,0,0,Overview!$C$1))","v":{"$error":"#N/A"}},{"$f":"AVERAGE(OFFSET(H600,0,0,Overview!$C$2))","v":{"$error":"#N/A"}},{"$error":"#N/A"},{"$error":"#N/A"}]
[null,{"$error":"#N/A"},{"$error":"#N/A"},{"$error":"#N/A"},{"$error":"#N/A"},{"$error":"#N/A"},{"$error":"#N/A"},{"$error":"#N/A"},{"$error":"#N/A"},{"$error":"#N/A"},{"$f":"AVERAGE(OFFSET(H601,0,0,Overview!$C$1))","v":{"$error":"#N/A"}},{"$f":"AVERAGE(OFFSET(H601,0,0,Overview!$C$2))","v":{"$error":"#N/A"}},{"$error":"#N/A"},{"$error":"#N/A"}]
[null,{"$error":"#N/A"},{"$error":"#N/A"},{"$error":"#N/A"},{"$error":"#N/A"},{"$error":"#N/A"},{"$error":"#N/A"},{"$error":"#N/A"},{"$error":"#N/A"},{"$error":"#N/A"},{"$f":"AVERAGE(OFFSET(H602,0,0,Overview!$C$1))","v":{"$error":"#N/A"}},{"$f":"AVERAGE(OFFSET(H602,0,0,Overview!$C$2))","v":{"$error":"#N/A"}},{"$error":"#N/A"},{"$error":"#N/A"}]
[null,{"$error":"#N/A"},{"$error":"#N/A"},{"$error":"#N/A"},{"$error":"#N/A"},{"$error":"#N/A"},{"$error":"#N/A"},{"$error":"#N/A"},{"$error":"#N/A"},{"$error":"#N/A"},{"$f":"AVERAGE(OFFSET(H603,0,0,Overview!$C$1))","v":{"$error":"#N/A"}},{"$f":"AVERAGE(OFFSET(H603,0,0,Overview!$C$2))","v":{"$error":"#N/A"}},{"$error":"#N/A"},{"$error":"#N/A"}]
[null,{"$error":"#N/A"},{"$error":"#N/A"},{"$error":"#N/A"},{"$error":"#N/A"},{"$error":"#N/A"},{"$error":"#N/A"},{"$error":"#N/A"},{"$error":"#N/A"},{"$error":"#N/A"},{"$f":"AVERAGE(OFFSET(H604,0,0,Overview!$C$1))","v":{"$error":"#N/A"}},{"$f":"AVERAGE(OFFSET(H604,0,0,Overview!$C$2))","v":{"$error":"#N/A"}},{"$error":"#N/A"},{"$error":"#N/A"}]
[null,{"$error":"#N/A"},{"$error":"#N/A"},{"$error":"#N/A"},{"$error":"#N/A"},{"$error":"#N/A"},{"$error":"#N/A"},{"$error":"#N/A"},{"$error":"#N/A"},{"$error":"#N/A"},{"$f":"AVERAGE(OFFSET(H605,0,0,Overview!$C$1))","v":{"$error":"#N/A"}},{"$f":"AVERAGE(OFFSET(H605,0,0,Overview!$C$2))","v":{"$error":"#N/A"}},{"$error":"#N/A"},{"$error":"#N/A"}]
[null,{"$error":"#N/A"},{"$error":"#N/A"},{"$error":"#N/A"},{"$error":"#N/A"},{"$error":"#N/A"},{"$error":"#N/A"},{"$error":"#N/A"},{"$error":"#N/A"},{"$error":"#N/A"},{"$f":"AVERAGE(OFFSET(H606,0,0,Overview!$C$1))","v":{"$error":"#N/A"}},{"$f":"AVERAGE(OFFSET(H606,0,0,Overview!$C$2))","v":{"$error":"#N/A"}},{"$error":"#N/A"},{"$error":"#N/A"}]
[null,{"$error":"#N/A"},{"$error":"#N/A"},{"$error":"#N/A"},{"$error":"#N/A"},{"$error":"#N/A"},{"$error":"#N/A"},{"$error":"#N/A"},{"$error":"#N/A"},{"$error":"#N/A"},{"$f":"AVERAGE(OFFSET(H607,0,0,Overview!$C$1))","v":{"$error":"#N/A"}},{"$f":"AVERAGE(OFFSET(H607,0,0,Overview!$C$2))","v":{"$error":"#N/A"}},{"$error":"#N/A"},{"$error":"#N/A"}]
[null,{"$error":"#N/A"},{"$error":"#N/A"},{"$error":"#N/A"},{"$error":"#N/A"},{"$error":"#N/A"},{"$error":"#N/A"},{"$error":"#N/A"},{"$error":"#N/A"},{"$error":"#N/A"},{"$f":"AVERAGE(OFFSET(H608,0,0,Overview!$C$1))","v":{"$error":"#N/A"}},{"$f":"AVERAGE(OFFSET(H608,0,0,Overview!$C$2))","v":{"$error":"#N/A"}},{"$error":"#N/A"},{"$error":"#N/A"}]
[null,{"$error":"#N/A"},{"$error":"#N/A"},{"$error":"#N/A"},{"$error":"#N/A"},{"$error":"#N/A"},{"$error":"#N/A"},{"$error":"#N/A"},{"$error":"#N/A"},{"$error":"#N/A"},{"$f":"AVERAGE(OFFSET(H609,0,0,Overview!$C$1))","v":{"$error":"#N/A"}},{"$f":"AVERAGE(OFFSET(H609,0,0,Overview!$C$2))","v":{"$error":"#N/A"}},{"$error":"#N/A"},{"$error":"#N/A"}]
[null,{"$error":"#N/A"},{"$error":"#N/A"},{"$error":"#N/A"},{"$error":"#N/A"},{"$error":"#N/A"},{"$error":"#N/A"},{"$error":"#N/A"},{"$error":"#N/A"},{"$error":"#N/A"},{"$f":"AVERAGE(OFFSET(H610,0,0,Overview!$C$1))","v":{"$error":"#N/A"}},{"$f":"AVERAGE(OFFSET(H610,0,0,Overview!$C$2))","v":{"$error":"#N/A"}},{"$error":"#N/A"},{"$error":"#N/A"}]
[null,{"$error":"#N/A"},{"$error":"#N/A"},{"$error":"#N/A"},{"$error":"#N/A"},{"$error":"#N/A"},{"$error":"#N/A"},{"$error":"#N/A"},{"$error":"#N/A"},{"$error":"#N/A"},{"$f":"AVERAGE(OFFSET(H611,0,0,Overview!$C$1))","v":{"$error":"#N/A"}},{"$f":"AVERAGE(OFFSET(H611,0,0,Overview!$C$2))","v":{"$error":"#N/A"}},{"$error":"#N/A"},{"$error":"#N/A"}]
[null,{"$error":"#N/A"},{"$error":"#N/A"},{"$error":"#N/A"},{"$error":"#N/A"},{"$error":"#N/A"},{"$error":"#N/A"},{"$error":"#N/A"},{"$error":"#N/A"},{"$error":"#N/A"},{"$f":"AVERAGE(OFFSET(H612,0,0,Overview!$C$1))","v":{"$error":"#N/A"}},{"$f":"AVERAGE(OFFSET(H612,0,0,Overview!$C$2))","v":{"$error":"#N/A"}},{"$error":"#N/A"},{"$error":"#N/A"}]
[null,{"$error":"#N/A"},{"$error":"#N/A"},{"$error":"#N/A"},{"$error":"#N/A"},{"$error":"#N/A"},{"$error":"#N/A"},{"$error":"#N/A"},{"$error":"#N/A"},{"$error":"#N/A"},{"$f":"AVERAGE(OFFSET(H613,0,0,Overview!$C$1))","v":{"$error":"#N/A"}},{"$f":"AVERAGE(OFFSET(H613,0,0,Overview!$C$2))","v":{"$error":"#N/A"}},{"$error":"#N/A"},{"$error":"#N/A"}]
[null,{"$error":"#N/A"},{"$error":"#N/A"},{"$error":"#N/A"},{"$error":"#N/A"},{"$error":"#N/A"},{"$error":"#N/A"},{"$error":"#N/A"},{"$error":"#N/A"},{"$error":"#N/A"},{"$f":"AVERAGE(OFFSET(H614,0,0,Overview!$C$1))","v":{"$error":"#N/A"}},{"$f":"AVERAGE(OFFSET(H614,0,0,Overview!$C$2))","v":{"$error":"#N/A"}},{"$error":"#N/A"},{"$error":"#N/A"}]
[null,{"$error":"#N/A"},{"$error":"#N/A"},{"$error":"#N/A"},{"$error":"#N/A"},{"$error":"#N/A"},{"$error":"#N/A"},{"$error":"#N/A"},{"$error":"#N/A"},{"$error":"#N/A"},{"$f":"AVERAGE(OFFSET(H615,0,0,Overview!$C$1))","v":{"$error":"#N/A"}},{"$f":"AVERAGE(OFFSET(H615,0,0,Overview!$C$2))","v":{"$error":"#N/A"}},{"$error":"#N/A"},{"$error":"#N/A"}]
[null,{"$error":"#N/A"},{"$error":"#N/A"},{"$error":"#N/A"},{"$error":"#N/A"},{"$error":"#N/A"},{"$error":"#N/A"},{"$error":"#N/A"},{"$error":"#N/A"},{"$error":"#N/A"},{"$f":"AVERAGE(OFFSET(H616,0,0,Overview!$C$1))","v":{"$error":"#N/A"}},{"$f":"AVERAGE(OFFSET(H616,0,0,Overview!$C$2))","v":{"$error":"#N/A"}},{"$error":"#N/A"},{"$error":"#N/A"}]
[null,{"$error":"#N/A"},{"$error":"#N/A"},{"$error":"#N/A"},{"$error":"#N/A"},{"$error":"#N/A"},{"$error":"#N/A"},{"$error":"#N/A"},{"$error":"#N/A"},{"$error":"#N/A"},{"$f":"AVERAGE(OFFSET(H617,0,0,Overview!$C$1))","v":{"$error":"#N/A"}},{"$f":"AVERAGE(OFFSET(H617,0,0,Overview!$C$2))","v":{"$error":"#N/A"}},{"$error":"#N/A"},{"$error":"#N/A"}]
[null,{"$error":"#N/A"},{"$error":"#N/A"},{"$error":"#N/A"},{"$error":"#N/A"},{"$error":"#N/A"},{"$error":"#N/A"},{"$error":"#N/A"},{"$error":"#N/A"},{"$error":"#N/A"},{"$f":"AVERAGE(OFFSET(H618,0,0,Overview!$C$1))","v":{"$error":"#N/A"}},{"$f":"AVERAGE(OFFSET(H618,0,0,Overview!$C$2))","v":{"$error":"#N/A"}},{"$error":"#N/A"},{"$error":"#N/A"}]
[null,{"$error":"#N/A"},{"$error":"#N/A"},{"$error":"#N/A"},{"$error":"#N/A"},{"$error":"#N/A"},{"$error":"#N/A"},{"$error":"#N/A"},{"$error":"#N/A"},{"$error":"#N/A"},{"$f":"AVERAGE(OFFSET(H619,0,0,Overview!$C$1))","v":{"$error":"#N/A"}},{"$f":"AVERAGE(OFFSET(H619,0,0,Overview!$C$2))","v":{"$error":"#N/A"}},{"$error":"#N/A"},{"$error":"#N/A"}]
[null,{"$error":"#N/A"},{"$error":"#N/A"},{"$error":"#N/A"},{"$error":"#N/A"},{"$error":"#N/A"},{"$error":"#N/A"},{"$error":"#N/A"},{"$error":"#N/A"},{"$error":"#N/A"},{"$f":"AVERAGE(OFFSET(H620,0,0,Overview!$C$1))","v":{"$error":"#N/A"}},{"$f":"AVERAGE(OFFSET(H620,0,0,Overview!$C$2))","v":{"$error":"#N/A"}},{"$error":"#N/A"},{"$error":"#N/A"}]
[null,{"$error":"#N/A"},{"$error":"#N/A"},{"$error":"#N/A"},{"$error":"#N/A"},{"$error":"#N/A"},{"$error":"#N/A"},{"$error":"#N/A"},{"$error":"#N/A"},{"$error":"#N/A"},{"$f":"AVERAGE(OFFSET(H621,0,0,Overview!$C$1))","v":{"$error":"#N/A"}},{"$f":"AVERAGE(OFFSET(H621,0,0,Overview!$C$2))","v":{"$error":"#N/A"}},{"$error":"#N/A"},{"$error":"#N/A"}]
[null,{"$error":"#N/A"},{"$error":"#N/A"},{"$error":"#N/A"},{"$error":"#N/A"},{"$error":"#N/A"},{"$error":"#N/A"},{"$error":"#N/A"},{"$error":"#N/A"},{"$error":"#N/A"},{"$f":"AVERAGE(OFFSET(H622,0,0,Overview!$C$1))","v":{"$error":"#N/A"}},{"$f":"AVERAGE(OFFSET(H622,0,0,Overview!$C$2))","v":{"$error":"#N/A"}},{"$error":"#N/A"},{"$error":"#N/A"}]
[null,{"$error":"#N/A"},{"$error":"#N/A"},{"$error":"#N/A"},{"$error":"#N/A"},{"$error":"#N/A"},{"$error":"#N/A"},{"$error":"#N/A"},{"$error":"#N/A"},{"$error":"#N/A"},{"$f":"AVERAGE(OFFSET(H623,0,0,Overview!$C$1))","v":{"$error":"#N/A"}},{"$f":"AVERAGE(OFFSET(H623,0,0,Overview!$C$2))","v":{"$error":"#N/A"}},{"$error":"#N/A"},{"$error":"#N/A"}]
[null,{"$error":"#N/A"},{"$error":"#N/A"},{"$error":"#N/A"},{"$error":"#N/A"},{"$error":"#N/A"},{"$error":"#N/A"},{"$error":"#N/A"},{"$error":"#N/A"},{"$error":"#N/A"},{"$f":"AVERAGE(OFFSET(H624,0,0,Overview!$C$1))","v":{"$error":"#N/A"}},{"$f":"AVERAGE(OFFSET(H624,0,0,Overview!$C$2))","v":{"$error":"#N/A"}},{"$error":"#N/A"},{"$error":"#N/A"}]
[null,{"$error":"#N/A"},{"$error":"#N/A"},{"$error":"#N/A"},{"$error":"#N/A"},{"$error":"#N/A"},{"$error":"#N/A"},{"$error":"#N/A"},{"$error":"#N/A"},{"$error":"#N/A"},{"$f":"AVERAGE(OFFSET(H625,0,0,Overview!$C$1))","v":{"$error":"#N/A"}},{"$f":"AVERAGE(OFFSET(H625,0,0,Overview!$C$2))","v":{"$error":"#N/A"}},{"$error":"#N/A"},{"$error":"#N/A"}]
[null,{"$error":"#N/A"},{"$error":"#N/A"},{"$error":"#N/A"},{"$error":"#N/A"},{"$error":"#N/A"},{"$error":"#N/A"},{"$error":"#N/A"},{"$error":"#N/A"},{"$error":"#N/A"},{"$f":"AVERAGE(OFFSET(H626,0,0,Overview!$C$1))","v":{"$error":"#N/A"}},{"$f":"AVERAGE(OFFSET(H626,0,0,Overview!$C$2))","v":{"$error":"#N/A"}},{"$error":"#N/A"},{"$error":"#N/A"}]
[null,{"$error":"#N/A"},{"$error":"#N/A"},{"$error":"#N/A"},{"$error":"#N/A"},{"$error":"#N/A"},{"$error":"#N/A"},{"$error":"#N/A"},{"$error":"#N/A"},{"$error":"#N/A"},{"$f":"AVERAGE(OFFSET(H627,0,0,Overview!$C$1))","v":{"$error":"#N/A"}},{"$f":"AVERAGE(OFFSET(H627,0,0,Overview!$C$2))","v":{"$error":"#N/A"}},{"$error":"#N/A"},{"$error":"#N/A"}]
[null,{"$error":"#N/A"},{"$error":"#N/A"},{"$error":"#N/A"},{"$error":"#N/A"},{"$error":"#N/A"},{"$error":"#N/A"},{"$error":"#N/A"},{"$error":"#N/A"},{"$error":"#N/A"},{"$f":"AVERAGE(OFFSET(H628,0,0,Overview!$C$1))","v":{"$error":"#N/A"}},{"$f":"AVERAGE(OFFSET(H628,0,0,Overview!$C$2))","v":{"$error":"#N/A"}},{"$error":"#N/A"},{"$error":"#N/A"}]
[null,{"$error":"#N/A"},{"$error":"#N/A"},{"$error":"#N/A"},{"$error":"#N/A"},{"$error":"#N/A"},{"$error":"#N/A"},{"$error":"#N/A"},{"$error":"#N/A"},{"$error":"#N/A"},{"$f":"AVERAGE(OFFSET(H629,0,0,Overview!$C$1))","v":{"$error":"#N/A"}},{"$f":"AVERAGE(OFFSET(H629,0,0,Overview!$C$2))","v":{"$error":"#N/A"}},{"$error":"#N/A"},{"$error":"#N/A"}]
[null,{"$error":"#N/A"},{"$error":"#N/A"},{"$error":"#N/A"},{"$error":"#N/A"},{"$error":"#N/A"},{"$error":"#N/A"},{"$error":"#N/A"},{"$error":"#N/A"},{"$error":"#N/A"},{"$f":"AVERAGE(OFFSET(H630,0,0,Overview!$C$1))","v":{"$error":"#N/A"}},{"$f":"AVERAGE(OFFSET(H630,0,0,Overview!$C$2))","v":{"$error":"#N/A"}},{"$error":"#N/A"},{"$error":"#N/A"}]
[null,{"$error":"#N/A"},{"$error":"#N/A"},{"$error":"#N/A"},{"$error":"#N/A"},{"$error":"#N/A"},{"$error":"#N/A"},{"$error":"#N/A"},{"$error":"#N/A"},{"$error":"#N/A"},{"$f":"AVERAGE(OFFSET(H631,0,0,Overview!$C$1))","v":{"$error":"#N/A"}},{"$f":"AVERAGE(OFFSET(H631,0,0,Overview!$C$2))","v":{"$error":"#N/A"}},{"$error":"#N/A"},{"$error":"#N/A"}]
[null,{"$error":"#N/A"},{"$error":"#N/A"},{"$error":"#N/A"},{"$error":"#N/A"},{"$error":"#N/A"},{"$error":"#N/A"},{"$error":"#N/A"},{"$error":"#N/A"},{"$error":"#N/A"},{"$f":"AVERAGE(OFFSET(H632,0,0,Overview!$C$1))","v":{"$error":"#N/A"}},{"$f":"AVERAGE(OFFSET(H632,0,0,Overview!$C$2))","v":{"$error":"#N/A"}},{"$error":"#N/A"},{"$error":"#N/A"}]
[null,{"$error":"#N/A"},{"$error":"#N/A"},{"$error":"#N/A"},{"$error":"#N/A"},{"$error":"#N/A"},{"$error":"#N/A"},{"$error":"#N/A"},{"$error":"#N/A"},{"$error":"#N/A"},{"$f":"AVERAGE(OFFSET(H633,0,0,Overview!$C$1))","v":{"$error":"#N/A"}},{"$f":"AVERAGE(OFFSET(H633,0,0,Overview!$C$2))","v":{"$error":"#N/A"}},{"$error":"#N/A"},{"$error":"#N/A"}]
[null,{"$error":"#N/A"},{"$error":"#N/A"},{"$error":"#N/A"},{"$error":"#N/A"},{"$error":"#N/A"},{"$error":"#N/A"},{"$error":"#N/A"},{"$error":"#N/A"},{"$error":"#N/A"},{"$f":"AVERAGE(OFFSET(H634,0,0,Overview!$C$1))","v":{"$error":"#N/A"}},{"$f":"AVERAGE(OFFSET(H634,0,0,Overview!$C$2))","v":{"$error":"#N/A"}},{"$error":"#N/A"},{"$error":"#N/A"}]
[null,{"$error":"#N/A"},{"$error":"#N/A"},{"$error":"#N/A"},{"$error":"#N/A"},{"$error":"#N/A"},{"$error":"#N/A"},{"$error":"#N/A"},{"$error":"#N/A"},{"$error":"#N/A"},{"$f":"AVERAGE(OFFSET(H635,0,0,Overview!$C$1))","v":{"$error":"#N/A"}},{"$f":"AVERAGE(OFFSET(H635,0,0,Overview!$C$2))","v":{"$error":"#N/A"}},{"$error":"#N/A"},{"$error":"#N/A"}]
[null,{"$error":"#N/A"},{"$error":"#N/A"},{"$error":"#N/A"},{"$error":"#N/A"},{"$error":"#N/A"},{"$error":"#N/A"},{"$error":"#N/A"},{"$error":"#N/A"},{"$error":"#N/A"},{"$f":"AVERAGE(OFFSET(H636,0,0,Overview!$C$1))","v":{"$error":"#N/A"}},{"$f":"AVERAGE(OFFSET(H636,0,0,Overview!$C$2))","v":{"$error":"#N/A"}},{"$error":"#N/A"},{"$error":"#N/A"}]
[null,{"$error":"#N/A"},{"$error":"#N/A"},{"$error":"#N/A"},{"$error":"#N/A"},{"$error":"#N/A"},{"$error":"#N/A"},{"$error":"#N/A"},{"$error":"#N/A"},{"$error":"#N/A"},{"$f":"AVERAGE(OFFSET(H637,0,0,Overview!$C$1))","v":{"$error":"#N/A"}},{"$f":"AVERAGE(OFFSET(H637,0,0,Overview!$C$2))","v":{"$error":"#N/A"}},{"$error":"#N/A"},{"$error":"#N/A"}]
[null,{"$error":"#N/A"},{"$error":"#N/A"},{"$error":"#N/A"},{"$error":"#N/A"},{"$error":"#N/A"},{"$error":"#N/A"},{"$error":"#N/A"},{"$error":"#N/A"},{"$error":"#N/A"},{"$f":"AVERAGE(OFFSET(H638,0,0,Overview!$C$1))","v":{"$error":"#N/A"}},{"$f":"AVERAGE(OFFSET(H638,0,0,Overview!$C$2))","v":{"$error":"#N/A"}},{"$error":"#N/A"},{"$error":"#N/A"}]
[null,{"$error":"#N/A"},{"$error":"#N/A"},{"$error":"#N/A"},{"$error":"#N/A"},{"$error":"#N/A"},{"$error":"#N/A"},{"$error":"#N/A"},{"$error":"#N/A"},{"$error":"#N/A"},{"$f":"AVERAGE(OFFSET(H639,0,0,Overview!$C$1))","v":{"$error":"#N/A"}},{"$f":"AVERAGE(OFFSET(H639,0,0,Overview!$C$2))","v":{"$error":"#N/A"}},{"$error":"#N/A"},{"$error":"#N/A"}]
[null,{"$error":"#N/A"},{"$error":"#N/A"},{"$error":"#N/A"},{"$error":"#N/A"},{"$error":"#N/A"},{"$error":"#N/A"},{"$error":"#N/A"},{"$error":"#N/A"},{"$error":"#N/A"},{"$f":"AVERAGE(OFFSET(H640,0,0,Overview!$C$1))","v":{"$error":"#N/A"}},{"$f":"AVERAGE(OFFSET(H640,0,0,Overview!$C$2))","v":{"$error":"#N/A"}},{"$error":"#N/A"},{"$error":"#N/A"}]
[null,{"$error":"#N/A"},{"$error":"#N/A"},{"$error":"#N/A"},{"$error":"#N/A"},{"$error":"#N/A"},{"$error":"#N/A"},{"$error":"#N/A"},{"$error":"#N/A"},{"$error":"#N/A"},{"$f":"AVERAGE(OFFSET(H641,0,0,Overview!$C$1))","v":{"$error":"#N/A"}},{"$f":"AVERAGE(OFFSET(H641,0,0,Overview!$C$2))","v":{"$error":"#N/A"}},{"$error":"#N/A"},{"$error":"#N/A"}]
[null,{"$error":"#N/A"},{"$f":"IF(TEXT(D642,\"MMM\")=TEXT(D643,\"MMM\"),\"\",TEXT(D642,\"MMM\"))","v":{"$error":"#N/A"}},{"$error":"#N/A"},{"$error":"#N/A"},{"$error":"#N/A"},{"$error":"#N/A"},{"$error":"#N/A"},{"$error":"#N/A"},{"$error":"#N/A"},{"$f":"AVERAGE(OFFSET(H642,0,0,Overview!$C$1))","v":{"$error":"#N/A"}},{"$f":"AVERAGE(OFFSET(H642,0,0,Overview!$C$2))","v":{"$error":"#N/A"}},{"$error":"#N/A"},{"$error":"#N/A"}]
[null,{"$error":"#N/A"},{"$error":"#N/A"},{"$error":"#N/A"},{"$error":"#N/A"},{"$error":"#N/A"},{"$error":"#N/A"},{"$error":"#N/A"},{"$error":"#N/A"},{"$error":"#N/A"},{"$f":"AVERAGE(OFFSET(H643,0,0,Overview!$C$1))","v":{"$error":"#N/A"}},{"$f":"AVERAGE(OFFSET(H643,0,0,Overview!$C$2))","v":{"$error":"#N/A"}},{"$f":"IF((L644<K644)*(L643>K643),K643,\"\")","v":{"$error":"#N/A"}},{"$f":"IF((L644>K644)*(L643<K643),K643,\"\")","v":{"$error":"#N/A"}}]
[null,{"$f":"IF(YEAR(D644)=YEAR(D645),\"\",YEAR(D644))","v":{"$error":"#N/A"}},{"$error":"#N/A"},{"$error":"#N/A"},{"$error":"#N/A"},{"$error":"#N/A"},{"$error":"#N/A"},{"$error":"#N/A"},{"$error":"#N/A"},{"$error":"#N/A"},{"$f":"AVERAGE(OFFSET(H644,0,0,Overview!$C$1))","v":{"$error":"#N/A"}},{"$f":"AVERAGE(OFFSET(H644,0,0,Overview!$C$2))","v":{"$error":"#N/A"}},{"$error":"#N/A"},{"$error":"#N/A"}]
[null,{"$error":"#N/A"},{"$error":"#N/A"},{"$error":"#N/A"},{"$error":"#N/A"},{"$error":"#N/A"},{"$error":"#N/A"},{"$error":"#N/A"},{"$error":"#N/A"},{"$error":"#N/A"},{"$f":"AVERAGE(OFFSET(H645,0,0,Overview!$C$1))","v":{"$error":"#N/A"}},{"$f":"AVERAGE(OFFSET(H645,0,0,Overview!$C$2))","v":{"$error":"#N/A"}},{"$error":"#N/A"},{"$error":"#N/A"}]
[null,{"$error":"#N/A"},{"$error":"#N/A"},{"$error":"#N/A"},{"$error":"#N/A"},{"$error":"#N/A"},{"$error":"#N/A"},{"$error":"#N/A"},{"$error":"#N/A"},{"$error":"#N/A"},{"$f":"AVERAGE(OFFSET(H646,0,0,Overview!$C$1))","v":{"$error":"#N/A"}},{"$f":"AVERAGE(OFFSET(H646,0,0,Overview!$C$2))","v":{"$error":"#N/A"}},{"$error":"#N/A"},{"$error":"#N/A"}]
[null,{"$error":"#N/A"},{"$error":"#N/A"},{"$error":"#N/A"},{"$error":"#N/A"},{"$error":"#N/A"},{"$error":"#N/A"},{"$error":"#N/A"},{"$error":"#N/A"},{"$error":"#N/A"},{"$f":"AVERAGE(OFFSET(H647,0,0,Overview!$C$1))","v":{"$error":"#N/A"}},{"$f":"AVERAGE(OFFSET(H647,0,0,Overview!$C$2))","v":{"$error":"#N/A"}},{"$error":"#N/A"},{"$error":"#N/A"}]
[null,{"$error":"#N/A"},{"$error":"#N/A"},{"$error":"#N/A"},{"$error":"#N/A"},{"$error":"#N/A"},{"$error":"#N/A"},{"$error":"#N/A"},{"$error":"#N/A"},{"$error":"#N/A"},{"$f":"AVERAGE(OFFSET(H648,0,0,Overview!$C$1))","v":{"$error":"#N/A"}},{"$f":"AVERAGE(OFFSET(H648,0,0,Overview!$C$2))","v":{"$error":"#N/A"}},{"$error":"#N/A"},{"$error":"#N/A"}]
[null,{"$error":"#N/A"},{"$error":"#N/A"},{"$error":"#N/A"},{"$error":"#N/A"},{"$error":"#N/A"},{"$error":"#N/A"},{"$error":"#N/A"},{"$error":"#N/A"},{"$error":"#N/A"},{"$f":"AVERAGE(OFFSET(H649,0,0,Overview!$C$1))","v":{"$error":"#N/A"}},{"$f":"AVERAGE(OFFSET(H649,0,0,Overview!$C$2))","v":{"$error":"#N/A"}},{"$error":"#N/A"},{"$error":"#N/A"}]
[null,{"$error":"#N/A"},{"$error":"#N/A"},{"$error":"#N/A"},{"$error":"#N/A"},{"$error":"#N/A"},{"$error":"#N/A"},{"$error":"#N/A"},{"$error":"#N/A"},{"$error":"#N/A"},{"$f":"AVERAGE(OFFSET(H650,0,0,Overview!$C$1))","v":{"$error":"#N/A"}},{"$f":"AVERAGE(OFFSET(H650,0,0,Overview!$C$2))","v":{"$error":"#N/A"}},{"$error":"#N/A"},{"$error":"#N/A"}]
[null,{"$error":"#N/A"},{"$error":"#N/A"},{"$error":"#N/A"},{"$error":"#N/A"},{"$error":"#N/A"},{"$error":"#N/A"},{"$error":"#N/A"},{"$error":"#N/A"},{"$error":"#N/A"},{"$f":"AVERAGE(OFFSET(H651,0,0,Overview!$C$1))","v":{"$error":"#N/A"}},{"$f":"AVERAGE(OFFSET(H651,0,0,Overview!$C$2))","v":{"$error":"#N/A"}},{"$error":"#N/A"},{"$error":"#N/A"}]
[null,{"$error":"#N/A"},{"$error":"#N/A"},{"$error":"#N/A"},{"$error":"#N/A"},{"$error":"#N/A"},{"$error":"#N/A"},{"$error":"#N/A"},{"$error":"#N/A"},{"$error":"#N/A"},{"$f":"AVERAGE(OFFSET(H652,0,0,Overview!$C$1))","v":{"$error":"#N/A"}},{"$f":"AVERAGE(OFFSET(H652,0,0,Overview!$C$2))","v":{"$error":"#N/A"}},{"$error":"#N/A"},{"$error":"#N/A"}]
[null,{"$error":"#N/A"},{"$error":"#N/A"},{"$error":"#N/A"},{"$error":"#N/A"},{"$error":"#N/A"},{"$error":"#N/A"},{"$error":"#N/A"},{"$error":"#N/A"},{"$error":"#N/A"},{"$f":"AVERAGE(OFFSET(H653,0,0,Overview!$C$1))","v":{"$error":"#N/A"}},{"$f":"AVERAGE(OFFSET(H653,0,0,Overview!$C$2))","v":{"$error":"#N/A"}},{"$error":"#N/A"},{"$error":"#N/A"}]
[null,{"$error":"#N/A"},{"$error":"#N/A"},{"$error":"#N/A"},{"$error":"#N/A"},{"$error":"#N/A"},{"$error":"#N/A"},{"$error":"#N/A"},{"$error":"#N/A"},{"$error":"#N/A"},{"$f":"AVERAGE(OFFSET(H654,0,0,Overview!$C$1))","v":{"$error":"#N/A"}},{"$f":"AVERAGE(OFFSET(H654,0,0,Overview!$C$2))","v":{"$error":"#N/A"}},{"$error":"#N/A"},{"$error":"#N/A"}]
[null,{"$error":"#N/A"},{"$error":"#N/A"},{"$error":"#N/A"},{"$error":"#N/A"},{"$error":"#N/A"},{"$error":"#N/A"},{"$error":"#N/A"},{"$error":"#N/A"},{"$error":"#N/A"},{"$f":"AVERAGE(OFFSET(H655,0,0,Overview!$C$1))","v":{"$error":"#N/A"}},{"$f":"AVERAGE(OFFSET(H655,0,0,Overview!$C$2))","v":{"$error":"#N/A"}},{"$error":"#N/A"},{"$error":"#N/A"}]
[null,{"$error":"#N/A"},{"$error":"#N/A"},{"$error":"#N/A"},{"$error":"#N/A"},{"$error":"#N/A"},{"$error":"#N/A"},{"$error":"#N/A"},{"$error":"#N/A"},{"$error":"#N/A"},{"$f":"AVERAGE(OFFSET(H656,0,0,Overview!$C$1))","v":{"$error":"#N/A"}},{"$f":"AVERAGE(OFFSET(H656,0,0,Overview!$C$2))","v":{"$error":"#N/A"}},{"$error":"#N/A"},{"$error":"#N/A"}]
[null,{"$error":"#N/A"},{"$error":"#N/A"},{"$error":"#N/A"},{"$error":"#N/A"},{"$error":"#N/A"},{"$error":"#N/A"},{"$error":"#N/A"},{"$error":"#N/A"},{"$error":"#N/A"},{"$f":"AVERAGE(OFFSET(H657,0,0,Overview!$C$1))","v":{"$error":"#N/A"}},{"$f":"AVERAGE(OFFSET(H657,0,0,Overview!$C$2))","v":{"$error":"#N/A"}},{"$error":"#N/A"},{"$error":"#N/A"}]
[null,{"$error":"#N/A"},{"$error":"#N/A"},{"$error":"#N/A"},{"$error":"#N/A"},{"$error":"#N/A"},{"$error":"#N/A"},{"$error":"#N/A"},{"$error":"#N/A"},{"$error":"#N/A"},{"$f":"AVERAGE(OFFSET(H658,0,0,Overview!$C$1))","v":{"$error":"#N/A"}},{"$f":"AVERAGE(OFFSET(H658,0,0,Overview!$C$2))","v":{"$error":"#N/A"}},{"$error":"#N/A"},{"$error":"#N/A"}]
[null,{"$error":"#N/A"},{"$error":"#N/A"},{"$error":"#N/A"},{"$error":"#N/A"},{"$error":"#N/A"},{"$error":"#N/A"},{"$error":"#N/A"},{"$error":"#N/A"},{"$error":"#N/A"},{"$f":"AVERAGE(OFFSET(H659,0,0,Overview!$C$1))","v":{"$error":"#N/A"}},{"$f":"AVERAGE(OFFSET(H659,0,0,Overview!$C$2))","v":{"$error":"#N/A"}},{"$error":"#N/A"},{"$error":"#N/A"}]
[null,{"$error":"#N/A"},{"$error":"#N/A"},{"$error":"#N/A"},{"$error":"#N/A"},{"$error":"#N/A"},{"$error":"#N/A"},{"$error":"#N/A"},{"$error":"#N/A"},{"$error":"#N/A"},{"$f":"AVERAGE(OFFSET(H660,0,0,Overview!$C$1))","v":{"$error":"#N/A"}},{"$f":"AVERAGE(OFFSET(H660,0,0,Overview!$C$2))","v":{"$error":"#N/A"}},{"$error":"#N/A"},{"$error":"#N/A"}]
[null,{"$error":"#N/A"},{"$error":"#N/A"},{"$error":"#N/A"},{"$error":"#N/A"},{"$error":"#N/A"},{"$error":"#N/A"},{"$error":"#N/A"},{"$error":"#N/A"},{"$error":"#N/A"},{"$f":"AVERAGE(OFFSET(H661,0,0,Overview!$C$1))","v":{"$error":"#N/A"}},{"$f":"AVERAGE(OFFSET(H661,0,0,Overview!$C$2))","v":{"$error":"#N/A"}},{"$error":"#N/A"},{"$error":"#N/A"}]
[null,{"$error":"#N/A"},{"$error":"#N/A"},{"$error":"#N/A"},{"$error":"#N/A"},{"$error":"#N/A"},{"$error":"#N/A"},{"$error":"#N/A"},{"$error":"#N/A"},{"$error":"#N/A"},{"$f":"AVERAGE(OFFSET(H662,0,0,Overview!$C$1))","v":{"$error":"#N/A"}},{"$f":"AVERAGE(OFFSET(H662,0,0,Overview!$C$2))","v":{"$error":"#N/A"}},{"$error":"#N/A"},{"$error":"#N/A"}]
[null,{"$error":"#N/A"},{"$error":"#N/A"},{"$error":"#N/A"},{"$error":"#N/A"},{"$error":"#N/A"},{"$error":"#N/A"},{"$error":"#N/A"},{"$error":"#N/A"},{"$error":"#N/A"},{"$f":"AVERAGE(OFFSET(H663,0,0,Overview!$C$1))","v":{"$error":"#N/A"}},{"$f":"AVERAGE(OFFSET(H663,0,0,Overview!$C$2))","v":{"$error":"#N/A"}},{"$error":"#N/A"},{"$error":"#N/A"}]
[null,{"$error":"#N/A"},{"$error":"#N/A"},{"$error":"#N/A"},{"$error":"#N/A"},{"$error":"#N/A"},{"$error":"#N/A"},{"$error":"#N/A"},{"$error":"#N/A"},{"$error":"#N/A"},{"$f":"AVERAGE(OFFSET(H664,0,0,Overview!$C$1))","v":{"$error":"#N/A"}},{"$f":"AVERAGE(OFFSET(H664,0,0,Overview!$C$2))","v":{"$error":"#N/A"}},{"$error":"#N/A"},{"$error":"#N/A"}]
[null,{"$error":"#N/A"},{"$error":"#N/A"},{"$error":"#N/A"},{"$error":"#N/A"},{"$error":"#N/A"},{"$error":"#N/A"},{"$error":"#N/A"},{"$error":"#N/A"},{"$error":"#N/A"},{"$f":"AVERAGE(OFFSET(H665,0,0,Overview!$C$1))","v":{"$error":"#N/A"}},{"$f":"AVERAGE(OFFSET(H665,0,0,Overview!$C$2))","v":{"$error":"#N/A"}},{"$error":"#N/A"},{"$error":"#N/A"}]
[null,{"$error":"#N/A"},{"$error":"#N/A"},{"$error":"#N/A"},{"$error":"#N/A"},{"$error":"#N/A"},{"$error":"#N/A"},{"$error":"#N/A"},{"$error":"#N/A"},{"$error":"#N/A"},{"$f":"AVERAGE(OFFSET(H666,0,0,Overview!$C$1))","v":{"$error":"#N/A"}},{"$f":"AVERAGE(OFFSET(H666,0,0,Overview!$C$2))","v":{"$error":"#N/A"}},{"$error":"#N/A"},{"$error":"#N/A"}]
[null,{"$error":"#N/A"},{"$error":"#N/A"},{"$error":"#N/A"},{"$error":"#N/A"},{"$error":"#N/A"},{"$error":"#N/A"},{"$error":"#N/A"},{"$error":"#N/A"},{"$error":"#N/A"},{"$f":"AVERAGE(OFFSET(H667,0,0,Overview!$C$1))","v":{"$error":"#N/A"}},{"$f":"AVERAGE(OFFSET(H667,0,0,Overview!$C$2))","v":{"$error":"#N/A"}},{"$error":"#N/A"},{"$error":"#N/A"}]
[null,{"$error":"#N/A"},{"$error":"#N/A"},{"$error":"#N/A"},{"$error":"#N/A"},{"$error":"#N/A"},{"$error":"#N/A"},{"$error":"#N/A"},{"$error":"#N/A"},{"$error":"#N/A"},{"$f":"AVERAGE(OFFSET(H668,0,0,Overview!$C$1))","v":{"$error":"#N/A"}},{"$f":"AVERAGE(OFFSET(H668,0,0,Overview!$C$2))","v":{"$error":"#N/A"}},{"$error":"#N/A"},{"$error":"#N/A"}]
[null,{"$error":"#N/A"},{"$error":"#N/A"},{"$error":"#N/A"},{"$error":"#N/A"},{"$error":"#N/A"},{"$error":"#N/A"},{"$error":"#N/A"},{"$error":"#N/A"},{"$error":"#N/A"},{"$f":"AVERAGE(OFFSET(H669,0,0,Overview!$C$1))","v":{"$error":"#N/A"}},{"$f":"AVERAGE(OFFSET(H669,0,0,Overview!$C$2))","v":{"$error":"#N/A"}},{"$error":"#N/A"},{"$error":"#N/A"}]
[null,{"$error":"#N/A"},{"$error":"#N/A"},{"$error":"#N/A"},{"$error":"#N/A"},{"$error":"#N/A"},{"$error":"#N/A"},{"$error":"#N/A"},{"$error":"#N/A"},{"$error":"#N/A"},{"$f":"AVERAGE(OFFSET(H670,0,0,Overview!$C$1))","v":{"$error":"#N/A"}},{"$f":"AVERAGE(OFFSET(H670,0,0,Overview!$C$2))","v":{"$error":"#N/A"}},{"$error":"#N/A"},{"$error":"#N/A"}]
[null,{"$error":"#N/A"},{"$error":"#N/A"},{"$error":"#N/A"},{"$error":"#N/A"},{"$error":"#N/A"},{"$error":"#N/A"},{"$error":"#N/A"},{"$error":"#N/A"},{"$error":"#N/A"},{"$f":"AVERAGE(OFFSET(H671,0,0,Overview!$C$1))","v":{"$error":"#N/A"}},{"$f":"AVERAGE(OFFSET(H671,0,0,Overview!$C$2))","v":{"$error":"#N/A"}},{"$error":"#N/A"},{"$error":"#N/A"}]
[null,{"$error":"#N/A"},{"$error":"#N/A"},{"$error":"#N/A"},{"$error":"#N/A"},{"$error":"#N/A"},{"$error":"#N/A"},{"$error":"#N/A"},{"$error":"#N/A"},{"$error":"#N/A"},{"$f":"AVERAGE(OFFSET(H672,0,0,Overview!$C$1))","v":{"$error":"#N/A"}},{"$f":"AVERAGE(OFFSET(H672,0,0,Overview!$C$2))","v":{"$error":"#N/A"}},{"$error":"#N/A"},{"$error":"#N/A"}]
[null,{"$error":"#N/A"},{"$error":"#N/A"},{"$error":"#N/A"},{"$error":"#N/A"},{"$error":"#N/A"},{"$error":"#N/A"},{"$error":"#N/A"},{"$error":"#N/A"},{"$error":"#N/A"},{"$f":"AVERAGE(OFFSET(H673,0,0,Overview!$C$1))","v":{"$error":"#N/A"}},{"$f":"AVERAGE(OFFSET(H673,0,0,Overview!$C$2))","v":{"$error":"#N/A"}},{"$error":"#N/A"},{"$error":"#N/A"}]
[null,{"$error":"#N/A"},{"$error":"#N/A"},{"$error":"#N/A"},{"$error":"#N/A"},{"$error":"#N/A"},{"$error":"#N/A"},{"$error":"#N/A"},{"$error":"#N/A"},{"$error":"#N/A"},{"$f":"AVERAGE(OFFSET(H674,0,0,Overview!$C$1))","v":{"$error":"#N/A"}},{"$f":"AVERAGE(OFFSET(H674,0,0,Overview!$C$2))","v":{"$error":"#N/A"}},{"$error":"#N/A"},{"$error":"#N/A"}]
[null,{"$error":"#N/A"},{"$error":"#N/A"},{"$error":"#N/A"},{"$error":"#N/A"},{"$error":"#N/A"},{"$error":"#N/A"},{"$error":"#N/A"},{"$error":"#N/A"},{"$error":"#N/A"},{"$f":"AVERAGE(OFFSET(H675,0,0,Overview!$C$1))","v":{"$error":"#N/A"}},{"$f":"AVERAGE(OFFSET(H675,0,0,Overview!$C$2))","v":{"$error":"#N/A"}},{"$error":"#N/A"},{"$error":"#N/A"}]
[null,{"$error":"#N/A"},{"$error":"#N/A"},{"$error":"#N/A"},{"$error":"#N/A"},{"$error":"#N/A"},{"$error":"#N/A"},{"$error":"#N/A"},{"$error":"#N/A"},{"$error":"#N/A"},{"$f":"AVERAGE(OFFSET(H676,0,0,Overview!$C$1))","v":{"$error":"#N/A"}},{"$f":"AVERAGE(OFFSET(H676,0,0,Overview!$C$2))","v":{"$error":"#N/A"}},{"$error":"#N/A"},{"$error":"#N/A"}]
[null,{"$error":"#N/A"},{"$error":"#N/A"},{"$error":"#N/A"},{"$error":"#N/A"},{"$error":"#N/A"},{"$error":"#N/A"},{"$error":"#N/A"},{"$error":"#N/A"},{"$error":"#N/A"},{"$f":"AVERAGE(OFFSET(H677,0,0,Overview!$C$1))","v":{"$error":"#N/A"}},{"$f":"AVERAGE(OFFSET(H677,0,0,Overview!$C$2))","v":{"$error":"#N/A"}},{"$error":"#N/A"},{"$error":"#N/A"}]
[null,{"$error":"#N/A"},{"$error":"#N/A"},{"$error":"#N/A"},{"$error":"#N/A"},{"$error":"#N/A"},{"$error":"#N/A"},{"$error":"#N/A"},{"$error":"#N/A"},{"$error":"#N/A"},{"$f":"AVERAGE(OFFSET(H678,0,0,Overview!$C$1))","v":{"$error":"#N/A"}},{"$f":"AVERAGE(OFFSET(H678,0,0,Overview!$C$2))","v":{"$error":"#N/A"}},{"$error":"#N/A"},{"$error":"#N/A"}]
[null,{"$error":"#N/A"},{"$error":"#N/A"},{"$error":"#N/A"},{"$error":"#N/A"},{"$error":"#N/A"},{"$error":"#N/A"},{"$error":"#N/A"},{"$error":"#N/A"},{"$error":"#N/A"},{"$f":"AVERAGE(OFFSET(H679,0,0,Overview!$C$1))","v":{"$error":"#N/A"}},{"$f":"AVERAGE(OFFSET(H679,0,0,Overview!$C$2))","v":{"$error":"#N/A"}},{"$error":"#N/A"},{"$error":"#N/A"}]
[null,{"$error":"#N/A"},{"$error":"#N/A"},{"$error":"#N/A"},{"$error":"#N/A"},{"$error":"#N/A"},{"$error":"#N/A"},{"$error":"#N/A"},{"$error":"#N/A"},{"$error":"#N/A"},{"$f":"AVERAGE(OFFSET(H680,0,0,Overview!$C$1))","v":{"$error":"#N/A"}},{"$f":"AVERAGE(OFFSET(H680,0,0,Overview!$C$2))","v":{"$error":"#N/A"}},{"$error":"#N/A"},{"$error":"#N/A"}]
[null,{"$error":"#N/A"},{"$error":"#N/A"},{"$error":"#N/A"},{"$error":"#N/A"},{"$error":"#N/A"},{"$error":"#N/A"},{"$error":"#N/A"},{"$error":"#N/A"},{"$error":"#N/A"},{"$f":"AVERAGE(OFFSET(H681,0,0,Overview!$C$1))","v":{"$error":"#N/A"}},{"$f":"AVERAGE(OFFSET(H681,0,0,Overview!$C$2))","v":{"$error":"#N/A"}},{"$error":"#N/A"},{"$error":"#N/A"}]
[null,{"$error":"#N/A"},{"$error":"#N/A"},{"$error":"#N/A"},{"$error":"#N/A"},{"$error":"#N/A"},{"$error":"#N/A"},{"$error":"#N/A"},{"$error":"#N/A"},{"$error":"#N/A"},{"$f":"AVERAGE(OFFSET(H682,0,0,Overview!$C$1))","v":{"$error":"#N/A"}},{"$f":"AVERAGE(OFFSET(H682,0,0,Overview!$C$2))","v":{"$error":"#N/A"}},{"$error":"#N/A"},{"$error":"#N/A"}]
[null,{"$error":"#N/A"},{"$error":"#N/A"},{"$error":"#N/A"},{"$error":"#N/A"},{"$error":"#N/A"},{"$error":"#N/A"},{"$error":"#N/A"},{"$error":"#N/A"},{"$error":"#N/A"},{"$f":"AVERAGE(OFFSET(H683,0,0,Overview!$C$1))","v":{"$error":"#N/A"}},{"$f":"AVERAGE(OFFSET(H683,0,0,Overview!$C$2))","v":{"$error":"#N/A"}},{"$error":"#N/A"},{"$error":"#N/A"}]
[null,{"$error":"#N/A"},{"$error":"#N/A"},{"$error":"#N/A"},{"$error":"#N/A"},{"$error":"#N/A"},{"$error":"#N/A"},{"$error":"#N/A"},{"$error":"#N/A"},{"$error":"#N/A"},{"$f":"AVERAGE(OFFSET(H684,0,0,Overview!$C$1))","v":{"$error":"#N/A"}},{"$f":"AVERAGE(OFFSET(H684,0,0,Overview!$C$2))","v":{"$error":"#N/A"}},{"$error":"#N/A"},{"$error":"#N/A"}]
[null,{"$error":"#N/A"},{"$error":"#N/A"},{"$error":"#N/A"},{"$error":"#N/A"},{"$error":"#N/A"},{"$error":"#N/A"},{"$error":"#N/A"},{"$error":"#N/A"},{"$error":"#N/A"},{"$f":"AVERAGE(OFFSET(H685,0,0,Overview!$C$1))","v":{"$error":"#N/A"}},{"$f":"AVERAGE(OFFSET(H685,0,0,Overview!$C$2))","v":{"$error":"#N/A"}},{"$error":"#N/A"},{"$error":"#N/A"}]
[null,{"$error":"#N/A"},{"$error":"#N/A"},{"$error":"#N/A"},{"$error":"#N/A"},{"$error":"#N/A"},{"$error":"#N/A"},{"$error":"#N/A"},{"$error":"#N/A"},{"$error":"#N/A"},{"$f":"AVERAGE(OFFSET(H686,0,0,Overview!$C$1))","v":{"$error":"#N/A"}},{"$f":"AVERAGE(OFFSET(H686,0,0,Overview!$C$2))","v":{"$error":"#N/A"}},{"$error":"#N/A"},{"$error":"#N/A"}]
[null,{"$error":"#N/A"},{"$error":"#N/A"},{"$error":"#N/A"},{"$error":"#N/A"},{"$error":"#N/A"},{"$error":"#N/A"},{"$error":"#N/A"},{"$error":"#N/A"},{"$error":"#N/A"},{"$f":"AVERAGE(OFFSET(H687,0,0,Overview!$C$1))","v":{"$error":"#N/A"}},{"$f":"AVERAGE(OFFSET(H687,0,0,Overview!$C$2))","v":{"$error":"#N/A"}},{"$error":"#N/A"},{"$error":"#N/A"}]
[null,{"$error":"#N/A"},{"$error":"#N/A"},{"$error":"#N/A"},{"$error":"#N/A"},{"$error":"#N/A"},{"$error":"#N/A"},{"$error":"#N/A"},{"$error":"#N/A"},{"$error":"#N/A"},{"$f":"AVERAGE(OFFSET(H688,0,0,Overview!$C$1))","v":{"$error":"#N/A"}},{"$f":"AVERAGE(OFFSET(H688,0,0,Overview!$C$2))","v":{"$error":"#N/A"}},{"$error":"#N/A"},{"$error":"#N/A"}]
[null,{"$error":"#N/A"},{"$error":"#N/A"},{"$error":"#N/A"},{"$error":"#N/A"},{"$error":"#N/A"},{"$error":"#N/A"},{"$error":"#N/A"},{"$error":"#N/A"},{"$error":"#N/A"},{"$f":"AVERAGE(OFFSET(H689,0,0,Overview!$C$1))","v":{"$error":"#N/A"}},{"$f":"AVERAGE(OFFSET(H689,0,0,Overview!$C$2))","v":{"$error":"#N/A"}},{"$error":"#N/A"},{"$error":"#N/A"}]
[null,{"$error":"#N/A"},{"$error":"#N/A"},{"$error":"#N/A"},{"$error":"#N/A"},{"$error":"#N/A"},{"$error":"#N/A"},{"$error":"#N/A"},{"$error":"#N/A"},{"$error":"#N/A"},{"$f":"AVERAGE(OFFSET(H690,0,0,Overview!$C$1))","v":{"$error":"#N/A"}},{"$f":"AVERAGE(OFFSET(H690,0,0,Overview!$C$2))","v":{"$error":"#N/A"}},{"$error":"#N/A"},{"$error":"#N/A"}]
[null,{"$error":"#N/A"},{"$error":"#N/A"},{"$error":"#N/A"},{"$error":"#N/A"},{"$error":"#N/A"},{"$error":"#N/A"},{"$error":"#N/A"},{"$error":"#N/A"},{"$error":"#N/A"},{"$f":"AVERAGE(OFFSET(H691,0,0,Overview!$C$1))","v":{"$error":"#N/A"}},{"$f":"AVERAGE(OFFSET(H691,0,0,Overview!$C$2))","v":{"$error":"#N/A"}},{"$error":"#N/A"},{"$error":"#N/A"}]
[null,{"$error":"#N/A"},{"$error":"#N/A"},{"$error":"#N/A"},{"$error":"#N/A"},{"$error":"#N/A"},{"$error":"#N/A"},{"$error":"#N/A"},{"$error":"#N/A"},{"$error":"#N/A"},{"$f":"AVERAGE(OFFSET(H692,0,0,Overview!$C$1))","v":{"$error":"#N/A"}},{"$f":"AVERAGE(OFFSET(H692,0,0,Overview!$C$2))","v":{"$error":"#N/A"}},{"$error":"#N/A"},{"$error":"#N/A"}]
[null,{"$error":"#N/A"},{"$error":"#N/A"},{"$error":"#N/A"},{"$error":"#N/A"},{"$error":"#N/A"},{"$error":"#N/A"},{"$error":"#N/A"},{"$error":"#N/A"},{"$error":"#N/A"},{"$f":"AVERAGE(OFFSET(H693,0,0,Overview!$C$1))","v":{"$error":"#N/A"}},{"$f":"AVERAGE(OFFSET(H693,0,0,Overview!$C$2))","v":{"$error":"#N/A"}},{"$error":"#N/A"},{"$error":"#N/A"}]
[null,{"$error":"#N/A"},{"$error":"#N/A"},{"$error":"#N/A"},{"$error":"#N/A"},{"$error":"#N/A"},{"$error":"#N/A"},{"$error":"#N/A"},{"$error":"#N/A"},{"$error":"#N/A"},{"$f":"AVERAGE(OFFSET(H694,0,0,Overview!$C$1))","v":{"$error":"#N/A"}},{"$f":"AVERAGE(OFFSET(H694,0,0,Overview!$C$2))","v":{"$error":"#N/A"}},{"$error":"#N/A"},{"$error":"#N/A"}]
[null,{"$error":"#N/A"},{"$error":"#N/A"},{"$error":"#N/A"},{"$error":"#N/A"},{"$error":"#N/A"},{"$error":"#N/A"},{"$error":"#N/A"},{"$error":"#N/A"},{"$error":"#N/A"},{"$f":"AVERAGE(OFFSET(H695,0,0,Overview!$C$1))","v":{"$error":"#N/A"}},{"$f":"AVERAGE(OFFSET(H695,0,0,Overview!$C$2))","v":{"$error":"#N/A"}},{"$error":"#N/A"},{"$error":"#N/A"}]
[null,{"$error":"#N/A"},{"$error":"#N/A"},{"$error":"#N/A"},{"$error":"#N/A"},{"$error":"#N/A"},{"$error":"#N/A"},{"$error":"#N/A"},{"$error":"#N/A"},{"$error":"#N/A"},{"$f":"AVERAGE(OFFSET(H696,0,0,Overview!$C$1))","v":{"$error":"#N/A"}},{"$f":"AVERAGE(OFFSET(H696,0,0,Overview!$C$2))","v":{"$error":"#N/A"}},{"$error":"#N/A"},{"$error":"#N/A"}]
[null,{"$error":"#N/A"},{"$error":"#N/A"},{"$error":"#N/A"},{"$error":"#N/A"},{"$error":"#N/A"},{"$error":"#N/A"},{"$error":"#N/A"},{"$error":"#N/A"},{"$error":"#N/A"},{"$f":"AVERAGE(OFFSET(H697,0,0,Overview!$C$1))","v":{"$error":"#N/A"}},{"$f":"AVERAGE(OFFSET(H697,0,0,Overview!$C$2))","v":{"$error":"#N/A"}},{"$error":"#N/A"},{"$error":"#N/A"}]
[null,{"$error":"#N/A"},{"$error":"#N/A"},{"$error":"#N/A"},{"$error":"#N/A"},{"$error":"#N/A"},{"$error":"#N/A"},{"$error":"#N/A"},{"$error":"#N/A"},{"$error":"#N/A"},{"$f":"AVERAGE(OFFSET(H698,0,0,Overview!$C$1))","v":{"$error":"#N/A"}},{"$f":"AVERAGE(OFFSET(H698,0,0,Overview!$C$2))","v":{"$error":"#N/A"}},{"$error":"#N/A"},{"$error":"#N/A"}]
[null,{"$error":"#N/A"},{"$error":"#N/A"},{"$error":"#N/A"},{"$error":"#N/A"},{"$error":"#N/A"},{"$error":"#N/A"},{"$error":"#N/A"},{"$error":"#N/A"},{"$error":"#N/A"},{"$f":"AVERAGE(OFFSET(H699,0,0,Overview!$C$1))","v":{"$error":"#N/A"}},{"$f":"AVERAGE(OFFSET(H699,0,0,Overview!$C$2))","v":{"$error":"#N/A"}},{"$error":"#N/A"},{"$error":"#N/A"}]
[null,{"$error":"#N/A"},{"$error":"#N/A"},{"$error":"#N/A"},{"$error":"#N/A"},{"$error":"#N/A"},{"$error":"#N/A"},{"$error":"#N/A"},{"$error":"#N/A"},{"$error":"#N/A"},{"$f":"AVERAGE(OFFSET(H700,0,0,Overview!$C$1))","v":{"$error":"#N/A"}},{"$f":"AVERAGE(OFFSET(H700,0,0,Overview!$C$2))","v":{"$error":"#N/A"}},{"$error":"#N/A"},{"$error":"#N/A"}]
[null,{"$error":"#N/A"},{"$error":"#N/A"},{"$error":"#N/A"},{"$error":"#N/A"},{"$error":"#N/A"},{"$error":"#N/A"},{"$error":"#N/A"},{"$error":"#N/A"},{"$error":"#N/A"},{"$f":"AVERAGE(OFFSET(H701,0,0,Overview!$C$1))","v":{"$error":"#N/A"}},{"$f":"AVERAGE(OFFSET(H701,0,0,Overview!$C$2))","v":{"$error":"#N/A"}},{"$error":"#N/A"},{"$error":"#N/A"}]
[null,{"$error":"#N/A"},{"$error":"#N/A"},{"$error":"#N/A"},{"$error":"#N/A"},{"$error":"#N/A"},{"$error":"#N/A"},{"$error":"#N/A"},{"$error":"#N/A"},{"$error":"#N/A"},{"$f":"AVERAGE(OFFSET(H702,0,0,Overview!$C$1))","v":{"$error":"#N/A"}},{"$f":"AVERAGE(OFFSET(H702,0,0,Overview!$C$2))","v":{"$error":"#N/A"}},{"$error":"#N/A"},{"$error":"#N/A"}]
[null,{"$error":"#N/A"},{"$error":"#N/A"},{"$error":"#N/A"},{"$error":"#N/A"},{"$error":"#N/A"},{"$error":"#N/A"},{"$error":"#N/A"},{"$error":"#N/A"},{"$error":"#N/A"},{"$f":"AVERAGE(OFFSET(H703,0,0,Overview!$C$1))","v":{"$error":"#N/A"}},{"$f":"AVERAGE(OFFSET(H703,0,0,Overview!$C$2))","v":{"$error":"#N/A"}},{"$error":"#N/A"},{"$error":"#N/A"}]
[null,{"$error":"#N/A"},{"$error":"#N/A"},{"$error":"#N/A"},{"$error":"#N/A"},{"$error":"#N/A"},{"$error":"#N/A"},{"$error":"#N/A"},{"$error":"#N/A"},{"$error":"#N/A"},{"$f":"AVERAGE(OFFSET(H704,0,0,Overview!$C$1))","v":{"$error":"#N/A"}},{"$f":"AVERAGE(OFFSET(H704,0,0,Overview!$C$2))","v":{"$error":"#N/A"}},{"$error":"#N/A"},{"$error":"#N/A"}]
[null,{"$error":"#N/A"},{"$error":"#N/A"},{"$error":"#N/A"},{"$error":"#N/A"},{"$error":"#N/A"},{"$error":"#N/A"},{"$error":"#N/A"},{"$error":"#N/A"},{"$error":"#N/A"},{"$f":"AVERAGE(OFFSET(H705,0,0,Overview!$C$1))","v":{"$error":"#N/A"}},{"$f":"AVERAGE(OFFSET(H705,0,0,Overview!$C$2))","v":{"$error":"#N/A"}},{"$error":"#N/A"},{"$error":"#N/A"}]
[null,{"$error":"#N/A"},{"$f":"IF(TEXT(D706,\"MMM\")=TEXT(D707,\"MMM\"),\"\",TEXT(D706,\"MMM\"))","v":{"$error":"#N/A"}},{"$error":"#N/A"},{"$error":"#N/A"},{"$error":"#N/A"},{"$error":"#N/A"},{"$error":"#N/A"},{"$error":"#N/A"},{"$error":"#N/A"},{"$f":"AVERAGE(OFFSET(H706,0,0,Overview!$C$1))","v":{"$error":"#N/A"}},{"$f":"AVERAGE(OFFSET(H706,0,0,Overview!$C$2))","v":{"$error":"#N/A"}},{"$error":"#N/A"},{"$error":"#N/A"}]
[null,{"$error":"#N/A"},{"$error":"#N/A"},{"$error":"#N/A"},{"$error":"#N/A"},{"$error":"#N/A"},{"$error":"#N/A"},{"$error":"#N/A"},{"$error":"#N/A"},{"$error":"#N/A"},{"$f":"AVERAGE(OFFSET(H707,0,0,Overview!$C$1))","v":{"$error":"#N/A"}},{"$f":"AVERAGE(OFFSET(H707,0,0,Overview!$C$2))","v":{"$error":"#N/A"}},{"$f":"IF((L708<K708)*(L707>K707),K707,\"\")","v":{"$error":"#N/A"}},{"$f":"IF((L708>K708)*(L707<K707),K707,\"\")","v":{"$error":"#N/A"}}]
[null,{"$f":"IF(YEAR(D708)=YEAR(D709),\"\",YEAR(D708))","v":{"$error":"#N/A"}},{"$error":"#N/A"},{"$error":"#N/A"},{"$error":"#N/A"},{"$error":"#N/A"},{"$error":"#N/A"},{"$error":"#N/A"},{"$error":"#N/A"},{"$error":"#N/A"},{"$f":"AVERAGE(OFFSET(H708,0,0,Overview!$C$1))","v":{"$error":"#N/A"}},{"$f":"AVERAGE(OFFSET(H708,0,0,Overview!$C$2))","v":{"$error":"#N/A"}},{"$error":"#N/A"},{"$error":"#N/A"}]
[null,{"$error":"#N/A"},{"$error":"#N/A"},{"$error":"#N/A"},{"$error":"#N/A"},{"$error":"#N/A"},{"$error":"#N/A"},{"$error":"#N/A"},{"$error":"#N/A"},{"$error":"#N/A"},{"$f":"AVERAGE(OFFSET(H709,0,0,Overview!$C$1))","v":{"$error":"#N/A"}},{"$f":"AVERAGE(OFFSET(H709,0,0,Overview!$C$2))","v":{"$error":"#N/A"}},{"$error":"#N/A"},{"$error":"#N/A"}]
[null,{"$error":"#N/A"},{"$error":"#N/A"},{"$error":"#N/A"},{"$error":"#N/A"},{"$error":"#N/A"},{"$error":"#N/A"},{"$error":"#N/A"},{"$error":"#N/A"},{"$error":"#N/A"},{"$f":"AVERAGE(OFFSET(H710,0,0,Overview!$C$1))","v":{"$error":"#N/A"}},{"$f":"AVERAGE(OFFSET(H710,0,0,Overview!$C$2))","v":{"$error":"#N/A"}},{"$error":"#N/A"},{"$error":"#N/A"}]
[null,{"$error":"#N/A"},{"$error":"#N/A"},{"$error":"#N/A"},{"$error":"#N/A"},{"$error":"#N/A"},{"$error":"#N/A"},{"$error":"#N/A"},{"$error":"#N/A"},{"$error":"#N/A"},{"$f":"AVERAGE(OFFSET(H711,0,0,Overview!$C$1))","v":{"$error":"#N/A"}},{"$f":"AVERAGE(OFFSET(H711,0,0,Overview!$C$2))","v":{"$error":"#N/A"}},{"$error":"#N/A"},{"$error":"#N/A"}]
[null,{"$error":"#N/A"},{"$error":"#N/A"},{"$error":"#N/A"},{"$error":"#N/A"},{"$error":"#N/A"},{"$error":"#N/A"},{"$error":"#N/A"},{"$error":"#N/A"},{"$error":"#N/A"},{"$f":"AVERAGE(OFFSET(H712,0,0,Overview!$C$1))","v":{"$error":"#N/A"}},{"$f":"AVERAGE(OFFSET(H712,0,0,Overview!$C$2))","v":{"$error":"#N/A"}},{"$error":"#N/A"},{"$error":"#N/A"}]
[null,{"$error":"#N/A"},{"$error":"#N/A"},{"$error":"#N/A"},{"$error":"#N/A"},{"$error":"#N/A"},{"$error":"#N/A"},{"$error":"#N/A"},{"$error":"#N/A"},{"$error":"#N/A"},{"$f":"AVERAGE(OFFSET(H713,0,0,Overview!$C$1))","v":{"$error":"#N/A"}},{"$f":"AVERAGE(OFFSET(H713,0,0,Overview!$C$2))","v":{"$error":"#N/A"}},{"$error":"#N/A"},{"$error":"#N/A"}]
[null,{"$error":"#N/A"},{"$error":"#N/A"},{"$error":"#N/A"},{"$error":"#N/A"},{"$error":"#N/A"},{"$error":"#N/A"},{"$error":"#N/A"},{"$error":"#N/A"},{"$error":"#N/A"},{"$f":"AVERAGE(OFFSET(H714,0,0,Overview!$C$1))","v":{"$error":"#N/A"}},{"$f":"AVERAGE(OFFSET(H714,0,0,Overview!$C$2))","v":{"$error":"#N/A"}},{"$error":"#N/A"},{"$error":"#N/A"}]
[null,{"$error":"#N/A"},{"$error":"#N/A"},{"$error":"#N/A"},{"$error":"#N/A"},{"$error":"#N/A"},{"$error":"#N/A"},{"$error":"#N/A"},{"$error":"#N/A"},{"$error":"#N/A"},{"$f":"AVERAGE(OFFSET(H715,0,0,Overview!$C$1))","v":{"$error":"#N/A"}},{"$f":"AVERAGE(OFFSET(H715,0,0,Overview!$C$2))","v":{"$error":"#N/A"}},{"$error":"#N/A"},{"$error":"#N/A"}]
[null,{"$error":"#N/A"},{"$error":"#N/A"},{"$error":"#N/A"},{"$error":"#N/A"},{"$error":"#N/A"},{"$error":"#N/A"},{"$error":"#N/A"},{"$error":"#N/A"},{"$error":"#N/A"},{"$f":"AVERAGE(OFFSET(H716,0,0,Overview!$C$1))","v":{"$error":"#N/A"}},{"$f":"AVERAGE(OFFSET(H716,0,0,Overview!$C$2))","v":{"$error":"#N/A"}},{"$error":"#N/A"},{"$error":"#N/A"}]
[null,{"$error":"#N/A"},{"$error":"#N/A"},{"$error":"#N/A"},{"$error":"#N/A"},{"$error":"#N/A"},{"$error":"#N/A"},{"$error":"#N/A"},{"$error":"#N/A"},{"$error":"#N/A"},{"$f":"AVERAGE(OFFSET(H717,0,0,Overview!$C$1))","v":{"$error":"#N/A"}},{"$f":"AVERAGE(OFFSET(H717,0,0,Overview!$C$2))","v":{"$error":"#N/A"}},{"$error":"#N/A"},{"$error":"#N/A"}]
[null,{"$error":"#N/A"},{"$error":"#N/A"},{"$error":"#N/A"},{"$error":"#N/A"},{"$error":"#N/A"},{"$error":"#N/A"},{"$error":"#N/A"},{"$error":"#N/A"},{"$error":"#N/A"},{"$f":"AVERAGE(OFFSET(H718,0,0,Overview!$C$1))","v":{"$error":"#N/A"}},{"$f":"AVERAGE(OFFSET(H718,0,0,Overview!$C$2))","v":{"$error":"#N/A"}},{"$error":"#N/A"},{"$error":"#N/A"}]
[null,{"$error":"#N/A"},{"$error":"#N/A"},{"$error":"#N/A"},{"$error":"#N/A"},{"$error":"#N/A"},{"$error":"#N/A"},{"$error":"#N/A"},{"$error":"#N/A"},{"$error":"#N/A"},{"$f":"AVERAGE(OFFSET(H719,0,0,Overview!$C$1))","v":{"$error":"#N/A"}},{"$f":"AVERAGE(OFFSET(H719,0,0,Overview!$C$2))","v":{"$error":"#N/A"}},{"$error":"#N/A"},{"$error":"#N/A"}]
[null,{"$error":"#N/A"},{"$error":"#N/A"},{"$error":"#N/A"},{"$error":"#N/A"},{"$error":"#N/A"},{"$error":"#N/A"},{"$error":"#N/A"},{"$error":"#N/A"},{"$error":"#N/A"},{"$f":"AVERAGE(OFFSET(H720,0,0,Overview!$C$1))","v":{"$error":"#N/A"}},{"$f":"AVERAGE(OFFSET(H720,0,0,Overview!$C$2))","v":{"$error":"#N/A"}},{"$error":"#N/A"},{"$error":"#N/A"}]
[null,{"$error":"#N/A"},{"$error":"#N/A"},{"$error":"#N/A"},{"$error":"#N/A"},{"$error":"#N/A"},{"$error":"#N/A"},{"$error":"#N/A"},{"$error":"#N/A"},{"$error":"#N/A"},{"$f":"AVERAGE(OFFSET(H721,0,0,Overview!$C$1))","v":{"$error":"#N/A"}},{"$f":"AVERAGE(OFFSET(H721,0,0,Overview!$C$2))","v":{"$error":"#N/A"}},{"$error":"#N/A"},{"$error":"#N/A"}]
[null,{"$error":"#N/A"},{"$error":"#N/A"},{"$error":"#N/A"},{"$error":"#N/A"},{"$error":"#N/A"},{"$error":"#N/A"},{"$error":"#N/A"},{"$error":"#N/A"},{"$error":"#N/A"},{"$f":"AVERAGE(OFFSET(H722,0,0,Overview!$C$1))","v":{"$error":"#N/A"}},{"$f":"AVERAGE(OFFSET(H722,0,0,Overview!$C$2))","v":{"$error":"#N/A"}},{"$error":"#N/A"},{"$error":"#N/A"}]
[null,{"$error":"#N/A"},{"$error":"#N/A"},{"$error":"#N/A"},{"$error":"#N/A"},{"$error":"#N/A"},{"$error":"#N/A"},{"$error":"#N/A"},{"$error":"#N/A"},{"$error":"#N/A"},{"$f":"AVERAGE(OFFSET(H723,0,0,Overview!$C$1))","v":{"$error":"#N/A"}},{"$f":"AVERAGE(OFFSET(H723,0,0,Overview!$C$2))","v":{"$error":"#N/A"}},{"$error":"#N/A"},{"$error":"#N/A"}]
[null,{"$error":"#N/A"},{"$error":"#N/A"},{"$error":"#N/A"},{"$error":"#N/A"},{"$error":"#N/A"},{"$error":"#N/A"},{"$error":"#N/A"},{"$error":"#N/A"},{"$error":"#N/A"},{"$f":"AVERAGE(OFFSET(H724,0,0,Overview!$C$1))","v":{"$error":"#N/A"}},{"$f":"AVERAGE(OFFSET(H724,0,0,Overview!$C$2))","v":{"$error":"#N/A"}},{"$error":"#N/A"},{"$error":"#N/A"}]
[null,{"$error":"#N/A"},{"$error":"#N/A"},{"$error":"#N/A"},{"$error":"#N/A"},{"$error":"#N/A"},{"$error":"#N/A"},{"$error":"#N/A"},{"$error":"#N/A"},{"$error":"#N/A"},{"$f":"AVERAGE(OFFSET(H725,0,0,Overview!$C$1))","v":{"$error":"#N/A"}},{"$f":"AVERAGE(OFFSET(H725,0,0,Overview!$C$2))","v":{"$error":"#N/A"}},{"$error":"#N/A"},{"$error":"#N/A"}]
[null,{"$error":"#N/A"},{"$error":"#N/A"},{"$error":"#N/A"},{"$error":"#N/A"},{"$error":"#N/A"},{"$error":"#N/A"},{"$error":"#N/A"},{"$error":"#N/A"},{"$error":"#N/A"},{"$f":"AVERAGE(OFFSET(H726,0,0,Overview!$C$1))","v":{"$error":"#N/A"}},{"$f":"AVERAGE(OFFSET(H726,0,0,Overview!$C$2))","v":{"$error":"#N/A"}},{"$error":"#N/A"},{"$error":"#N/A"}]
[null,{"$error":"#N/A"},{"$error":"#N/A"},{"$error":"#N/A"},{"$error":"#N/A"},{"$error":"#N/A"},{"$error":"#N/A"},{"$error":"#N/A"},{"$error":"#N/A"},{"$error":"#N/A"},{"$f":"AVERAGE(OFFSET(H727,0,0,Overview!$C$1))","v":{"$error":"#N/A"}},{"$f":"AVERAGE(OFFSET(H727,0,0,Overview!$C$2))","v":{"$error":"#N/A"}},{"$error":"#N/A"},{"$error":"#N/A"}]
[null,{"$error":"#N/A"},{"$error":"#N/A"},{"$error":"#N/A"},{"$error":"#N/A"},{"$error":"#N/A"},{"$error":"#N/A"},{"$error":"#N/A"},{"$error":"#N/A"},{"$error":"#N/A"},{"$f":"AVERAGE(OFFSET(H728,0,0,Overview!$C$1))","v":{"$error":"#N/A"}},{"$f":"AVERAGE(OFFSET(H728,0,0,Overview!$C$2))","v":{"$error":"#N/A"}},{"$error":"#N/A"},{"$error":"#N/A"}]
[null,{"$error":"#N/A"},{"$error":"#N/A"},{"$error":"#N/A"},{"$error":"#N/A"},{"$error":"#N/A"},{"$error":"#N/A"},{"$error":"#N/A"},{"$error":"#N/A"},{"$error":"#N/A"},{"$f":"AVERAGE(OFFSET(H729,0,0,Overview!$C$1))","v":{"$error":"#N/A"}},{"$f":"AVERAGE(OFFSET(H729,0,0,Overview!$C$2))","v":{"$error":"#N/A"}},{"$error":"#N/A"},{"$error":"#N/A"}]
[null,{"$error":"#N/A"},{"$error":"#N/A"},{"$error":"#N/A"},{"$error":"#N/A"},{"$error":"#N/A"},{"$error":"#N/A"},{"$error":"#N/A"},{"$error":"#N/A"},{"$error":"#N/A"},{"$f":"AVERAGE(OFFSET(H730,0,0,Overview!$C$1))","v":{"$error":"#N/A"}},{"$f":"AVERAGE(OFFSET(H730,0,0,Overview!$C$2))","v":{"$error":"#N/A"}},{"$error":"#N/A"},{"$error":"#N/A"}]
[null,{"$error":"#N/A"},{"$error":"#N/A"},{"$error":"#N/A"},{"$error":"#N/A"},{"$error":"#N/A"},{"$error":"#N/A"},{"$error":"#N/A"},{"$error":"#N/A"},{"$error":"#N/A"},{"$f":"AVERAGE(OFFSET(H731,0,0,Overview!$C$1))","v":{"$error":"#N/A"}},{"$f":"AVERAGE(OFFSET(H731,0,0,Overview!$C$2))","v":{"$error":"#N/A"}},{"$error":"#N/A"},{"$error":"#N/A"}]
[null,{"$error":"#N/A"},{"$error":"#N/A"},{"$error":"#N/A"},{"$error":"#N/A"},{"$error":"#N/A"},{"$error":"#N/A"},{"$error":"#N/A"},{"$error":"#N/A"},{"$error":"#N/A"},{"$f":"AVERAGE(OFFSET(H732,0,0,Overview!$C$1))","v":{"$error":"#N/A"}},{"$f":"AVERAGE(OFFSET(H732,0,0,Overview!$C$2))","v":{"$error":"#N/A"}},{"$error":"#N/A"},{"$error":"#N/A"}]
[null,{"$error":"#N/A"},{"$error":"#N/A"},{"$error":"#N/A"},{"$error":"#N/A"},{"$error":"#N/A"},{"$error":"#N/A"},{"$error":"#N/A"},{"$error":"#N/A"},{"$error":"#N/A"},{"$f":"AVERAGE(OFFSET(H733,0,0,Overview!$C$1))","v":{"$error":"#N/A"}},{"$f":"AVERAGE(OFFSET(H733,0,0,Overview!$C$2))","v":{"$error":"#N/A"}},{"$error":"#N/A"},{"$error":"#N/A"}]
[null,{"$error":"#N/A"},{"$error":"#N/A"},{"$error":"#N/A"},{"$error":"#N/A"},{"$error":"#N/A"},{"$error":"#N/A"},{"$error":"#N/A"},{"$error":"#N/A"},{"$error":"#N/A"},{"$f":"AVERAGE(OFFSET(H734,0,0,Overview!$C$1))","v":{"$error":"#N/A"}},{"$f":"AVERAGE(OFFSET(H734,0,0,Overview!$C$2))","v":{"$error":"#N/A"}},{"$error":"#N/A"},{"$error":"#N/A"}]
[null,{"$error":"#N/A"},{"$error":"#N/A"},{"$error":"#N/A"},{"$error":"#N/A"},{"$error":"#N/A"},{"$error":"#N/A"},{"$error":"#N/A"},{"$error":"#N/A"},{"$error":"#N/A"},{"$f":"AVERAGE(OFFSET(H735,0,0,Overview!$C$1))","v":{"$error":"#N/A"}},{"$f":"AVERAGE(OFFSET(H735,0,0,Overview!$C$2))","v":{"$error":"#N/A"}},{"$error":"#N/A"},{"$error":"#N/A"}]
[null,{"$error":"#N/A"},{"$error":"#N/A"},{"$error":"#N/A"},{"$error":"#N/A"},{"$error":"#N/A"},{"$error":"#N/A"},{"$error":"#N/A"},{"$error":"#N/A"},{"$error":"#N/A"},{"$f":"AVERAGE(OFFSET(H736,0,0,Overview!$C$1))","v":{"$error":"#N/A"}},{"$f":"AVERAGE(OFFSET(H736,0,0,Overview!$C$2))","v":{"$error":"#N/A"}},{"$error":"#N/A"},{"$error":"#N/A"}]
[null,{"$error":"#N/A"},{"$error":"#N/A"},{"$error":"#N/A"},{"$error":"#N/A"},{"$error":"#N/A"},{"$error":"#N/A"},{"$error":"#N/A"},{"$error":"#N/A"},{"$error":"#N/A"},{"$f":"AVERAGE(OFFSET(H737,0,0,Overview!$C$1))","v":{"$error":"#N/A"}},{"$f":"AVERAGE(OFFSET(H737,0,0,Overview!$C$2))","v":{"$error":"#N/A"}},{"$error":"#N/A"},{"$error":"#N/A"}]
[null,{"$error":"#N/A"},{"$error":"#N/A"},{"$error":"#N/A"},{"$error":"#N/A"},{"$error":"#N/A"},{"$error":"#N/A"},{"$error":"#N/A"},{"$error":"#N/A"},{"$error":"#N/A"},{"$f":"AVERAGE(OFFSET(H738,0,0,Overview!$C$1))","v":{"$error":"#N/A"}},{"$f":"AVERAGE(OFFSET(H738,0,0,Overview!$C$2))","v":{"$error":"#N/A"}},{"$error":"#N/A"},{"$error":"#N/A"}]
[null,{"$error":"#N/A"},{"$error":"#N/A"},{"$error":"#N/A"},{"$error":"#N/A"},{"$error":"#N/A"},{"$error":"#N/A"},{"$error":"#N/A"},{"$error":"#N/A"},{"$error":"#N/A"},{"$f":"AVERAGE(OFFSET(H739,0,0,Overview!$C$1))","v":{"$error":"#N/A"}},{"$f":"AVERAGE(OFFSET(H739,0,0,Overview!$C$2))","v":{"$error":"#N/A"}},{"$error":"#N/A"},{"$error":"#N/A"}]
[null,{"$error":"#N/A"},{"$error":"#N/A"},{"$error":"#N/A"},{"$error":"#N/A"},{"$error":"#N/A"},{"$error":"#N/A"},{"$error":"#N/A"},{"$error":"#N/A"},{"$error":"#N/A"},{"$f":"AVERAGE(OFFSET(H740,0,0,Overview!$C$1))","v":{"$error":"#N/A"}},{"$f":"AVERAGE(OFFSET(H740,0,0,Overview!$C$2))","v":{"$error":"#N/A"}},{"$error":"#N/A"},{"$error":"#N/A"}]
[null,{"$error":"#N/A"},{"$error":"#N/A"},{"$error":"#N/A"},{"$error":"#N/A"},{"$error":"#N/A"},{"$error":"#N/A"},{"$error":"#N/A"},{"$error":"#N/A"},{"$error":"#N/A"},{"$f":"AVERAGE(OFFSET(H741,0,0,Overview!$C$1))","v":{"$error":"#N/A"}},{"$f":"AVERAGE(OFFSET(H741,0,0,Overview!$C$2))","v":{"$error":"#N/A"}},{"$error":"#N/A"},{"$error":"#N/A"}]
[null,{"$error":"#N/A"},{"$error":"#N/A"},{"$error":"#N/A"},{"$error":"#N/A"},{"$error":"#N/A"},{"$error":"#N/A"},{"$error":"#N/A"},{"$error":"#N/A"},{"$error":"#N/A"},{"$f":"AVERAGE(OFFSET(H742,0,0,Overview!$C$1))","v":{"$error":"#N/A"}},{"$f":"AVERAGE(OFFSET(H742,0,0,Overview!$C$2))","v":{"$error":"#N/A"}},{"$error":"#N/A"},{"$error":"#N/A"}]
[null,{"$error":"#N/A"},{"$error":"#N/A"},{"$error":"#N/A"},{"$error":"#N/A"},{"$error":"#N/A"},{"$error":"#N/A"},{"$error":"#N/A"},{"$error":"#N/A"},{"$error":"#N/A"},{"$f":"AVERAGE(OFFSET(H743,0,0,Overview!$C$1))","v":{"$error":"#N/A"}},{"$f":"AVERAGE(OFFSET(H743,0,0,Overview!$C$2))","v":{"$error":"#N/A"}},{"$error":"#N/A"},{"$error":"#N/A"}]
[null,{"$error":"#N/A"},{"$error":"#N/A"},{"$error":"#N/A"},{"$error":"#N/A"},{"$error":"#N/A"},{"$error":"#N/A"},{"$error":"#N/A"},{"$error":"#N/A"},{"$error":"#N/A"},{"$f":"AVERAGE(OFFSET(H744,0,0,Overview!$C$1))","v":{"$error":"#N/A"}},{"$f":"AVERAGE(OFFSET(H744,0,0,Overview!$C$2))","v":{"$error":"#N/A"}},{"$error":"#N/A"},{"$error":"#N/A"}]
[null,{"$error":"#N/A"},{"$error":"#N/A"},{"$error":"#N/A"},{"$error":"#N/A"},{"$error":"#N/A"},{"$error":"#N/A"},{"$error":"#N/A"},{"$error":"#N/A"},{"$error":"#N/A"},{"$f":"AVERAGE(OFFSET(H745,0,0,Overview!$C$1))","v":{"$error":"#N/A"}},{"$f":"AVERAGE(OFFSET(H745,0,0,Overview!$C$2))","v":{"$error":"#N/A"}},{"$error":"#N/A"},{"$error":"#N/A"}]
[null,{"$error":"#N/A"},{"$error":"#N/A"},{"$error":"#N/A"},{"$error":"#N/A"},{"$error":"#N/A"},{"$error":"#N/A"},{"$error":"#N/A"},{"$error":"#N/A"},{"$error":"#N/A"},{"$f":"AVERAGE(OFFSET(H746,0,0,Overview!$C$1))","v":{"$error":"#N/A"}},{"$f":"AVERAGE(OFFSET(H746,0,0,Overview!$C$2))","v":{"$error":"#N/A"}},{"$error":"#N/A"},{"$error":"#N/A"}]
[null,{"$error":"#N/A"},{"$error":"#N/A"},{"$error":"#N/A"},{"$error":"#N/A"},{"$error":"#N/A"},{"$error":"#N/A"},{"$error":"#N/A"},{"$error":"#N/A"},{"$error":"#N/A"},{"$f":"AVERAGE(OFFSET(H747,0,0,Overview!$C$1))","v":{"$error":"#N/A"}},{"$f":"AVERAGE(OFFSET(H747,0,0,Overview!$C$2))","v":{"$error":"#N/A"}},{"$error":"#N/A"},{"$error":"#N/A"}]
[null,{"$error":"#N/A"},{"$error":"#N/A"},{"$error":"#N/A"},{"$error":"#N/A"},{"$error":"#N/A"},{"$error":"#N/A"},{"$error":"#N/A"},{"$error":"#N/A"},{"$error":"#N/A"},{"$f":"AVERAGE(OFFSET(H748,0,0,Overview!$C$1))","v":{"$error":"#N/A"}},{"$f":"AVERAGE(OFFSET(H748,0,0,Overview!$C$2))","v":{"$error":"#N/A"}},{"$error":"#N/A"},{"$error":"#N/A"}]
[null,{"$error":"#N/A"},{"$error":"#N/A"},{"$error":"#N/A"},{"$error":"#N/A"},{"$error":"#N/A"},{"$error":"#N/A"},{"$error":"#N/A"},{"$error":"#N/A"},{"$error":"#N/A"},{"$f":"AVERAGE(OFFSET(H749,0,0,Overview!$C$1))","v":{"$error":"#N/A"}},{"$f":"AVERAGE(OFFSET(H749,0,0,Overview!$C$2))","v":{"$error":"#N/A"}},{"$error":"#N/A"},{"$error":"#N/A"}]
[null,{"$error":"#N/A"},{"$error":"#N/A"},{"$error":"#N/A"},{"$error":"#N/A"},{"$error":"#N/A"},{"$error":"#N/A"},{"$error":"#N/A"},{"$error":"#N/A"},{"$error":"#N/A"},{"$f":"AVERAGE(OFFSET(H750,0,0,Overview!$C$1))","v":{"$error":"#N/A"}},{"$f":"AVERAGE(OFFSET(H750,0,0,Overview!$C$2))","v":{"$error":"#N/A"}},{"$error":"#N/A"},{"$error":"#N/A"}]
[null,{"$error":"#N/A"},{"$error":"#N/A"},{"$error":"#N/A"},{"$error":"#N/A"},{"$error":"#N/A"},{"$error":"#N/A"},{"$error":"#N/A"},{"$error":"#N/A"},{"$error":"#N/A"},{"$f":"AVERAGE(OFFSET(H751,0,0,Overview!$C$1))","v":{"$error":"#N/A"}},{"$f":"AVERAGE(OFFSET(H751,0,0,Overview!$C$2))","v":{"$error":"#N/A"}},{"$error":"#N/A"},{"$error":"#N/A"}]
[null,{"$error":"#N/A"},{"$error":"#N/A"},{"$error":"#N/A"},{"$error":"#N/A"},{"$error":"#N/A"},{"$error":"#N/A"},{"$error":"#N/A"},{"$error":"#N/A"},{"$error":"#N/A"},{"$f":"AVERAGE(OFFSET(H752,0,0,Overview!$C$1))","v":{"$error":"#N/A"}},{"$f":"AVERAGE(OFFSET(H752,0,0,Overview!$C$2))","v":{"$error":"#N/A"}},{"$error":"#N/A"},{"$error":"#N/A"}]
[null,{"$error":"#N/A"},{"$error":"#N/A"},{"$error":"#N/A"},{"$error":"#N/A"},{"$error":"#N/A"},{"$error":"#N/A"},{"$error":"#N/A"},{"$error":"#N/A"},{"$error":"#N/A"},{"$f":"AVERAGE(OFFSET(H753,0,0,Overview!$C$1))","v":{"$error":"#N/A"}},{"$f":"AVERAGE(OFFSET(H753,0,0,Overview!$C$2))","v":{"$error":"#N/A"}},{"$error":"#N/A"},{"$error":"#N/A"}]
[null,{"$error":"#N/A"},{"$error":"#N/A"},{"$error":"#N/A"},{"$error":"#N/A"},{"$error":"#N/A"},{"$error":"#N/A"},{"$error":"#N/A"},{"$error":"#N/A"},{"$error":"#N/A"},{"$f":"AVERAGE(OFFSET(H754,0,0,Overview!$C$1))","v":{"$error":"#N/A"}},{"$f":"AVERAGE(OFFSET(H754,0,0,Overview!$C$2))","v":{"$error":"#N/A"}},{"$error":"#N/A"},{"$error":"#N/A"}]
[null,{"$error":"#N/A"},{"$error":"#N/A"},{"$error":"#N/A"},{"$error":"#N/A"},{"$error":"#N/A"},{"$error":"#N/A"},{"$error":"#N/A"},{"$error":"#N/A"},{"$error":"#N/A"},{"$f":"AVERAGE(OFFSET(H755,0,0,Overview!$C$1))","v":{"$error":"#N/A"}},{"$f":"AVERAGE(OFFSET(H755,0,0,Overview!$C$2))","v":{"$error":"#N/A"}},{"$error":"#N/A"},{"$error":"#N/A"}]
[null,{"$error":"#N/A"},{"$error":"#N/A"},{"$error":"#N/A"},{"$error":"#N/A"},{"$error":"#N/A"},{"$error":"#N/A"},{"$error":"#N/A"},{"$error":"#N/A"},{"$error":"#N/A"},{"$f":"AVERAGE(OFFSET(H756,0,0,Overview!$C$1))","v":{"$error":"#N/A"}},{"$f":"AVERAGE(OFFSET(H756,0,0,Overview!$C$2))","v":{"$error":"#N/A"}},{"$error":"#N/A"},{"$error":"#N/A"}]
[null,{"$error":"#N/A"},{"$error":"#N/A"},{"$error":"#N/A"},{"$error":"#N/A"},{"$error":"#N/A"},{"$error":"#N/A"},{"$error":"#N/A"},{"$error":"#N/A"},{"$error":"#N/A"},{"$f":"AVERAGE(OFFSET(H757,0,0,Overview!$C$1))","v":{"$error":"#N/A"}},{"$f":"AVERAGE(OFFSET(H757,0,0,Overview!$C$2))","v":{"$error":"#N/A"}},{"$error":"#N/A"},{"$error":"#N/A"}]
[null,{"$error":"#N/A"},{"$error":"#N/A"},{"$error":"#N/A"},{"$error":"#N/A"},{"$error":"#N/A"},{"$error":"#N/A"},{"$error":"#N/A"},{"$error":"#N/A"},{"$error":"#N/A"},{"$f":"AVERAGE(OFFSET(H758,0,0,Overview!$C$1))","v":{"$error":"#N/A"}},{"$f":"AVERAGE(OFFSET(H758,0,0,Overview!$C$2))","v":{"$error":"#N/A"}},{"$error":"#N/A"},{"$error":"#N/A"}]
[null,{"$error":"#N/A"},{"$error":"#N/A"},{"$error":"#N/A"},{"$error":"#N/A"},{"$error":"#N/A"},{"$error":"#N/A"},{"$error":"#N/A"},{"$error":"#N/A"},{"$error":"#N/A"},{"$f":"AVERAGE(OFFSET(H759,0,0,Overview!$C$1))","v":{"$error":"#N/A"}},{"$f":"AVERAGE(OFFSET(H759,0,0,Overview!$C$2))","v":{"$error":"#N/A"}},{"$error":"#N/A"},{"$error":"#N/A"}]
[null,{"$error":"#N/A"},{"$error":"#N/A"},{"$error":"#N/A"},{"$error":"#N/A"},{"$error":"#N/A"},{"$error":"#N/A"},{"$error":"#N/A"},{"$error":"#N/A"},{"$error":"#N/A"},{"$f":"AVERAGE(OFFSET(H760,0,0,Overview!$C$1))","v":{"$error":"#N/A"}},{"$f":"AVERAGE(OFFSET(H760,0,0,Overview!$C$2))","v":{"$error":"#N/A"}},{"$error":"#N/A"},{"$error":"#N/A"}]
[null,{"$error":"#N/A"},{"$error":"#N/A"},{"$error":"#N/A"},{"$error":"#N/A"},{"$error":"#N/A"},{"$error":"#N/A"},{"$error":"#N/A"},{"$error":"#N/A"},{"$error":"#N/A"},{"$f":"AVERAGE(OFFSET(H761,0,0,Overview!$C$1))","v":{"$error":"#N/A"}},{"$f":"AVERAGE(OFFSET(H761,0,0,Overview!$C$2))","v":{"$error":"#N/A"}},{"$error":"#N/A"},{"$error":"#N/A"}]
[null,{"$error":"#N/A"},{"$error":"#N/A"},{"$error":"#N/A"},{"$error":"#N/A"},{"$error":"#N/A"},{"$error":"#N/A"},{"$error":"#N/A"},{"$error":"#N/A"},{"$error":"#N/A"},{"$f":"AVERAGE(OFFSET(H762,0,0,Overview!$C$1))","v":{"$error":"#N/A"}},{"$f":"AVERAGE(OFFSET(H762,0,0,Overview!$C$2))","v":{"$error":"#N/A"}},{"$error":"#N/A"},{"$error":"#N/A"}]
[null,{"$error":"#N/A"},{"$error":"#N/A"},{"$error":"#N/A"},{"$error":"#N/A"},{"$error":"#N/A"},{"$error":"#N/A"},{"$error":"#N/A"},{"$error":"#N/A"},{"$error":"#N/A"},{"$f":"AVERAGE(OFFSET(H763,0,0,Overview!$C$1))","v":{"$error":"#N/A"}},{"$f":"AVERAGE(OFFSET(H763,0,0,Overview!$C$2))","v":{"$error":"#N/A"}},{"$error":"#N/A"},{"$error":"#N/A"}]
[null,{"$error":"#N/A"},{"$error":"#N/A"},{"$error":"#N/A"},{"$error":"#N/A"},{"$error":"#N/A"},{"$error":"#N/A"},{"$error":"#N/A"},{"$error":"#N/A"},{"$error":"#N/A"},{"$f":"AVERAGE(OFFSET(H764,0,0,Overview!$C$1))","v":{"$error":"#N/A"}},{"$f":"AVERAGE(OFFSET(H764,0,0,Overview!$C$2))","v":{"$error":"#N/A"}},{"$error":"#N/A"},{"$error":"#N/A"}]
[null,{"$error":"#N/A"},{"$error":"#N/A"},{"$error":"#N/A"},{"$error":"#N/A"},{"$error":"#N/A"},{"$error":"#N/A"},{"$error":"#N/A"},{"$error":"#N/A"},{"$error":"#N/A"},{"$f":"AVERAGE(OFFSET(H765,0,0,Overview!$C$1))","v":{"$error":"#N/A"}},{"$f":"AVERAGE(OFFSET(H765,0,0,Overview!$C$2))","v":{"$error":"#N/A"}},{"$error":"#N/A"},{"$error":"#N/A"}]
[null,{"$error":"#N/A"},{"$error":"#N/A"},{"$error":"#N/A"},{"$error":"#N/A"},{"$error":"#N/A"},{"$error":"#N/A"},{"$error":"#N/A"},{"$error":"#N/A"},{"$error":"#N/A"},{"$f":"AVERAGE(OFFSET(H766,0,0,Overview!$C$1))","v":{"$error":"#N/A"}},{"$f":"AVERAGE(OFFSET(H766,0,0,Overview!$C$2))","v":{"$error":"#N/A"}},{"$error":"#N/A"},{"$error":"#N/A"}]
[null,{"$error":"#N/A"},{"$error":"#N/A"},{"$error":"#N/A"},{"$error":"#N/A"},{"$error":"#N/A"},{"$error":"#N/A"},{"$error":"#N/A"},{"$error":"#N/A"},{"$error":"#N/A"},{"$f":"AVERAGE(OFFSET(H767,0,0,Overview!$C$1))","v":{"$error":"#N/A"}},{"$f":"AVERAGE(OFFSET(H767,0,0,Overview!$C$2))","v":{"$error":"#N/A"}},{"$error":"#N/A"},{"$error":"#N/A"}]
[null,{"$error":"#N/A"},{"$error":"#N/A"},{"$error":"#N/A"},{"$error":"#N/A"},{"$error":"#N/A"},{"$error":"#N/A"},{"$error":"#N/A"},{"$error":"#N/A"},{"$error":"#N/A"},{"$f":"AVERAGE(OFFSET(H768,0,0,Overview!$C$1))","v":{"$error":"#N/A"}},{"$f":"AVERAGE(OFFSET(H768,0,0,Overview!$C$2))","v":{"$error":"#N/A"}},{"$error":"#N/A"},{"$error":"#N/A"}]
[null,{"$error":"#N/A"},{"$error":"#N/A"},{"$error":"#N/A"},{"$error":"#N/A"},{"$error":"#N/A"},{"$error":"#N/A"},{"$error":"#N/A"},{"$error":"#N/A"},{"$error":"#N/A"},{"$f":"AVERAGE(OFFSET(H769,0,0,Overview!$C$1))","v":{"$error":"#N/A"}},{"$f":"AVERAGE(OFFSET(H769,0,0,Overview!$C$2))","v":{"$error":"#N/A"}},{"$error":"#N/A"},{"$error":"#N/A"}]
[null,{"$error":"#N/A"},{"$f":"IF(TEXT(D770,\"MMM\")=TEXT(D771,\"MMM\"),\"\",TEXT(D770,\"MMM\"))","v":{"$error":"#N/A"}},{"$error":"#N/A"},{"$error":"#N/A"},{"$error":"#N/A"},{"$error":"#N/A"},{"$error":"#N/A"},{"$error":"#N/A"},{"$error":"#N/A"},{"$f":"AVERAGE(OFFSET(H770,0,0,Overview!$C$1))","v":{"$error":"#N/A"}},{"$f":"AVERAGE(OFFSET(H770,0,0,Overview!$C$2))","v":{"$error":"#N/A"}},{"$error":"#N/A"},{"$error":"#N/A"}]
[null,{"$error":"#N/A"},{"$error":"#N/A"},{"$error":"#N/A"},{"$error":"#N/A"},{"$error":"#N/A"},{"$error":"#N/A"},{"$error":"#N/A"},{"$error":"#N/A"},{"$error":"#N/A"},{"$f":"AVERAGE(OFFSET(H771,0,0,Overview!$C$1))","v":{"$error":"#N/A"}},{"$f":"AVERAGE(OFFSET(H771,0,0,Overview!$C$2))","v":{"$error":"#N/A"}},{"$f":"IF((L772<K772)*(L771>K771),K771,\"\")","v":{"$error":"#N/A"}},{"$f":"IF((L772>K772)*(L771<K771),K771,\"\")","v":{"$error":"#N/A"}}]
[null,{"$f":"IF(YEAR(D772)=YEAR(D773),\"\",YEAR(D772))","v":{"$error":"#N/A"}},{"$error":"#N/A"},{"$error":"#N/A"},{"$error":"#N/A"},{"$error":"#N/A"},{"$error":"#N/A"},{"$error":"#N/A"},{"$error":"#N/A"},{"$error":"#N/A"},{"$f":"AVERAGE(OFFSET(H772,0,0,Overview!$C$1))","v":{"$error":"#N/A"}},{"$f":"AVERAGE(OFFSET(H772,0,0,Overview!$C$2))","v":{"$error":"#N/A"}},{"$error":"#N/A"},{"$error":"#N/A"}]
[null,{"$error":"#N/A"},{"$error":"#N/A"},{"$error":"#N/A"},{"$error":"#N/A"},{"$error":"#N/A"},{"$error":"#N/A"},{"$error":"#N/A"},{"$error":"#N/A"},{"$error":"#N/A"},{"$f":"AVERAGE(OFFSET(H773,0,0,Overview!$C$1))","v":{"$error":"#N/A"}},{"$f":"AVERAGE(OFFSET(H773,0,0,Overview!$C$2))","v":{"$error":"#N/A"}},{"$error":"#N/A"},{"$error":"#N/A"}]
[null,{"$error":"#N/A"},{"$error":"#N/A"},{"$error":"#N/A"},{"$error":"#N/A"},{"$error":"#N/A"},{"$error":"#N/A"},{"$error":"#N/A"},{"$error":"#N/A"},{"$error":"#N/A"},{"$f":"AVERAGE(OFFSET(H774,0,0,Overview!$C$1))","v":{"$error":"#N/A"}},{"$f":"AVERAGE(OFFSET(H774,0,0,Overview!$C$2))","v":{"$error":"#N/A"}},{"$error":"#N/A"},{"$error":"#N/A"}]
[null,{"$error":"#N/A"},{"$error":"#N/A"},{"$error":"#N/A"},{"$error":"#N/A"},{"$error":"#N/A"},{"$error":"#N/A"},{"$error":"#N/A"},{"$error":"#N/A"},{"$error":"#N/A"},{"$f":"AVERAGE(OFFSET(H775,0,0,Overview!$C$1))","v":{"$error":"#N/A"}},{"$f":"AVERAGE(OFFSET(H775,0,0,Overview!$C$2))","v":{"$error":"#N/A"}},{"$error":"#N/A"},{"$error":"#N/A"}]
[null,{"$error":"#N/A"},{"$error":"#N/A"},{"$error":"#N/A"},{"$error":"#N/A"},{"$error":"#N/A"},{"$error":"#N/A"},{"$error":"#N/A"},{"$error":"#N/A"},{"$error":"#N/A"},{"$f":"AVERAGE(OFFSET(H776,0,0,Overview!$C$1))","v":{"$error":"#N/A"}},{"$f":"AVERAGE(OFFSET(H776,0,0,Overview!$C$2))","v":{"$error":"#N/A"}},{"$error":"#N/A"},{"$error":"#N/A"}]
[null,{"$error":"#N/A"},{"$error":"#N/A"},{"$error":"#N/A"},{"$error":"#N/A"},{"$error":"#N/A"},{"$error":"#N/A"},{"$error":"#N/A"},{"$error":"#N/A"},{"$error":"#N/A"},{"$f":"AVERAGE(OFFSET(H777,0,0,Overview!$C$1))","v":{"$error":"#N/A"}},{"$f":"AVERAGE(OFFSET(H777,0,0,Overview!$C$2))","v":{"$error":"#N/A"}},{"$error":"#N/A"},{"$error":"#N/A"}]
[null,{"$error":"#N/A"},{"$error":"#N/A"},{"$error":"#N/A"},{"$error":"#N/A"},{"$error":"#N/A"},{"$error":"#N/A"},{"$error":"#N/A"},{"$error":"#N/A"},{"$error":"#N/A"},{"$f":"AVERAGE(OFFSET(H778,0,0,Overview!$C$1))","v":{"$error":"#N/A"}},{"$f":"AVERAGE(OFFSET(H778,0,0,Overview!$C$2))","v":{"$error":"#N/A"}},{"$error":"#N/A"},{"$error":"#N/A"}]
[null,{"$error":"#N/A"},{"$error":"#N/A"},{"$error":"#N/A"},{"$error":"#N/A"},{"$error":"#N/A"},{"$error":"#N/A"},{"$error":"#N/A"},{"$error":"#N/A"},{"$error":"#N/A"},{"$f":"AVERAGE(OFFSET(H779,0,0,Overview!$C$1))","v":{"$error":"#N/A"}},{"$f":"AVERAGE(OFFSET(H779,0,0,Overview!$C$2))","v":{"$error":"#N/A"}},{"$error":"#N/A"},{"$error":"#N/A"}]
[null,{"$error":"#N/A"},{"$error":"#N/A"},{"$error":"#N/A"},{"$error":"#N/A"},{"$error":"#N/A"},{"$error":"#N/A"},{"$error":"#N/A"},{"$error":"#N/A"},{"$error":"#N/A"},{"$f":"AVERAGE(OFFSET(H780,0,0,Overview!$C$1))","v":{"$error":"#N/A"}},{"$f":"AVERAGE(OFFSET(H780,0,0,Overview!$C$2))","v":{"$error":"#N/A"}},{"$error":"#N/A"},{"$error":"#N/A"}]
[null,{"$error":"#N/A"},{"$error":"#N/A"},{"$error":"#N/A"},{"$error":"#N/A"},{"$error":"#N/A"},{"$error":"#N/A"},{"$error":"#N/A"},{"$error":"#N/A"},{"$error":"#N/A"},{"$f":"AVERAGE(OFFSET(H781,0,0,Overview!$C$1))","v":{"$error":"#N/A"}},{"$f":"AVERAGE(OFFSET(H781,0,0,Overview!$C$2))","v":{"$error":"#N/A"}},{"$error":"#N/A"},{"$error":"#N/A"}]
[null,{"$error":"#N/A"},{"$error":"#N/A"},{"$error":"#N/A"},{"$error":"#N/A"},{"$error":"#N/A"},{"$error":"#N/A"},{"$error":"#N/A"},{"$error":"#N/A"},{"$error":"#N/A"},{"$f":"AVERAGE(OFFSET(H782,0,0,Overview!$C$1))","v":{"$error":"#N/A"}},{"$f":"AVERAGE(OFFSET(H782,0,0,Overview!$C$2))","v":{"$error":"#N/A"}},{"$error":"#N/A"},{"$error":"#N/A"}]
[null,{"$error":"#N/A"},{"$error":"#N/A"},{"$error":"#N/A"},{"$error":"#N/A"},{"$error":"#N/A"},{"$error":"#N/A"},{"$error":"#N/A"},{"$error":"#N/A"},{"$error":"#N/A"},{"$f":"AVERAGE(OFFSET(H783,0,0,Overview!$C$1))","v":{"$error":"#N/A"}},{"$f":"AVERAGE(OFFSET(H783,0,0,Overview!$C$2))","v":{"$error":"#N/A"}},{"$error":"#N/A"},{"$error":"#N/A"}]
[null,{"$error":"#N/A"},{"$error":"#N/A"},{"$error":"#N/A"},{"$error":"#N/A"},{"$error":"#N/A"},{"$error":"#N/A"},{"$error":"#N/A"},{"$error":"#N/A"},{"$error":"#N/A"},{"$f":"AVERAGE(OFFSET(H784,0,0,Overview!$C$1))","v":{"$error":"#N/A"}},{"$f":"AVERAGE(OFFSET(H784,0,0,Overview!$C$2))","v":{"$error":"#N/A"}},{"$error":"#N/A"},{"$error":"#N/A"}]
[null,{"$error":"#N/A"},{"$error":"#N/A"},{"$error":"#N/A"},{"$error":"#N/A"},{"$error":"#N/A"},{"$error":"#N/A"},{"$error":"#N/A"},{"$error":"#N/A"},{"$error":"#N/A"},{"$f":"AVERAGE(OFFSET(H785,0,0,Overview!$C$1))","v":{"$error":"#N/A"}},{"$f":"AVERAGE(OFFSET(H785,0,0,Overview!$C$2))","v":{"$error":"#N/A"}},{"$error":"#N/A"},{"$error":"#N/A"}]
[null,{"$error":"#N/A"},{"$error":"#N/A"},{"$error":"#N/A"},{"$error":"#N/A"},{"$error":"#N/A"},{"$error":"#N/A"},{"$error":"#N/A"},{"$error":"#N/A"},{"$error":"#N/A"},{"$f":"AVERAGE(OFFSET(H786,0,0,Overview!$C$1))","v":{"$error":"#N/A"}},{"$f":"AVERAGE(OFFSET(H786,0,0,Overview!$C$2))","v":{"$error":"#N/A"}},{"$error":"#N/A"},{"$error":"#N/A"}]
[null,{"$error":"#N/A"},{"$error":"#N/A"},{"$error":"#N/A"},{"$error":"#N/A"},{"$error":"#N/A"},{"$error":"#N/A"},{"$error":"#N/A"},{"$error":"#N/A"},{"$error":"#N/A"},{"$f":"AVERAGE(OFFSET(H787,0,0,Overview!$C$1))","v":{"$error":"#N/A"}},{"$f":"AVERAGE(OFFSET(H787,0,0,Overview!$C$2))","v":{"$error":"#N/A"}},{"$error":"#N/A"},{"$error":"#N/A"}]
[null,{"$error":"#N/A"},{"$error":"#N/A"},{"$error":"#N/A"},{"$error":"#N/A"},{"$error":"#N/A"},{"$error":"#N/A"},{"$error":"#N/A"},{"$error":"#N/A"},{"$error":"#N/A"},{"$f":"AVERAGE(OFFSET(H788,0,0,Overview!$C$1))","v":{"$error":"#N/A"}},{"$f":"AVERAGE(OFFSET(H788,0,0,Overview!$C$2))","v":{"$error":"#N/A"}},{"$error":"#N/A"},{"$error":"#N/A"}]
[null,{"$error":"#N/A"},{"$error":"#N/A"},{"$error":"#N/A"},{"$error":"#N/A"},{"$error":"#N/A"},{"$error":"#N/A"},{"$error":"#N/A"},{"$error":"#N/A"},{"$error":"#N/A"},{"$f":"AVERAGE(OFFSET(H789,0,0,Overview!$C$1))","v":{"$error":"#N/A"}},{"$f":"AVERAGE(OFFSET(H789,0,0,Overview!$C$2))","v":{"$error":"#N/A"}},{"$error":"#N/A"},{"$error":"#N/A"}]
[null,{"$error":"#N/A"},{"$error":"#N/A"},{"$error":"#N/A"},{"$error":"#N/A"},{"$error":"#N/A"},{"$error":"#N/A"},{"$error":"#N/A"},{"$error":"#N/A"},{"$error":"#N/A"},{"$f":"AVERAGE(OFFSET(H790,0,0,Overview!$C$1))","v":{"$error":"#N/A"}},{"$f":"AVERAGE(OFFSET(H790,0,0,Overview!$C$2))","v":{"$error":"#N/A"}},{"$error":"#N/A"},{"$error":"#N/A"}]
[null,{"$error":"#N/A"},{"$error":"#N/A"},{"$error":"#N/A"},{"$error":"#N/A"},{"$error":"#N/A"},{"$error":"#N/A"},{"$error":"#N/A"},{"$error":"#N/A"},{"$error":"#N/A"},{"$f":"AVERAGE(OFFSET(H791,0,0,Overview!$C$1))","v":{"$error":"#N/A"}},{"$f":"AVERAGE(OFFSET(H791,0,0,Overview!$C$2))","v":{"$error":"#N/A"}},{"$error":"#N/A"},{"$error":"#N/A"}]
[null,{"$error":"#N/A"},{"$error":"#N/A"},{"$error":"#N/A"},{"$error":"#N/A"},{"$error":"#N/A"},{"$error":"#N/A"},{"$error":"#N/A"},{"$error":"#N/A"},{"$error":"#N/A"},{"$f":"AVERAGE(OFFSET(H792,0,0,Overview!$C$1))","v":{"$error":"#N/A"}},{"$f":"AVERAGE(OFFSET(H792,0,0,Overview!$C$2))","v":{"$error":"#N/A"}},{"$error":"#N/A"},{"$error":"#N/A"}]
[null,{"$error":"#N/A"},{"$error":"#N/A"},{"$error":"#N/A"},{"$error":"#N/A"},{"$error":"#N/A"},{"$error":"#N/A"},{"$error":"#N/A"},{"$error":"#N/A"},{"$error":"#N/A"},{"$f":"AVERAGE(OFFSET(H793,0,0,Overview!$C$1))","v":{"$error":"#N/A"}},{"$f":"AVERAGE(OFFSET(H793,0,0,Overview!$C$2))","v":{"$error":"#N/A"}},{"$error":"#N/A"},{"$error":"#N/A"}]
[null,{"$error":"#N/A"},{"$error":"#N/A"},{"$error":"#N/A"},{"$error":"#N/A"},{"$error":"#N/A"},{"$error":"#N/A"},{"$error":"#N/A"},{"$error":"#N/A"},{"$error":"#N/A"},{"$f":"AVERAGE(OFFSET(H794,0,0,Overview!$C$1))","v":{"$error":"#N/A"}},{"$f":"AVERAGE(OFFSET(H794,0,0,Overview!$C$2))","v":{"$error":"#N/A"}},{"$error":"#N/A"},{"$error":"#N/A"}]
[null,{"$error":"#N/A"},{"$error":"#N/A"},{"$error":"#N/A"},{"$error":"#N/A"},{"$error":"#N/A"},{"$error":"#N/A"},{"$error":"#N/A"},{"$error":"#N/A"},{"$error":"#N/A"},{"$f":"AVERAGE(OFFSET(H795,0,0,Overview!$C$1))","v":{"$error":"#N/A"}},{"$f":"AVERAGE(OFFSET(H795,0,0,Overview!$C$2))","v":{"$error":"#N/A"}},{"$error":"#N/A"},{"$error":"#N/A"}]
[null,{"$error":"#N/A"},{"$error":"#N/A"},{"$error":"#N/A"},{"$error":"#N/A"},{"$error":"#N/A"},{"$error":"#N/A"},{"$error":"#N/A"},{"$error":"#N/A"},{"$error":"#N/A"},{"$f":"AVERAGE(OFFSET(H796,0,0,Overview!$C$1))","v":{"$error":"#N/A"}},{"$f":"AVERAGE(OFFSET(H796,0,0,Overview!$C$2))","v":{"$error":"#N/A"}},{"$error":"#N/A"},{"$error":"#N/A"}]
[null,{"$error":"#N/A"},{"$error":"#N/A"},{"$error":"#N/A"},{"$error":"#N/A"},{"$error":"#N/A"},{"$error":"#N/A"},{"$error":"#N/A"},{"$error":"#N/A"},{"$error":"#N/A"},{"$f":"AVERAGE(OFFSET(H797,0,0,Overview!$C$1))","v":{"$error":"#N/A"}},{"$f":"AVERAGE(OFFSET(H797,0,0,Overview!$C$2))","v":{"$error":"#N/A"}},{"$error":"#N/A"},{"$error":"#N/A"}]
[null,{"$error":"#N/A"},{"$error":"#N/A"},{"$error":"#N/A"},{"$error":"#N/A"},{"$error":"#N/A"},{"$error":"#N/A"},{"$error":"#N/A"},{"$error":"#N/A"},{"$error":"#N/A"},{"$f":"AVERAGE(OFFSET(H798,0,0,Overview!$C$1))","v":{"$error":"#N/A"}},{"$f":"AVERAGE(OFFSET(H798,0,0,Overview!$C$2))","v":{"$error":"#N/A"}},{"$error":"#N/A"},{"$error":"#N/A"}]
[null,{"$error":"#N/A"},{"$error":"#N/A"},{"$error":"#N/A"},{"$error":"#N/A"},{"$error":"#N/A"},{"$error":"#N/A"},{"$error":"#N/A"},{"$error":"#N/A"},{"$error":"#N/A"},{"$f":"AVERAGE(OFFSET(H799,0,0,Overview!$C$1))","v":{"$error":"#N/A"}},{"$f":"AVERAGE(OFFSET(H799,0,0,Overview!$C$2))","v":{"$error":"#N/A"}},{"$error":"#N/A"},{"$error":"#N/A"}]
[null,{"$error":"#N/A"},{"$error":"#N/A"},{"$error":"#N/A"},{"$error":"#N/A"},{"$error":"#N/A"},{"$error":"#N/A"},{"$error":"#N/A"},{"$error":"#N/A"},{"$error":"#N/A"},{"$f":"AVERAGE(OFFSET(H800,0,0,Overview!$C$1))","v":{"$error":"#N/A"}},{"$f":"AVERAGE(OFFSET(H800,0,0,Overview!$C$2))","v":{"$error":"#N/A"}},{"$error":"#N/A"},{"$error":"#N/A"}]
[null,{"$error":"#N/A"},{"$error":"#N/A"},{"$error":"#N/A"},{"$error":"#N/A"},{"$error":"#N/A"},{"$error":"#N/A"},{"$error":"#N/A"},{"$error":"#N/A"},{"$error":"#N/A"},{"$f":"AVERAGE(OFFSET(H801,0,0,Overview!$C$1))","v":{"$error":"#N/A"}},{"$f":"AVERAGE(OFFSET(H801,0,0,Overview!$C$2))","v":{"$error":"#N/A"}},{"$error":"#N/A"},{"$error":"#N/A"}]
[null,{"$error":"#N/A"},{"$error":"#N/A"},{"$error":"#N/A"},{"$error":"#N/A"},{"$error":"#N/A"},{"$error":"#N/A"},{"$error":"#N/A"},{"$error":"#N/A"},{"$error":"#N/A"},{"$f":"AVERAGE(OFFSET(H802,0,0,Overview!$C$1))","v":{"$error":"#N/A"}},{"$f":"AVERAGE(OFFSET(H802,0,0,Overview!$C$2))","v":{"$error":"#N/A"}},{"$error":"#N/A"},{"$error":"#N/A"}]
[null,{"$error":"#N/A"},{"$error":"#N/A"},{"$error":"#N/A"},{"$error":"#N/A"},{"$error":"#N/A"},{"$error":"#N/A"},{"$error":"#N/A"},{"$error":"#N/A"},{"$error":"#N/A"},{"$f":"AVERAGE(OFFSET(H803,0,0,Overview!$C$1))","v":{"$error":"#N/A"}},{"$f":"AVERAGE(OFFSET(H803,0,0,Overview!$C$2))","v":{"$error":"#N/A"}},{"$error":"#N/A"},{"$error":"#N/A"}]
[null,{"$error":"#N/A"},{"$error":"#N/A"},{"$error":"#N/A"},{"$error":"#N/A"},{"$error":"#N/A"},{"$error":"#N/A"},{"$error":"#N/A"},{"$error":"#N/A"},{"$error":"#N/A"},{"$f":"AVERAGE(OFFSET(H804,0,0,Overview!$C$1))","v":{"$error":"#N/A"}},{"$f":"AVERAGE(OFFSET(H804,0,0,Overview!$C$2))","v":{"$error":"#N/A"}},{"$error":"#N/A"},{"$error":"#N/A"}]
[null,{"$error":"#N/A"},{"$error":"#N/A"},{"$error":"#N/A"},{"$error":"#N/A"},{"$error":"#N/A"},{"$error":"#N/A"},{"$error":"#N/A"},{"$error":"#N/A"},{"$error":"#N/A"},{"$f":"AVERAGE(OFFSET(H805,0,0,Overview!$C$1))","v":{"$error":"#N/A"}},{"$f":"AVERAGE(OFFSET(H805,0,0,Overview!$C$2))","v":{"$error":"#N/A"}},{"$error":"#N/A"},{"$error":"#N/A"}]
[null,{"$error":"#N/A"},{"$error":"#N/A"},{"$error":"#N/A"},{"$error":"#N/A"},{"$error":"#N/A"},{"$error":"#N/A"},{"$error":"#N/A"},{"$error":"#N/A"},{"$error":"#N/A"},{"$f":"AVERAGE(OFFSET(H806,0,0,Overview!$C$1))","v":{"$error":"#N/A"}},{"$f":"AVERAGE(OFFSET(H806,0,0,Overview!$C$2))","v":{"$error":"#N/A"}},{"$error":"#N/A"},{"$error":"#N/A"}]
[null,{"$error":"#N/A"},{"$error":"#N/A"},{"$error":"#N/A"},{"$error":"#N/A"},{"$error":"#N/A"},{"$error":"#N/A"},{"$error":"#N/A"},{"$error":"#N/A"},{"$error":"#N/A"},{"$f":"AVERAGE(OFFSET(H807,0,0,Overview!$C$1))","v":{"$error":"#N/A"}},{"$f":"AVERAGE(OFFSET(H807,0,0,Overview!$C$2))","v":{"$error":"#N/A"}},{"$error":"#N/A"},{"$error":"#N/A"}]
[null,{"$error":"#N/A"},{"$error":"#N/A"},{"$error":"#N/A"},{"$error":"#N/A"},{"$error":"#N/A"},{"$error":"#N/A"},{"$error":"#N/A"},{"$error":"#N/A"},{"$error":"#N/A"},{"$f":"AVERAGE(OFFSET(H808,0,0,Overview!$C$1))","v":{"$error":"#N/A"}},{"$f":"AVERAGE(OFFSET(H808,0,0,Overview!$C$2))","v":{"$error":"#N/A"}},{"$error":"#N/A"},{"$error":"#N/A"}]
[null,{"$error":"#N/A"},{"$error":"#N/A"},{"$error":"#N/A"},{"$error":"#N/A"},{"$error":"#N/A"},{"$error":"#N/A"},{"$error":"#N/A"},{"$error":"#N/A"},{"$error":"#N/A"},{"$f":"AVERAGE(OFFSET(H809,0,0,Overview!$C$1))","v":{"$error":"#N/A"}},{"$f":"AVERAGE(OFFSET(H809,0,0,Overview!$C$2))","v":{"$error":"#N/A"}},{"$error":"#N/A"},{"$error":"#N/A"}]
[null,{"$error":"#N/A"},{"$error":"#N/A"},{"$error":"#N/A"},{"$error":"#N/A"},{"$error":"#N/A"},{"$error":"#N/A"},{"$error":"#N/A"},{"$error":"#N/A"},{"$error":"#N/A"},{"$f":"AVERAGE(OFFSET(H810,0,0,Overview!$C$1))","v":{"$error":"#N/A"}},{"$f":"AVERAGE(OFFSET(H810,0,0,Overview!$C$2))","v":{"$error":"#N/A"}},{"$error":"#N/A"},{"$error":"#N/A"}]
[null,{"$error":"#N/A"},{"$error":"#N/A"},{"$error":"#N/A"},{"$error":"#N/A"},{"$error":"#N/A"},{"$error":"#N/A"},{"$error":"#N/A"},{"$error":"#N/A"},{"$error":"#N/A"},{"$f":"AVERAGE(OFFSET(H811,0,0,Overview!$C$1))","v":{"$error":"#N/A"}},{"$f":"AVERAGE(OFFSET(H811,0,0,Overview!$C$2))","v":{"$error":"#N/A"}},{"$error":"#N/A"},{"$error":"#N/A"}]
[null,{"$error":"#N/A"},{"$error":"#N/A"},{"$error":"#N/A"},{"$error":"#N/A"},{"$error":"#N/A"},{"$error":"#N/A"},{"$error":"#N/A"},{"$error":"#N/A"},{"$error":"#N/A"},{"$f":"AVERAGE(OFFSET(H812,0,0,Overview!$C$1))","v":{"$error":"#N/A"}},{"$f":"AVERAGE(OFFSET(H812,0,0,Overview!$C$2))","v":{"$error":"#N/A"}},{"$error":"#N/A"},{"$error":"#N/A"}]
[null,{"$error":"#N/A"},{"$error":"#N/A"},{"$error":"#N/A"},{"$error":"#N/A"},{"$error":"#N/A"},{"$error":"#N/A"},{"$error":"#N/A"},{"$error":"#N/A"},{"$error":"#N/A"},{"$f":"AVERAGE(OFFSET(H813,0,0,Overview!$C$1))","v":{"$error":"#N/A"}},{"$f":"AVERAGE(OFFSET(H813,0,0,Overview!$C$2))","v":{"$error":"#N/A"}},{"$error":"#N/A"},{"$error":"#N/A"}]
[null,{"$error":"#N/A"},{"$error":"#N/A"},{"$error":"#N/A"},{"$error":"#N/A"},{"$error":"#N/A"},{"$error":"#N/A"},{"$error":"#N/A"},{"$error":"#N/A"},{"$error":"#N/A"},{"$f":"AVERAGE(OFFSET(H814,0,0,Overview!$C$1))","v":{"$error":"#N/A"}},{"$f":"AVERAGE(OFFSET(H814,0,0,Overview!$C$2))","v":{"$error":"#N/A"}},{"$error":"#N/A"},{"$error":"#N/A"}]
[null,{"$error":"#N/A"},{"$error":"#N/A"},{"$error":"#N/A"},{"$error":"#N/A"},{"$error":"#N/A"},{"$error":"#N/A"},{"$error":"#N/A"},{"$error":"#N/A"},{"$error":"#N/A"},{"$f":"AVERAGE(OFFSET(H815,0,0,Overview!$C$1))","v":{"$error":"#N/A"}},{"$f":"AVERAGE(OFFSET(H815,0,0,Overview!$C$2))","v":{"$error":"#N/A"}},{"$error":"#N/A"},{"$error":"#N/A"}]
[null,{"$error":"#N/A"},{"$error":"#N/A"},{"$error":"#N/A"},{"$error":"#N/A"},{"$error":"#N/A"},{"$error":"#N/A"},{"$error":"#N/A"},{"$error":"#N/A"},{"$error":"#N/A"},{"$f":"AVERAGE(OFFSET(H816,0,0,Overview!$C$1))","v":{"$error":"#N/A"}},{"$f":"AVERAGE(OFFSET(H816,0,0,Overview!$C$2))","v":{"$error":"#N/A"}},{"$error":"#N/A"},{"$error":"#N/A"}]
[null,{"$error":"#N/A"},{"$error":"#N/A"},{"$error":"#N/A"},{"$error":"#N/A"},{"$error":"#N/A"},{"$error":"#N/A"},{"$error":"#N/A"},{"$error":"#N/A"},{"$error":"#N/A"},{"$f":"AVERAGE(OFFSET(H817,0,0,Overview!$C$1))","v":{"$error":"#N/A"}},{"$f":"AVERAGE(OFFSET(H817,0,0,Overview!$C$2))","v":{"$error":"#N/A"}},{"$error":"#N/A"},{"$error":"#N/A"}]
[null,{"$error":"#N/A"},{"$error":"#N/A"},{"$error":"#N/A"},{"$error":"#N/A"},{"$error":"#N/A"},{"$error":"#N/A"},{"$error":"#N/A"},{"$error":"#N/A"},{"$error":"#N/A"},{"$f":"AVERAGE(OFFSET(H818,0,0,Overview!$C$1))","v":{"$error":"#N/A"}},{"$f":"AVERAGE(OFFSET(H818,0,0,Overview!$C$2))","v":{"$error":"#N/A"}},{"$error":"#N/A"},{"$error":"#N/A"}]
[null,{"$error":"#N/A"},{"$error":"#N/A"},{"$error":"#N/A"},{"$error":"#N/A"},{"$error":"#N/A"},{"$error":"#N/A"},{"$error":"#N/A"},{"$error":"#N/A"},{"$error":"#N/A"},{"$f":"AVERAGE(OFFSET(H819,0,0,Overview!$C$1))","v":{"$error":"#N/A"}},{"$f":"AVERAGE(OFFSET(H819,0,0,Overview!$C$2))","v":{"$error":"#N/A"}},{"$error":"#N/A"},{"$error":"#N/A"}]
[null,{"$error":"#N/A"},{"$error":"#N/A"},{"$error":"#N/A"},{"$error":"#N/A"},{"$error":"#N/A"},{"$error":"#N/A"},{"$error":"#N/A"},{"$error":"#N/A"},{"$error":"#N/A"},{"$f":"AVERAGE(OFFSET(H820,0,0,Overview!$C$1))","v":{"$error":"#N/A"}},{"$f":"AVERAGE(OFFSET(H820,0,0,Overview!$C$2))","v":{"$error":"#N/A"}},{"$error":"#N/A"},{"$error":"#N/A"}]
[null,{"$error":"#N/A"},{"$error":"#N/A"},{"$error":"#N/A"},{"$error":"#N/A"},{"$error":"#N/A"},{"$error":"#N/A"},{"$error":"#N/A"},{"$error":"#N/A"},{"$error":"#N/A"},{"$f":"AVERAGE(OFFSET(H821,0,0,Overview!$C$1))","v":{"$error":"#N/A"}},{"$f":"AVERAGE(OFFSET(H821,0,0,Overview!$C$2))","v":{"$error":"#N/A"}},{"$error":"#N/A"},{"$error":"#N/A"}]
[null,{"$error":"#N/A"},{"$error":"#N/A"},{"$error":"#N/A"},{"$error":"#N/A"},{"$error":"#N/A"},{"$error":"#N/A"},{"$error":"#N/A"},{"$error":"#N/A"},{"$error":"#N/A"},{"$f":"AVERAGE(OFFSET(H822,0,0,Overview!$C$1))","v":{"$error":"#N/A"}},{"$f":"AVERAGE(OFFSET(H822,0,0,Overview!$C$2))","v":{"$error":"#N/A"}},{"$error":"#N/A"},{"$error":"#N/A"}]
[null,{"$error":"#N/A"},{"$error":"#N/A"},{"$error":"#N/A"},{"$error":"#N/A"},{"$error":"#N/A"},{"$error":"#N/A"},{"$error":"#N/A"},{"$error":"#N/A"},{"$error":"#N/A"},{"$f":"AVERAGE(OFFSET(H823,0,0,Overview!$C$1))","v":{"$error":"#N/A"}},{"$f":"AVERAGE(OFFSET(H823,0,0,Overview!$C$2))","v":{"$error":"#N/A"}},{"$error":"#N/A"},{"$error":"#N/A"}]
[null,{"$error":"#N/A"},{"$error":"#N/A"},{"$error":"#N/A"},{"$error":"#N/A"},{"$error":"#N/A"},{"$error":"#N/A"},{"$error":"#N/A"},{"$error":"#N/A"},{"$error":"#N/A"},{"$f":"AVERAGE(OFFSET(H824,0,0,Overview!$C$1))","v":{"$error":"#N/A"}},{"$f":"AVERAGE(OFFSET(H824,0,0,Overview!$C$2))","v":{"$error":"#N/A"}},{"$error":"#N/A"},{"$error":"#N/A"}]
[null,{"$error":"#N/A"},{"$error":"#N/A"},{"$error":"#N/A"},{"$error":"#N/A"},{"$error":"#N/A"},{"$error":"#N/A"},{"$error":"#N/A"},{"$error":"#N/A"},{"$error":"#N/A"},{"$f":"AVERAGE(OFFSET(H825,0,0,Overview!$C$1))","v":{"$error":"#N/A"}},{"$f":"AVERAGE(OFFSET(H825,0,0,Overview!$C$2))","v":{"$error":"#N/A"}},{"$error":"#N/A"},{"$error":"#N/A"}]
[null,{"$error":"#N/A"},{"$error":"#N/A"},{"$error":"#N/A"},{"$error":"#N/A"},{"$error":"#N/A"},{"$error":"#N/A"},{"$error":"#N/A"},{"$error":"#N/A"},{"$error":"#N/A"},{"$f":"AVERAGE(OFFSET(H826,0,0,Overview!$C$1))","v":{"$error":"#N/A"}},{"$f":"AVERAGE(OFFSET(H826,0,0,Overview!$C$2))","v":{"$error":"#N/A"}},{"$error":"#N/A"},{"$error":"#N/A"}]
[null,{"$error":"#N/A"},{"$error":"#N/A"},{"$error":"#N/A"},{"$error":"#N/A"},{"$error":"#N/A"},{"$error":"#N/A"},{"$error":"#N/A"},{"$error":"#N/A"},{"$error":"#N/A"},{"$f":"AVERAGE(OFFSET(H827,0,0,Overview!$C$1))","v":{"$error":"#N/A"}},{"$f":"AVERAGE(OFFSET(H827,0,0,Overview!$C$2))","v":{"$error":"#N/A"}},{"$error":"#N/A"},{"$error":"#N/A"}]
[null,{"$error":"#N/A"},{"$error":"#N/A"},{"$error":"#N/A"},{"$error":"#N/A"},{"$error":"#N/A"},{"$error":"#N/A"},{"$error":"#N/A"},{"$error":"#N/A"},{"$error":"#N/A"},{"$f":"AVERAGE(OFFSET(H828,0,0,Overview!$C$1))","v":{"$error":"#N/A"}},{"$f":"AVERAGE(OFFSET(H828,0,0,Overview!$C$2))","v":{"$error":"#N/A"}},{"$error":"#N/A"},{"$error":"#N/A"}]
[null,{"$error":"#N/A"},{"$error":"#N/A"},{"$error":"#N/A"},{"$error":"#N/A"},{"$error":"#N/A"},{"$error":"#N/A"},{"$error":"#N/A"},{"$error":"#N/A"},{"$error":"#N/A"},{"$f":"AVERAGE(OFFSET(H829,0,0,Overview!$C$1))","v":{"$error":"#N/A"}},{"$f":"AVERAGE(OFFSET(H829,0,0,Overview!$C$2))","v":{"$error":"#N/A"}},{"$error":"#N/A"},{"$error":"#N/A"}]
[null,{"$error":"#N/A"},{"$error":"#N/A"},{"$error":"#N/A"},{"$error":"#N/A"},{"$error":"#N/A"},{"$error":"#N/A"},{"$error":"#N/A"},{"$error":"#N/A"},{"$error":"#N/A"},{"$f":"AVERAGE(OFFSET(H830,0,0,Overview!$C$1))","v":{"$error":"#N/A"}},{"$f":"AVERAGE(OFFSET(H830,0,0,Overview!$C$2))","v":{"$error":"#N/A"}},{"$error":"#N/A"},{"$error":"#N/A"}]
[null,{"$error":"#N/A"},{"$error":"#N/A"},{"$error":"#N/A"},{"$error":"#N/A"},{"$error":"#N/A"},{"$error":"#N/A"},{"$error":"#N/A"},{"$error":"#N/A"},{"$error":"#N/A"},{"$f":"AVERAGE(OFFSET(H831,0,0,Overview!$C$1))","v":{"$error":"#N/A"}},{"$f":"AVERAGE(OFFSET(H831,0,0,Overview!$C$2))","v":{"$error":"#N/A"}},{"$error":"#N/A"},{"$error":"#N/A"}]
[null,{"$error":"#N/A"},{"$error":"#N/A"},{"$error":"#N/A"},{"$error":"#N/A"},{"$error":"#N/A"},{"$error":"#N/A"},{"$error":"#N/A"},{"$error":"#N/A"},{"$error":"#N/A"},{"$f":"AVERAGE(OFFSET(H832,0,0,Overview!$C$1))","v":{"$error":"#N/A"}},{"$f":"AVERAGE(OFFSET(H832,0,0,Overview!$C$2))","v":{"$error":"#N/A"}},{"$error":"#N/A"},{"$error":"#N/A"}]
[null,{"$error":"#N/A"},{"$error":"#N/A"},{"$error":"#N/A"},{"$error":"#N/A"},{"$error":"#N/A"},{"$error":"#N/A"},{"$error":"#N/A"},{"$error":"#N/A"},{"$error":"#N/A"},{"$f":"AVERAGE(OFFSET(H833,0,0,Overview!$C$1))","v":{"$error":"#N/A"}},{"$f":"AVERAGE(OFFSET(H833,0,0,Overview!$C$2))","v":{"$error":"#N/A"}},{"$error":"#N/A"},{"$error":"#N/A"}]
[null,{"$error":"#N/A"},{"$f":"IF(TEXT(D834,\"MMM\")=TEXT(D835,\"MMM\"),\"\",TEXT(D834,\"MMM\"))","v":{"$error":"#N/A"}},{"$error":"#N/A"},{"$error":"#N/A"},{"$error":"#N/A"},{"$error":"#N/A"},{"$error":"#N/A"},{"$error":"#N/A"},{"$error":"#N/A"},{"$f":"AVERAGE(OFFSET(H834,0,0,Overview!$C$1))","v":{"$error":"#N/A"}},{"$f":"AVERAGE(OFFSET(H834,0,0,Overview!$C$2))","v":{"$error":"#N/A"}},{"$error":"#N/A"},{"$error":"#N/A"}]
[null,{"$error":"#N/A"},{"$error":"#N/A"},{"$error":"#N/A"},{"$error":"#N/A"},{"$error":"#N/A"},{"$error":"#N/A"},{"$error":"#N/A"},{"$error":"#N/A"},{"$error":"#N/A"},{"$f":"AVERAGE(OFFSET(H835,0,0,Overview!$C$1))","v":{"$error":"#N/A"}},{"$f":"AVERAGE(OFFSET(H835,0,0,Overview!$C$2))","v":{"$error":"#N/A"}},{"$f":"IF((L836<K836)*(L835>K835),K835,\"\")","v":{"$error":"#N/A"}},{"$f":"IF((L836>K836)*(L835<K835),K835,\"\")","v":{"$error":"#N/A"}}]
[null,{"$f":"IF(YEAR(D836)=YEAR(D837),\"\",YEAR(D836))","v":{"$error":"#N/A"}},{"$error":"#N/A"},{"$error":"#N/A"},{"$error":"#N/A"},{"$error":"#N/A"},{"$error":"#N/A"},{"$error":"#N/A"},{"$error":"#N/A"},{"$error":"#N/A"},{"$f":"AVERAGE(OFFSET(H836,0,0,Overview!$C$1))","v":{"$error":"#N/A"}},{"$f":"AVERAGE(OFFSET(H836,0,0,Overview!$C$2))","v":{"$error":"#N/A"}},{"$error":"#N/A"},{"$error":"#N/A"}]
[null,{"$error":"#N/A"},{"$error":"#N/A"},{"$error":"#N/A"},{"$error":"#N/A"},{"$error":"#N/A"},{"$error":"#N/A"},{"$error":"#N/A"},{"$error":"#N/A"},{"$error":"#N/A"},{"$f":"AVERAGE(OFFSET(H837,0,0,Overview!$C$1))","v":{"$error":"#N/A"}},{"$f":"AVERAGE(OFFSET(H837,0,0,Overview!$C$2))","v":{"$error":"#N/A"}},{"$error":"#N/A"},{"$error":"#N/A"}]
[null,{"$error":"#N/A"},{"$error":"#N/A"},{"$error":"#N/A"},{"$error":"#N/A"},{"$error":"#N/A"},{"$error":"#N/A"},{"$error":"#N/A"},{"$error":"#N/A"},{"$error":"#N/A"},{"$f":"AVERAGE(OFFSET(H838,0,0,Overview!$C$1))","v":{"$error":"#N/A"}},{"$f":"AVERAGE(OFFSET(H838,0,0,Overview!$C$2))","v":{"$error":"#N/A"}},{"$error":"#N/A"},{"$error":"#N/A"}]
[null,{"$error":"#N/A"},{"$error":"#N/A"},{"$error":"#N/A"},{"$error":"#N/A"},{"$error":"#N/A"},{"$error":"#N/A"},{"$error":"#N/A"},{"$error":"#N/A"},{"$error":"#N/A"},{"$f":"AVERAGE(OFFSET(H839,0,0,Overview!$C$1))","v":{"$error":"#N/A"}},{"$f":"AVERAGE(OFFSET(H839,0,0,Overview!$C$2))","v":{"$error":"#N/A"}},{"$error":"#N/A"},{"$error":"#N/A"}]
[null,{"$error":"#N/A"},{"$error":"#N/A"},{"$error":"#N/A"},{"$error":"#N/A"},{"$error":"#N/A"},{"$error":"#N/A"},{"$error":"#N/A"},{"$error":"#N/A"},{"$error":"#N/A"},{"$f":"AVERAGE(OFFSET(H840,0,0,Overview!$C$1))","v":{"$error":"#N/A"}},{"$f":"AVERAGE(OFFSET(H840,0,0,Overview!$C$2))","v":{"$error":"#N/A"}},{"$error":"#N/A"},{"$error":"#N/A"}]
[null,{"$error":"#N/A"},{"$error":"#N/A"},{"$error":"#N/A"},{"$error":"#N/A"},{"$error":"#N/A"},{"$error":"#N/A"},{"$error":"#N/A"},{"$error":"#N/A"},{"$error":"#N/A"},{"$f":"AVERAGE(OFFSET(H841,0,0,Overview!$C$1))","v":{"$error":"#N/A"}},{"$f":"AVERAGE(OFFSET(H841,0,0,Overview!$C$2))","v":{"$error":"#N/A"}},{"$error":"#N/A"},{"$error":"#N/A"}]
[null,{"$error":"#N/A"},{"$error":"#N/A"},{"$error":"#N/A"},{"$error":"#N/A"},{"$error":"#N/A"},{"$error":"#N/A"},{"$error":"#N/A"},{"$error":"#N/A"},{"$error":"#N/A"},{"$f":"AVERAGE(OFFSET(H842,0,0,Overview!$C$1))","v":{"$error":"#N/A"}},{"$f":"AVERAGE(OFFSET(H842,0,0,Overview!$C$2))","v":{"$error":"#N/A"}},{"$error":"#N/A"},{"$error":"#N/A"}]
[null,{"$error":"#N/A"},{"$error":"#N/A"},{"$error":"#N/A"},{"$error":"#N/A"},{"$error":"#N/A"},{"$error":"#N/A"},{"$error":"#N/A"},{"$error":"#N/A"},{"$error":"#N/A"},{"$f":"AVERAGE(OFFSET(H843,0,0,Overview!$C$1))","v":{"$error":"#N/A"}},{"$f":"AVERAGE(OFFSET(H843,0,0,Overview!$C$2))","v":{"$error":"#N/A"}},{"$error":"#N/A"},{"$error":"#N/A"}]
[null,{"$error":"#N/A"},{"$error":"#N/A"},{"$error":"#N/A"},{"$error":"#N/A"},{"$error":"#N/A"},{"$error":"#N/A"},{"$error":"#N/A"},{"$error":"#N/A"},{"$error":"#N/A"},{"$f":"AVERAGE(OFFSET(H844,0,0,Overview!$C$1))","v":{"$error":"#N/A"}},{"$f":"AVERAGE(OFFSET(H844,0,0,Overview!$C$2))","v":{"$error":"#N/A"}},{"$error":"#N/A"},{"$error":"#N/A"}]
[null,{"$error":"#N/A"},{"$error":"#N/A"},{"$error":"#N/A"},{"$error":"#N/A"},{"$error":"#N/A"},{"$error":"#N/A"},{"$error":"#N/A"},{"$error":"#N/A"},{"$error":"#N/A"},{"$f":"AVERAGE(OFFSET(H845,0,0,Overview!$C$1))","v":{"$error":"#N/A"}},{"$f":"AVERAGE(OFFSET(H845,0,0,Overview!$C$2))","v":{"$error":"#N/A"}},{"$error":"#N/A"},{"$error":"#N/A"}]
[null,{"$error":"#N/A"},{"$error":"#N/A"},{"$error":"#N/A"},{"$error":"#N/A"},{"$error":"#N/A"},{"$error":"#N/A"},{"$error":"#N/A"},{"$error":"#N/A"},{"$error":"#N/A"},{"$f":"AVERAGE(OFFSET(H846,0,0,Overview!$C$1))","v":{"$error":"#N/A"}},{"$f":"AVERAGE(OFFSET(H846,0,0,Overview!$C$2))","v":{"$error":"#N/A"}},{"$error":"#N/A"},{"$error":"#N/A"}]
[null,{"$error":"#N/A"},{"$error":"#N/A"},{"$error":"#N/A"},{"$error":"#N/A"},{"$error":"#N/A"},{"$error":"#N/A"},{"$error":"#N/A"},{"$error":"#N/A"},{"$error":"#N/A"},{"$f":"AVERAGE(OFFSET(H847,0,0,Overview!$C$1))","v":{"$error":"#N/A"}},{"$f":"AVERAGE(OFFSET(H847,0,0,Overview!$C$2))","v":{"$error":"#N/A"}},{"$error":"#N/A"},{"$error":"#N/A"}]
[null,{"$error":"#N/A"},{"$error":"#N/A"},{"$error":"#N/A"},{"$error":"#N/A"},{"$error":"#N/A"},{"$error":"#N/A"},{"$error":"#N/A"},{"$error":"#N/A"},{"$error":"#N/A"},{"$f":"AVERAGE(OFFSET(H848,0,0,Overview!$C$1))","v":{"$error":"#N/A"}},{"$f":"AVERAGE(OFFSET(H848,0,0,Overview!$C$2))","v":{"$error":"#N/A"}},{"$error":"#N/A"},{"$error":"#N/A"}]
[null,{"$error":"#N/A"},{"$error":"#N/A"},{"$error":"#N/A"},{"$error":"#N/A"},{"$error":"#N/A"},{"$error":"#N/A"},{"$error":"#N/A"},{"$error":"#N/A"},{"$error":"#N/A"},{"$f":"AVERAGE(OFFSET(H849,0,0,Overview!$C$1))","v":{"$error":"#N/A"}},{"$f":"AVERAGE(OFFSET(H849,0,0,Overview!$C$2))","v":{"$error":"#N/A"}},{"$error":"#N/A"},{"$error":"#N/A"}]
[null,{"$error":"#N/A"},{"$error":"#N/A"},{"$error":"#N/A"},{"$error":"#N/A"},{"$error":"#N/A"},{"$error":"#N/A"},{"$error":"#N/A"},{"$error":"#N/A"},{"$error":"#N/A"},{"$f":"AVERAGE(OFFSET(H850,0,0,Overview!$C$1))","v":{"$error":"#N/A"}},{"$f":"AVERAGE(OFFSET(H850,0,0,Overview!$C$2))","v":{"$error":"#N/A"}},{"$error":"#N/A"},{"$error":"#N/A"}]
[null,{"$error":"#N/A"},{"$error":"#N/A"},{"$error":"#N/A"},{"$error":"#N/A"},{"$error":"#N/A"},{"$error":"#N/A"},{"$error":"#N/A"},{"$error":"#N/A"},{"$error":"#N/A"},{"$f":"AVERAGE(OFFSET(H851,0,0,Overview!$C$1))","v":{"$error":"#N/A"}},{"$f":"AVERAGE(OFFSET(H851,0,0,Overview!$C$2))","v":{"$error":"#N/A"}},{"$error":"#N/A"},{"$error":"#N/A"}]
[null,{"$error":"#N/A"},{"$error":"#N/A"},{"$error":"#N/A"},{"$error":"#N/A"},{"$error":"#N/A"},{"$error":"#N/A"},{"$error":"#N/A"},{"$error":"#N/A"},{"$error":"#N/A"},{"$f":"AVERAGE(OFFSET(H852,0,0,Overview!$C$1))","v":{"$error":"#N/A"}},{"$f":"AVERAGE(OFFSET(H852,0,0,Overview!$C$2))","v":{"$error":"#N/A"}},{"$error":"#N/A"},{"$error":"#N/A"}]
[null,{"$error":"#N/A"},{"$error":"#N/A"},{"$error":"#N/A"},{"$error":"#N/A"},{"$error":"#N/A"},{"$error":"#N/A"},{"$error":"#N/A"},{"$error":"#N/A"},{"$error":"#N/A"},{"$f":"AVERAGE(OFFSET(H853,0,0,Overview!$C$1))","v":{"$error":"#N/A"}},{"$f":"AVERAGE(OFFSET(H853,0,0,Overview!$C$2))","v":{"$error":"#N/A"}},{"$error":"#N/A"},{"$error":"#N/A"}]
[null,{"$error":"#N/A"},{"$error":"#N/A"},{"$error":"#N/A"},{"$error":"#N/A"},{"$error":"#N/A"},{"$error":"#N/A"},{"$error":"#N/A"},{"$error":"#N/A"},{"$error":"#N/A"},{"$f":"AVERAGE(OFFSET(H854,0,0,Overview!$C$1))","v":{"$error":"#N/A"}},{"$f":"AVERAGE(OFFSET(H854,0,0,Overview!$C$2))","v":{"$error":"#N/A"}},{"$error":"#N/A"},{"$error":"#N/A"}]
[null,{"$error":"#N/A"},{"$error":"#N/A"},{"$error":"#N/A"},{"$error":"#N/A"},{"$error":"#N/A"},{"$error":"#N/A"},{"$error":"#N/A"},{"$error":"#N/A"},{"$error":"#N/A"},{"$f":"AVERAGE(OFFSET(H855,0,0,Overview!$C$1))","v":{"$error":"#N/A"}},{"$f":"AVERAGE(OFFSET(H855,0,0,Overview!$C$2))","v":{"$error":"#N/A"}},{"$error":"#N/A"},{"$error":"#N/A"}]
[null,{"$error":"#N/A"},{"$error":"#N/A"},{"$error":"#N/A"},{"$error":"#N/A"},{"$error":"#N/A"},{"$error":"#N/A"},{"$error":"#N/A"},{"$error":"#N/A"},{"$error":"#N/A"},{"$f":"AVERAGE(OFFSET(H856,0,0,Overview!$C$1))","v":{"$error":"#N/A"}},{"$f":"AVERAGE(OFFSET(H856,0,0,Overview!$C$2))","v":{"$error":"#N/A"}},{"$error":"#N/A"},{"$error":"#N/A"}]
[null,{"$error":"#N/A"},{"$error":"#N/A"},{"$error":"#N/A"},{"$error":"#N/A"},{"$error":"#N/A"},{"$error":"#N/A"},{"$error":"#N/A"},{"$error":"#N/A"},{"$error":"#N/A"},{"$f":"AVERAGE(OFFSET(H857,0,0,Overview!$C$1))","v":{"$error":"#N/A"}},{"$f":"AVERAGE(OFFSET(H857,0,0,Overview!$C$2))","v":{"$error":"#N/A"}},{"$error":"#N/A"},{"$error":"#N/A"}]
[null,{"$error":"#N/A"},{"$error":"#N/A"},{"$error":"#N/A"},{"$error":"#N/A"},{"$error":"#N/A"},{"$error":"#N/A"},{"$error":"#N/A"},{"$error":"#N/A"},{"$error":"#N/A"},{"$f":"AVERAGE(OFFSET(H858,0,0,Overview!$C$1))","v":{"$error":"#N/A"}},{"$f":"AVERAGE(OFFSET(H858,0,0,Overview!$C$2))","v":{"$error":"#N/A"}},{"$error":"#N/A"},{"$error":"#N/A"}]
[null,{"$error":"#N/A"},{"$error":"#N/A"},{"$error":"#N/A"},{"$error":"#N/A"},{"$error":"#N/A"},{"$error":"#N/A"},{"$error":"#N/A"},{"$error":"#N/A"},{"$error":"#N/A"},{"$f":"AVERAGE(OFFSET(H859,0,0,Overview!$C$1))","v":{"$error":"#N/A"}},{"$f":"AVERAGE(OFFSET(H859,0,0,Overview!$C$2))","v":{"$error":"#N/A"}},{"$error":"#N/A"},{"$error":"#N/A"}]
[null,{"$error":"#N/A"},{"$error":"#N/A"},{"$error":"#N/A"},{"$error":"#N/A"},{"$error":"#N/A"},{"$error":"#N/A"},{"$error":"#N/A"},{"$error":"#N/A"},{"$error":"#N/A"},{"$f":"AVERAGE(OFFSET(H860,0,0,Overview!$C$1))","v":{"$error":"#N/A"}},{"$f":"AVERAGE(OFFSET(H860,0,0,Overview!$C$2))","v":{"$error":"#N/A"}},{"$error":"#N/A"},{"$error":"#N/A"}]
[null,{"$error":"#N/A"},{"$error":"#N/A"},{"$error":"#N/A"},{"$error":"#N/A"},{"$error":"#N/A"},{"$error":"#N/A"},{"$error":"#N/A"},{"$error":"#N/A"},{"$error":"#N/A"},{"$f":"AVERAGE(OFFSET(H861,0,0,Overview!$C$1))","v":{"$error":"#N/A"}},{"$f":"AVERAGE(OFFSET(H861,0,0,Overview!$C$2))","v":{"$error":"#N/A"}},{"$error":"#N/A"},{"$error":"#N/A"}]
[null,{"$error":"#N/A"},{"$error":"#N/A"},{"$error":"#N/A"},{"$error":"#N/A"},{"$error":"#N/A"},{"$error":"#N/A"},{"$error":"#N/A"},{"$error":"#N/A"},{"$error":"#N/A"},{"$f":"AVERAGE(OFFSET(H862,0,0,Overview!$C$1))","v":{"$error":"#N/A"}},{"$f":"AVERAGE(OFFSET(H862,0,0,Overview!$C$2))","v":{"$error":"#N/A"}},{"$error":"#N/A"},{"$error":"#N/A"}]
[null,{"$error":"#N/A"},{"$error":"#N/A"},{"$error":"#N/A"},{"$error":"#N/A"},{"$error":"#N/A"},{"$error":"#N/A"},{"$error":"#N/A"},{"$error":"#N/A"},{"$error":"#N/A"},{"$f":"AVERAGE(OFFSET(H863,0,0,Overview!$C$1))","v":{"$error":"#N/A"}},{"$f":"AVERAGE(OFFSET(H863,0,0,Overview!$C$2))","v":{"$error":"#N/A"}},{"$error":"#N/A"},{"$error":"#N/A"}]
[null,{"$error":"#N/A"},{"$error":"#N/A"},{"$error":"#N/A"},{"$error":"#N/A"},{"$error":"#N/A"},{"$error":"#N/A"},{"$error":"#N/A"},{"$error":"#N/A"},{"$error":"#N/A"},{"$f":"AVERAGE(OFFSET(H864,0,0,Overview!$C$1))","v":{"$error":"#N/A"}},{"$f":"AVERAGE(OFFSET(H864,0,0,Overview!$C$2))","v":{"$error":"#N/A"}},{"$error":"#N/A"},{"$error":"#N/A"}]
[null,{"$error":"#N/A"},{"$error":"#N/A"},{"$error":"#N/A"},{"$error":"#N/A"},{"$error":"#N/A"},{"$error":"#N/A"},{"$error":"#N/A"},{"$error":"#N/A"},{"$error":"#N/A"},{"$f":"AVERAGE(OFFSET(H865,0,0,Overview!$C$1))","v":{"$error":"#N/A"}},{"$f":"AVERAGE(OFFSET(H865,0,0,Overview!$C$2))","v":{"$error":"#N/A"}},{"$error":"#N/A"},{"$error":"#N/A"}]
[null,{"$error":"#N/A"},{"$error":"#N/A"},{"$error":"#N/A"},{"$error":"#N/A"},{"$error":"#N/A"},{"$error":"#N/A"},{"$error":"#N/A"},{"$error":"#N/A"},{"$error":"#N/A"},{"$f":"AVERAGE(OFFSET(H866,0,0,Overview!$C$1))","v":{"$error":"#N/A"}},{"$f":"AVERAGE(OFFSET(H866,0,0,Overview!$C$2))","v":{"$error":"#N/A"}},{"$error":"#N/A"},{"$error":"#N/A"}]
[null,{"$error":"#N/A"},{"$error":"#N/A"},{"$error":"#N/A"},{"$error":"#N/A"},{"$error":"#N/A"},{"$error":"#N/A"},{"$error":"#N/A"},{"$error":"#N/A"},{"$error":"#N/A"},{"$f":"AVERAGE(OFFSET(H867,0,0,Overview!$C$1))","v":{"$error":"#N/A"}},{"$f":"AVERAGE(OFFSET(H867,0,0,Overview!$C$2))","v":{"$error":"#N/A"}},{"$error":"#N/A"},{"$error":"#N/A"}]
[null,{"$error":"#N/A"},{"$error":"#N/A"},{"$error":"#N/A"},{"$error":"#N/A"},{"$error":"#N/A"},{"$error":"#N/A"},{"$error":"#N/A"},{"$error":"#N/A"},{"$error":"#N/A"},{"$f":"AVERAGE(OFFSET(H868,0,0,Overview!$C$1))","v":{"$error":"#N/A"}},{"$f":"AVERAGE(OFFSET(H868,0,0,Overview!$C$2))","v":{"$error":"#N/A"}},{"$error":"#N/A"},{"$error":"#N/A"}]
[null,{"$error":"#N/A"},{"$error":"#N/A"},{"$error":"#N/A"},{"$error":"#N/A"},{"$error":"#N/A"},{"$error":"#N/A"},{"$error":"#N/A"},{"$error":"#N/A"},{"$error":"#N/A"},{"$f":"AVERAGE(OFFSET(H869,0,0,Overview!$C$1))","v":{"$error":"#N/A"}},{"$f":"AVERAGE(OFFSET(H869,0,0,Overview!$C$2))","v":{"$error":"#N/A"}},{"$error":"#N/A"},{"$error":"#N/A"}]
[null,{"$error":"#N/A"},{"$error":"#N/A"},{"$error":"#N/A"},{"$error":"#N/A"},{"$error":"#N/A"},{"$error":"#N/A"},{"$error":"#N/A"},{"$error":"#N/A"},{"$error":"#N/A"},{"$f":"AVERAGE(OFFSET(H870,0,0,Overview!$C$1))","v":{"$error":"#N/A"}},{"$f":"AVERAGE(OFFSET(H870,0,0,Overview!$C$2))","v":{"$error":"#N/A"}},{"$error":"#N/A"},{"$error":"#N/A"}]
[null,{"$error":"#N/A"},{"$error":"#N/A"},{"$error":"#N/A"},{"$error":"#N/A"},{"$error":"#N/A"},{"$error":"#N/A"},{"$error":"#N/A"},{"$error":"#N/A"},{"$error":"#N/A"},{"$f":"AVERAGE(OFFSET(H871,0,0,Overview!$C$1))","v":{"$error":"#N/A"}},{"$f":"AVERAGE(OFFSET(H871,0,0,Overview!$C$2))","v":{"$error":"#N/A"}},{"$error":"#N/A"},{"$error":"#N/A"}]
[null,{"$error":"#N/A"},{"$error":"#N/A"},{"$error":"#N/A"},{"$error":"#N/A"},{"$error":"#N/A"},{"$error":"#N/A"},{"$error":"#N/A"},{"$error":"#N/A"},{"$error":"#N/A"},{"$f":"AVERAGE(OFFSET(H872,0,0,Overview!$C$1))","v":{"$error":"#N/A"}},{"$f":"AVERAGE(OFFSET(H872,0,0,Overview!$C$2))","v":{"$error":"#N/A"}},{"$error":"#N/A"},{"$error":"#N/A"}]
[null,{"$error":"#N/A"},{"$error":"#N/A"},{"$error":"#N/A"},{"$error":"#N/A"},{"$error":"#N/A"},{"$error":"#N/A"},{"$error":"#N/A"},{"$error":"#N/A"},{"$error":"#N/A"},{"$f":"AVERAGE(OFFSET(H873,0,0,Overview!$C$1))","v":{"$error":"#N/A"}},{"$f":"AVERAGE(OFFSET(H873,0,0,Overview!$C$2))","v":{"$error":"#N/A"}},{"$error":"#N/A"},{"$error":"#N/A"}]
[null,{"$error":"#N/A"},{"$error":"#N/A"},{"$error":"#N/A"},{"$error":"#N/A"},{"$error":"#N/A"},{"$error":"#N/A"},{"$error":"#N/A"},{"$error":"#N/A"},{"$error":"#N/A"},{"$f":"AVERAGE(OFFSET(H874,0,0,Overview!$C$1))","v":{"$error":"#N/A"}},{"$f":"AVERAGE(OFFSET(H874,0,0,Overview!$C$2))","v":{"$error":"#N/A"}},{"$error":"#N/A"},{"$error":"#N/A"}]
[null,{"$error":"#N/A"},{"$error":"#N/A"},{"$error":"#N/A"},{"$error":"#N/A"},{"$error":"#N/A"},{"$error":"#N/A"},{"$error":"#N/A"},{"$error":"#N/A"},{"$error":"#N/A"},{"$f":"AVERAGE(OFFSET(H875,0,0,Overview!$C$1))","v":{"$error":"#N/A"}},{"$f":"AVERAGE(OFFSET(H875,0,0,Overview!$C$2))","v":{"$error":"#N/A"}},{"$error":"#N/A"},{"$error":"#N/A"}]
[null,{"$error":"#N/A"},{"$error":"#N/A"},{"$error":"#N/A"},{"$error":"#N/A"},{"$error":"#N/A"},{"$error":"#N/A"},{"$error":"#N/A"},{"$error":"#N/A"},{"$error":"#N/A"},{"$f":"AVERAGE(OFFSET(H876,0,0,Overview!$C$1))","v":{"$error":"#N/A"}},{"$f":"AVERAGE(OFFSET(H876,0,0,Overview!$C$2))","v":{"$error":"#N/A"}},{"$error":"#N/A"},{"$error":"#N/A"}]
[null,{"$error":"#N/A"},{"$error":"#N/A"},{"$error":"#N/A"},{"$error":"#N/A"},{"$error":"#N/A"},{"$error":"#N/A"},{"$error":"#N/A"},{"$error":"#N/A"},{"$error":"#N/A"},{"$f":"AVERAGE(OFFSET(H877,0,0,Overview!$C$1))","v":{"$error":"#N/A"}},{"$f":"AVERAGE(OFFSET(H877,0,0,Overview!$C$2))","v":{"$error":"#N/A"}},{"$error":"#N/A"},{"$error":"#N/A"}]
[null,{"$error":"#N/A"},{"$error":"#N/A"},{"$error":"#N/A"},{"$error":"#N/A"},{"$error":"#N/A"},{"$error":"#N/A"},{"$error":"#N/A"},{"$error":"#N/A"},{"$error":"#N/A"},{"$f":"AVERAGE(OFFSET(H878,0,0,Overview!$C$1))","v":{"$error":"#N/A"}},{"$f":"AVERAGE(OFFSET(H878,0,0,Overview!$C$2))","v":{"$error":"#N/A"}},{"$error":"#N/A"},{"$error":"#N/A"}]
[null,{"$error":"#N/A"},{"$error":"#N/A"},{"$error":"#N/A"},{"$error":"#N/A"},{"$error":"#N/A"},{"$error":"#N/A"},{"$error":"#N/A"},{"$error":"#N/A"},{"$error":"#N/A"},{"$f":"AVERAGE(OFFSET(H879,0,0,Overview!$C$1))","v":{"$error":"#N/A"}},{"$f":"AVERAGE(OFFSET(H879,0,0,Overview!$C$2))","v":{"$error":"#N/A"}},{"$error":"#N/A"},{"$error":"#N/A"}]
[null,{"$error":"#N/A"},{"$error":"#N/A"},{"$error":"#N/A"},{"$error":"#N/A"},{"$error":"#N/A"},{"$error":"#N/A"},{"$error":"#N/A"},{"$error":"#N/A"},{"$error":"#N/A"},{"$f":"AVERAGE(OFFSET(H880,0,0,Overview!$C$1))","v":{"$error":"#N/A"}},{"$f":"AVERAGE(OFFSET(H880,0,0,Overview!$C$2))","v":{"$error":"#N/A"}},{"$error":"#N/A"},{"$error":"#N/A"}]
[null,{"$error":"#N/A"},{"$error":"#N/A"},{"$error":"#N/A"},{"$error":"#N/A"},{"$error":"#N/A"},{"$error":"#N/A"},{"$error":"#N/A"},{"$error":"#N/A"},{"$error":"#N/A"},{"$f":"AVERAGE(OFFSET(H881,0,0,Overview!$C$1))","v":{"$error":"#N/A"}},{"$f":"AVERAGE(OFFSET(H881,0,0,Overview!$C$2))","v":{"$error":"#N/A"}},{"$error":"#N/A"},{"$error":"#N/A"}]
[null,{"$error":"#N/A"},{"$error":"#N/A"},{"$error":"#N/A"},{"$error":"#N/A"},{"$error":"#N/A"},{"$error":"#N/A"},{"$error":"#N/A"},{"$error":"#N/A"},{"$error":"#N/A"},{"$f":"AVERAGE(OFFSET(H882,0,0,Overview!$C$1))","v":{"$error":"#N/A"}},{"$f":"AVERAGE(OFFSET(H882,0,0,Overview!$C$2))","v":{"$error":"#N/A"}},{"$error":"#N/A"},{"$error":"#N/A"}]
[null,{"$error":"#N/A"},{"$error":"#N/A"},{"$error":"#N/A"},{"$error":"#N/A"},{"$error":"#N/A"},{"$error":"#N/A"},{"$error":"#N/A"},{"$error":"#N/A"},{"$error":"#N/A"},{"$f":"AVERAGE(OFFSET(H883,0,0,Overview!$C$1))","v":{"$error":"#N/A"}},{"$f":"AVERAGE(OFFSET(H883,0,0,Overview!$C$2))","v":{"$error":"#N/A"}},{"$error":"#N/A"},{"$error":"#N/A"}]
[null,{"$error":"#N/A"},{"$error":"#N/A"},{"$error":"#N/A"},{"$error":"#N/A"},{"$error":"#N/A"},{"$error":"#N/A"},{"$error":"#N/A"},{"$error":"#N/A"},{"$error":"#N/A"},{"$f":"AVERAGE(OFFSET(H884,0,0,Overview!$C$1))","v":{"$error":"#N/A"}},{"$f":"AVERAGE(OFFSET(H884,0,0,Overview!$C$2))","v":{"$error":"#N/A"}},{"$error":"#N/A"},{"$error":"#N/A"}]
[null,{"$error":"#N/A"},{"$error":"#N/A"},{"$error":"#N/A"},{"$error":"#N/A"},{"$error":"#N/A"},{"$error":"#N/A"},{"$error":"#N/A"},{"$error":"#N/A"},{"$error":"#N/A"},{"$f":"AVERAGE(OFFSET(H885,0,0,Overview!$C$1))","v":{"$error":"#N/A"}},{"$f":"AVERAGE(OFFSET(H885,0,0,Overview!$C$2))","v":{"$error":"#N/A"}},{"$error":"#N/A"},{"$error":"#N/A"}]
[null,{"$error":"#N/A"},{"$error":"#N/A"},{"$error":"#N/A"},{"$error":"#N/A"},{"$error":"#N/A"},{"$error":"#N/A"},{"$error":"#N/A"},{"$error":"#N/A"},{"$error":"#N/A"},{"$f":"AVERAGE(OFFSET(H886,0,0,Overview!$C$1))","v":{"$error":"#N/A"}},{"$f":"AVERAGE(OFFSET(H886,0,0,Overview!$C$2))","v":{"$error":"#N/A"}},{"$error":"#N/A"},{"$error":"#N/A"}]
[null,{"$error":"#N/A"},{"$error":"#N/A"},{"$error":"#N/A"},{"$error":"#N/A"},{"$error":"#N/A"},{"$error":"#N/A"},{"$error":"#N/A"},{"$error":"#N/A"},{"$error":"#N/A"},{"$f":"AVERAGE(OFFSET(H887,0,0,Overview!$C$1))","v":{"$error":"#N/A"}},{"$f":"AVERAGE(OFFSET(H887,0,0,Overview!$C$2))","v":{"$error":"#N/A"}},{"$error":"#N/A"},{"$error":"#N/A"}]
[null,{"$error":"#N/A"},{"$error":"#N/A"},{"$error":"#N/A"},{"$error":"#N/A"},{"$error":"#N/A"},{"$error":"#N/A"},{"$error":"#N/A"},{"$error":"#N/A"},{"$error":"#N/A"},{"$f":"AVERAGE(OFFSET(H888,0,0,Overview!$C$1))","v":{"$error":"#N/A"}},{"$f":"AVERAGE(OFFSET(H888,0,0,Overview!$C$2))","v":{"$error":"#N/A"}},{"$error":"#N/A"},{"$error":"#N/A"}]
[null,{"$error":"#N/A"},{"$error":"#N/A"},{"$error":"#N/A"},{"$error":"#N/A"},{"$error":"#N/A"},{"$error":"#N/A"},{"$error":"#N/A"},{"$error":"#N/A"},{"$error":"#N/A"},{"$f":"AVERAGE(OFFSET(H889,0,0,Overview!$C$1))","v":{"$error":"#N/A"}},{"$f":"AVERAGE(OFFSET(H889,0,0,Overview!$C$2))","v":{"$error":"#N/A"}},{"$error":"#N/A"},{"$error":"#N/A"}]
[null,{"$error":"#N/A"},{"$error":"#N/A"},{"$error":"#N/A"},{"$error":"#N/A"},{"$error":"#N/A"},{"$error":"#N/A"},{"$error":"#N/A"},{"$error":"#N/A"},{"$error":"#N/A"},{"$f":"AVERAGE(OFFSET(H890,0,0,Overview!$C$1))","v":{"$error":"#N/A"}},{"$f":"AVERAGE(OFFSET(H890,0,0,Overview!$C$2))","v":{"$error":"#N/A"}},{"$error":"#N/A"},{"$error":"#N/A"}]
[null,{"$error":"#N/A"},{"$error":"#N/A"},{"$error":"#N/A"},{"$error":"#N/A"},{"$error":"#N/A"},{"$error":"#N/A"},{"$error":"#N/A"},{"$error":"#N/A"},{"$error":"#N/A"},{"$f":"AVERAGE(OFFSET(H891,0,0,Overview!$C$1))","v":{"$error":"#N/A"}},{"$f":"AVERAGE(OFFSET(H891,0,0,Overview!$C$2))","v":{"$error":"#N/A"}},{"$error":"#N/A"},{"$error":"#N/A"}]
[null,{"$error":"#N/A"},{"$error":"#N/A"},{"$error":"#N/A"},{"$error":"#N/A"},{"$error":"#N/A"},{"$error":"#N/A"},{"$error":"#N/A"},{"$error":"#N/A"},{"$error":"#N/A"},{"$f":"AVERAGE(OFFSET(H892,0,0,Overview!$C$1))","v":{"$error":"#N/A"}},{"$f":"AVERAGE(OFFSET(H892,0,0,Overview!$C$2))","v":{"$error":"#N/A"}},{"$error":"#N/A"},{"$error":"#N/A"}]
[null,{"$error":"#N/A"},{"$error":"#N/A"},{"$error":"#N/A"},{"$error":"#N/A"},{"$error":"#N/A"},{"$error":"#N/A"},{"$error":"#N/A"},{"$error":"#N/A"},{"$error":"#N/A"},{"$f":"AVERAGE(OFFSET(H893,0,0,Overview!$C$1))","v":{"$error":"#N/A"}},{"$f":"AVERAGE(OFFSET(H893,0,0,Overview!$C$2))","v":{"$error":"#N/A"}},{"$error":"#N/A"},{"$error":"#N/A"}]
[null,{"$error":"#N/A"},{"$error":"#N/A"},{"$error":"#N/A"},{"$error":"#N/A"},{"$error":"#N/A"},{"$error":"#N/A"},{"$error":"#N/A"},{"$error":"#N/A"},{"$error":"#N/A"},{"$f":"AVERAGE(OFFSET(H894,0,0,Overview!$C$1))","v":{"$error":"#N/A"}},{"$f":"AVERAGE(OFFSET(H894,0,0,Overview!$C$2))","v":{"$error":"#N/A"}},{"$error":"#N/A"},{"$error":"#N/A"}]
[null,{"$error":"#N/A"},{"$error":"#N/A"},{"$error":"#N/A"},{"$error":"#N/A"},{"$error":"#N/A"},{"$error":"#N/A"},{"$error":"#N/A"},{"$error":"#N/A"},{"$error":"#N/A"},{"$f":"AVERAGE(OFFSET(H895,0,0,Overview!$C$1))","v":{"$error":"#N/A"}},{"$f":"AVERAGE(OFFSET(H895,0,0,Overview!$C$2))","v":{"$error":"#N/A"}},{"$error":"#N/A"},{"$error":"#N/A"}]
[null,{"$error":"#N/A"},{"$error":"#N/A"},{"$error":"#N/A"},{"$error":"#N/A"},{"$error":"#N/A"},{"$error":"#N/A"},{"$error":"#N/A"},{"$error":"#N/A"},{"$error":"#N/A"},{"$f":"AVERAGE(OFFSET(H896,0,0,Overview!$C$1))","v":{"$error":"#N/A"}},{"$f":"AVERAGE(OFFSET(H896,0,0,Overview!$C$2))","v":{"$error":"#N/A"}},{"$error":"#N/A"},{"$error":"#N/A"}]
[null,{"$error":"#N/A"},{"$error":"#N/A"},{"$error":"#N/A"},{"$error":"#N/A"},{"$error":"#N/A"},{"$error":"#N/A"},{"$error":"#N/A"},{"$error":"#N/A"},{"$error":"#N/A"},{"$f":"AVERAGE(OFFSET(H897,0,0,Overview!$C$1))","v":{"$error":"#N/A"}},{"$f":"AVERAGE(OFFSET(H897,0,0,Overview!$C$2))","v":{"$error":"#N/A"}},{"$error":"#N/A"},{"$error":"#N/A"}]
[null,{"$error":"#N/A"},{"$f":"IF(TEXT(D898,\"MMM\")=TEXT(D899,\"MMM\"),\"\",TEXT(D898,\"MMM\"))","v":{"$error":"#N/A"}},{"$error":"#N/A"},{"$error":"#N/A"},{"$error":"#N/A"},{"$error":"#N/A"},{"$error":"#N/A"},{"$error":"#N/A"},{"$error":"#N/A"},{"$f":"AVERAGE(OFFSET(H898,0,0,Overview!$C$1))","v":{"$error":"#N/A"}},{"$f":"AVERAGE(OFFSET(H898,0,0,Overview!$C$2))","v":{"$error":"#N/A"}},{"$error":"#N/A"},{"$error":"#N/A"}]
[null,{"$error":"#N/A"},{"$error":"#N/A"},{"$error":"#N/A"},{"$error":"#N/A"},{"$error":"#N/A"},{"$error":"#N/A"},{"$error":"#N/A"},{"$error":"#N/A"},{"$error":"#N/A"},{"$f":"AVERAGE(OFFSET(H899,0,0,Overview!$C$1))","v":{"$error":"#N/A"}},{"$f":"AVERAGE(OFFSET(H899,0,0,Overview!$C$2))","v":{"$error":"#N/A"}},{"$f":"IF((L900<K900)*(L899>K899),K899,\"\")","v":{"$error":"#N/A"}},{"$f":"IF((L900>K900)*(L899<K899),K899,\"\")","v":{"$error":"#N/A"}}]
[null,{"$f":"IF(YEAR(D900)=YEAR(D901),\"\",YEAR(D900))","v":{"$error":"#N/A"}},{"$error":"#N/A"},{"$error":"#N/A"},{"$error":"#N/A"},{"$error":"#N/A"},{"$error":"#N/A"},{"$error":"#N/A"},{"$error":"#N/A"},{"$error":"#N/A"},{"$f":"AVERAGE(OFFSET(H900,0,0,Overview!$C$1))","v":{"$error":"#N/A"}},{"$f":"AVERAGE(OFFSET(H900,0,0,Overview!$C$2))","v":{"$error":"#N/A"}},{"$error":"#N/A"},{"$error":"#N/A"}]
[null,{"$error":"#N/A"},{"$error":"#N/A"},{"$error":"#N/A"},{"$error":"#N/A"},{"$error":"#N/A"},{"$error":"#N/A"},{"$error":"#N/A"},{"$error":"#N/A"},{"$error":"#N/A"},{"$f":"AVERAGE(OFFSET(H901,0,0,Overview!$C$1))","v":{"$error":"#N/A"}},{"$f":"AVERAGE(OFFSET(H901,0,0,Overview!$C$2))","v":{"$error":"#N/A"}},{"$error":"#N/A"},{"$error":"#N/A"}]
[null,{"$error":"#N/A"},{"$error":"#N/A"},{"$error":"#N/A"},{"$error":"#N/A"},{"$error":"#N/A"},{"$error":"#N/A"},{"$error":"#N/A"},{"$error":"#N/A"},{"$error":"#N/A"},{"$f":"AVERAGE(OFFSET(H902,0,0,Overview!$C$1))","v":{"$error":"#N/A"}},{"$f":"AVERAGE(OFFSET(H902,0,0,Overview!$C$2))","v":{"$error":"#N/A"}},{"$error":"#N/A"},{"$error":"#N/A"}]
[null,{"$error":"#N/A"},{"$error":"#N/A"},{"$error":"#N/A"},{"$error":"#N/A"},{"$error":"#N/A"},{"$error":"#N/A"},{"$error":"#N/A"},{"$error":"#N/A"},{"$error":"#N/A"},{"$f":"AVERAGE(OFFSET(H903,0,0,Overview!$C$1))","v":{"$error":"#N/A"}},{"$f":"AVERAGE(OFFSET(H903,0,0,Overview!$C$2))","v":{"$error":"#N/A"}},{"$error":"#N/A"},{"$error":"#N/A"}]
[null,{"$error":"#N/A"},{"$error":"#N/A"},{"$error":"#N/A"},{"$error":"#N/A"},{"$error":"#N/A"},{"$error":"#N/A"},{"$error":"#N/A"},{"$error":"#N/A"},{"$error":"#N/A"},{"$f":"AVERAGE(OFFSET(H904,0,0,Overview!$C$1))","v":{"$error":"#N/A"}},{"$f":"AVERAGE(OFFSET(H904,0,0,Overview!$C$2))","v":{"$error":"#N/A"}},{"$error":"#N/A"},{"$error":"#N/A"}]
[null,{"$error":"#N/A"},{"$error":"#N/A"},{"$error":"#N/A"},{"$error":"#N/A"},{"$error":"#N/A"},{"$error":"#N/A"},{"$error":"#N/A"},{"$error":"#N/A"},{"$error":"#N/A"},{"$f":"AVERAGE(OFFSET(H905,0,0,Overview!$C$1))","v":{"$error":"#N/A"}},{"$f":"AVERAGE(OFFSET(H905,0,0,Overview!$C$2))","v":{"$error":"#N/A"}},{"$error":"#N/A"},{"$error":"#N/A"}]
[null,{"$error":"#N/A"},{"$error":"#N/A"},{"$error":"#N/A"},{"$error":"#N/A"},{"$error":"#N/A"},{"$error":"#N/A"},{"$error":"#N/A"},{"$error":"#N/A"},{"$error":"#N/A"},{"$f":"AVERAGE(OFFSET(H906,0,0,Overview!$C$1))","v":{"$error":"#N/A"}},{"$f":"AVERAGE(OFFSET(H906,0,0,Overview!$C$2))","v":{"$error":"#N/A"}},{"$error":"#N/A"},{"$error":"#N/A"}]
[null,{"$error":"#N/A"},{"$error":"#N/A"},{"$error":"#N/A"},{"$error":"#N/A"},{"$error":"#N/A"},{"$error":"#N/A"},{"$error":"#N/A"},{"$error":"#N/A"},{"$error":"#N/A"},{"$f":"AVERAGE(OFFSET(H907,0,0,Overview!$C$1))","v":{"$error":"#N/A"}},{"$f":"AVERAGE(OFFSET(H907,0,0,Overview!$C$2))","v":{"$error":"#N/A"}},{"$error":"#N/A"},{"$error":"#N/A"}]
[null,{"$error":"#N/A"},{"$error":"#N/A"},{"$error":"#N/A"},{"$error":"#N/A"},{"$error":"#N/A"},{"$error":"#N/A"},{"$error":"#N/A"},{"$error":"#N/A"},{"$error":"#N/A"},{"$f":"AVERAGE(OFFSET(H908,0,0,Overview!$C$1))","v":{"$error":"#N/A"}},{"$f":"AVERAGE(OFFSET(H908,0,0,Overview!$C$2))","v":{"$error":"#N/A"}},{"$error":"#N/A"},{"$error":"#N/A"}]
[null,{"$error":"#N/A"},{"$error":"#N/A"},{"$error":"#N/A"},{"$error":"#N/A"},{"$error":"#N/A"},{"$error":"#N/A"},{"$error":"#N/A"},{"$error":"#N/A"},{"$error":"#N/A"},{"$f":"AVERAGE(OFFSET(H909,0,0,Overview!$C$1))","v":{"$error":"#N/A"}},{"$f":"AVERAGE(OFFSET(H909,0,0,Overview!$C$2))","v":{"$error":"#N/A"}},{"$error":"#N/A"},{"$error":"#N/A"}]
[null,{"$error":"#N/A"},{"$error":"#N/A"},{"$error":"#N/A"},{"$error":"#N/A"},{"$error":"#N/A"},{"$error":"#N/A"},{"$error":"#N/A"},{"$error":"#N/A"},{"$error":"#N/A"},{"$f":"AVERAGE(OFFSET(H910,0,0,Overview!$C$1))","v":{"$error":"#N/A"}},{"$f":"AVERAGE(OFFSET(H910,0,0,Overview!$C$2))","v":{"$error":"#N/A"}},{"$error":"#N/A"},{"$error":"#N/A"}]
[null,{"$error":"#N/A"},{"$error":"#N/A"},{"$error":"#N/A"},{"$error":"#N/A"},{"$error":"#N/A"},{"$error":"#N/A"},{"$error":"#N/A"},{"$error":"#N/A"},{"$error":"#N/A"},{"$f":"AVERAGE(OFFSET(H911,0,0,Overview!$C$1))","v":{"$error":"#N/A"}},{"$f":"AVERAGE(OFFSET(H911,0,0,Overview!$C$2))","v":{"$error":"#N/A"}},{"$error":"#N/A"},{"$error":"#N/A"}]
[null,{"$error":"#N/A"},{"$error":"#N/A"},{"$error":"#N/A"},{"$error":"#N/A"},{"$error":"#N/A"},{"$error":"#N/A"},{"$error":"#N/A"},{"$error":"#N/A"},{"$error":"#N/A"},{"$f":"AVERAGE(OFFSET(H912,0,0,Overview!$C$1))","v":{"$error":"#N/A"}},{"$f":"AVERAGE(OFFSET(H912,0,0,Overview!$C$2))","v":{"$error":"#N/A"}},{"$error":"#N/A"},{"$error":"#N/A"}]
[null,{"$error":"#N/A"},{"$error":"#N/A"},{"$error":"#N/A"},{"$error":"#N/A"},{"$error":"#N/A"},{"$error":"#N/A"},{"$error":"#N/A"},{"$error":"#N/A"},{"$error":"#N/A"},{"$f":"AVERAGE(OFFSET(H913,0,0,Overview!$C$1))","v":{"$error":"#N/A"}},{"$f":"AVERAGE(OFFSET(H913,0,0,Overview!$C$2))","v":{"$error":"#N/A"}},{"$error":"#N/A"},{"$error":"#N/A"}]
[null,{"$error":"#N/A"},{"$error":"#N/A"},{"$error":"#N/A"},{"$error":"#N/A"},{"$error":"#N/A"},{"$error":"#N/A"},{"$error":"#N/A"},{"$error":"#N/A"},{"$error":"#N/A"},{"$f":"AVERAGE(OFFSET(H914,0,0,Overview!$C$1))","v":{"$error":"#N/A"}},{"$f":"AVERAGE(OFFSET(H914,0,0,Overview!$C$2))","v":{"$error":"#N/A"}},{"$error":"#N/A"},{"$error":"#N/A"}]
[null,{"$error":"#N/A"},{"$error":"#N/A"},{"$error":"#N/A"},{"$error":"#N/A"},{"$error":"#N/A"},{"$error":"#N/A"},{"$error":"#N/A"},{"$error":"#N/A"},{"$error":"#N/A"},{"$f":"AVERAGE(OFFSET(H915,0,0,Overview!$C$1))","v":{"$error":"#N/A"}},{"$f":"AVERAGE(OFFSET(H915,0,0,Overview!$C$2))","v":{"$error":"#N/A"}},{"$error":"#N/A"},{"$error":"#N/A"}]
[null,{"$error":"#N/A"},{"$error":"#N/A"},{"$error":"#N/A"},{"$error":"#N/A"},{"$error":"#N/A"},{"$error":"#N/A"},{"$error":"#N/A"},{"$error":"#N/A"},{"$error":"#N/A"},{"$f":"AVERAGE(OFFSET(H916,0,0,Overview!$C$1))","v":{"$error":"#N/A"}},{"$f":"AVERAGE(OFFSET(H916,0,0,Overview!$C$2))","v":{"$error":"#N/A"}},{"$error":"#N/A"},{"$error":"#N/A"}]
[null,{"$error":"#N/A"},{"$error":"#N/A"},{"$error":"#N/A"},{"$error":"#N/A"},{"$error":"#N/A"},{"$error":"#N/A"},{"$error":"#N/A"},{"$error":"#N/A"},{"$error":"#N/A"},{"$f":"AVERAGE(OFFSET(H917,0,0,Overview!$C$1))","v":{"$error":"#N/A"}},{"$f":"AVERAGE(OFFSET(H917,0,0,Overview!$C$2))","v":{"$error":"#N/A"}},{"$error":"#N/A"},{"$error":"#N/A"}]
[null,{"$error":"#N/A"},{"$error":"#N/A"},{"$error":"#N/A"},{"$error":"#N/A"},{"$error":"#N/A"},{"$error":"#N/A"},{"$error":"#N/A"},{"$error":"#N/A"},{"$error":"#N/A"},{"$f":"AVERAGE(OFFSET(H918,0,0,Overview!$C$1))","v":{"$error":"#N/A"}},{"$f":"AVERAGE(OFFSET(H918,0,0,Overview!$C$2))","v":{"$error":"#N/A"}},{"$error":"#N/A"},{"$error":"#N/A"}]
[null,{"$error":"#N/A"},{"$error":"#N/A"},{"$error":"#N/A"},{"$error":"#N/A"},{"$error":"#N/A"},{"$error":"#N/A"},{"$error":"#N/A"},{"$error":"#N/A"},{"$error":"#N/A"},{"$f":"AVERAGE(OFFSET(H919,0,0,Overview!$C$1))","v":{"$error":"#N/A"}},{"$f":"AVERAGE(OFFSET(H919,0,0,Overview!$C$2))","v":{"$error":"#N/A"}},{"$error":"#N/A"},{"$error":"#N/A"}]
[null,{"$error":"#N/A"},{"$error":"#N/A"},{"$error":"#N/A"},{"$error":"#N/A"},{"$error":"#N/A"},{"$error":"#N/A"},{"$error":"#N/A"},{"$error":"#N/A"},{"$error":"#N/A"},{"$f":"AVERAGE(OFFSET(H920,0,0,Overview!$C$1))","v":{"$error":"#N/A"}},{"$f":"AVERAGE(OFFSET(H920,0,0,Overview!$C$2))","v":{"$error":"#N/A"}},{"$error":"#N/A"},{"$error":"#N/A"}]
[null,{"$error":"#N/A"},{"$error":"#N/A"},{"$error":"#N/A"},{"$error":"#N/A"},{"$error":"#N/A"},{"$error":"#N/A"},{"$error":"#N/A"},{"$error":"#N/A"},{"$error":"#N/A"},{"$f":"AVERAGE(OFFSET(H921,0,0,Overview!$C$1))","v":{"$error":"#N/A"}},{"$f":"AVERAGE(OFFSET(H921,0,0,Overview!$C$2))","v":{"$error":"#N/A"}},{"$error":"#N/A"},{"$error":"#N/A"}]
[null,{"$error":"#N/A"},{"$error":"#N/A"},{"$error":"#N/A"},{"$error":"#N/A"},{"$error":"#N/A"},{"$error":"#N/A"},{"$error":"#N/A"},{"$error":"#N/A"},{"$error":"#N/A"},{"$f":"AVERAGE(OFFSET(H922,0,0,Overview!$C$1))","v":{"$error":"#N/A"}},{"$f":"AVERAGE(OFFSET(H922,0,0,Overview!$C$2))","v":{"$error":"#N/A"}},{"$error":"#N/A"},{"$error":"#N/A"}]
[null,{"$error":"#N/A"},{"$error":"#N/A"},{"$error":"#N/A"},{"$error":"#N/A"},{"$error":"#N/A"},{"$error":"#N/A"},{"$error":"#N/A"},{"$error":"#N/A"},{"$error":"#N/A"},{"$f":"AVERAGE(OFFSET(H923,0,0,Overview!$C$1))","v":{"$error":"#N/A"}},{"$f":"AVERAGE(OFFSET(H923,0,0,Overview!$C$2))","v":{"$error":"#N/A"}},{"$error":"#N/A"},{"$error":"#N/A"}]
[null,{"$error":"#N/A"},{"$error":"#N/A"},{"$error":"#N/A"},{"$error":"#N/A"},{"$error":"#N/A"},{"$error":"#N/A"},{"$error":"#N/A"},{"$error":"#N/A"},{"$error":"#N/A"},{"$f":"AVERAGE(OFFSET(H924,0,0,Overview!$C$1))","v":{"$error":"#N/A"}},{"$f":"AVERAGE(OFFSET(H924,0,0,Overview!$C$2))","v":{"$error":"#N/A"}},{"$error":"#N/A"},{"$error":"#N/A"}]
[null,{"$error":"#N/A"},{"$error":"#N/A"},{"$error":"#N/A"},{"$error":"#N/A"},{"$error":"#N/A"},{"$error":"#N/A"},{"$error":"#N/A"},{"$error":"#N/A"},{"$error":"#N/A"},{"$f":"AVERAGE(OFFSET(H925,0,0,Overview!$C$1))","v":{"$error":"#N/A"}},{"$f":"AVERAGE(OFFSET(H925,0,0,Overview!$C$2))","v":{"$error":"#N/A"}},{"$error":"#N/A"},{"$error":"#N/A"}]
[null,{"$error":"#N/A"},{"$error":"#N/A"},{"$error":"#N/A"},{"$error":"#N/A"},{"$error":"#N/A"},{"$error":"#N/A"},{"$error":"#N/A"},{"$error":"#N/A"},{"$error":"#N/A"},{"$f":"AVERAGE(OFFSET(H926,0,0,Overview!$C$1))","v":{"$error":"#N/A"}},{"$f":"AVERAGE(OFFSET(H926,0,0,Overview!$C$2))","v":{"$error":"#N/A"}},{"$error":"#N/A"},{"$error":"#N/A"}]
[null,{"$error":"#N/A"},{"$error":"#N/A"},{"$error":"#N/A"},{"$error":"#N/A"},{"$error":"#N/A"},{"$error":"#N/A"},{"$error":"#N/A"},{"$error":"#N/A"},{"$error":"#N/A"},{"$f":"AVERAGE(OFFSET(H927,0,0,Overview!$C$1))","v":{"$error":"#N/A"}},{"$f":"AVERAGE(OFFSET(H927,0,0,Overview!$C$2))","v":{"$error":"#N/A"}},{"$error":"#N/A"},{"$error":"#N/A"}]
[null,{"$error":"#N/A"},{"$error":"#N/A"},{"$error":"#N/A"},{"$error":"#N/A"},{"$error":"#N/A"},{"$error":"#N/A"},{"$error":"#N/A"},{"$error":"#N/A"},{"$error":"#N/A"},{"$f":"AVERAGE(OFFSET(H928,0,0,Overview!$C$1))","v":{"$error":"#N/A"}},{"$f":"AVERAGE(OFFSET(H928,0,0,Overview!$C$2))","v":{"$error":"#N/A"}},{"$error":"#N/A"},{"$error":"#N/A"}]
[null,{"$error":"#N/A"},{"$error":"#N/A"},{"$error":"#N/A"},{"$error":"#N/A"},{"$error":"#N/A"},{"$error":"#N/A"},{"$error":"#N/A"},{"$error":"#N/A"},{"$error":"#N/A"},{"$f":"AVERAGE(OFFSET(H929,0,0,Overview!$C$1))","v":{"$error":"#N/A"}},{"$f":"AVERAGE(OFFSET(H929,0,0,Overview!$C$2))","v":{"$error":"#N/A"}},{"$error":"#N/A"},{"$error":"#N/A"}]
[null,{"$error":"#N/A"},{"$error":"#N/A"},{"$error":"#N/A"},{"$error":"#N/A"},{"$error":"#N/A"},{"$error":"#N/A"},{"$error":"#N/A"},{"$error":"#N/A"},{"$error":"#N/A"},{"$f":"AVERAGE(OFFSET(H930,0,0,Overview!$C$1))","v":{"$error":"#N/A"}},{"$f":"AVERAGE(OFFSET(H930,0,0,Overview!$C$2))","v":{"$error":"#N/A"}},{"$error":"#N/A"},{"$error":"#N/A"}]
[null,{"$error":"#N/A"},{"$error":"#N/A"},{"$error":"#N/A"},{"$error":"#N/A"},{"$error":"#N/A"},{"$error":"#N/A"},{"$error":"#N/A"},{"$error":"#N/A"},{"$error":"#N/A"},{"$f":"AVERAGE(OFFSET(H931,0,0,Overview!$C$1))","v":{"$error":"#N/A"}},{"$f":"AVERAGE(OFFSET(H931,0,0,Overview!$C$2))","v":{"$error":"#N/A"}},{"$error":"#N/A"},{"$error":"#N/A"}]
[null,{"$error":"#N/A"},{"$error":"#N/A"},{"$error":"#N/A"},{"$error":"#N/A"},{"$error":"#N/A"},{"$error":"#N/A"},{"$error":"#N/A"},{"$error":"#N/A"},{"$error":"#N/A"},{"$f":"AVERAGE(OFFSET(H932,0,0,Overview!$C$1))","v":{"$error":"#N/A"}},{"$f":"AVERAGE(OFFSET(H932,0,0,Overview!$C$2))","v":{"$error":"#N/A"}},{"$error":"#N/A"},{"$error":"#N/A"}]
[null,{"$error":"#N/A"},{"$error":"#N/A"},{"$error":"#N/A"},{"$error":"#N/A"},{"$error":"#N/A"},{"$error":"#N/A"},{"$error":"#N/A"},{"$error":"#N/A"},{"$error":"#N/A"},{"$f":"AVERAGE(OFFSET(H933,0,0,Overview!$C$1))","v":{"$error":"#N/A"}},{"$f":"AVERAGE(OFFSET(H933,0,0,Overview!$C$2))","v":{"$error":"#N/A"}},{"$error":"#N/A"},{"$error":"#N/A"}]
[null,{"$error":"#N/A"},{"$error":"#N/A"},{"$error":"#N/A"},{"$error":"#N/A"},{"$error":"#N/A"},{"$error":"#N/A"},{"$error":"#N/A"},{"$error":"#N/A"},{"$error":"#N/A"},{"$f":"AVERAGE(OFFSET(H934,0,0,Overview!$C$1))","v":{"$error":"#N/A"}},{"$f":"AVERAGE(OFFSET(H934,0,0,Overview!$C$2))","v":{"$error":"#N/A"}},{"$error":"#N/A"},{"$error":"#N/A"}]
[null,{"$error":"#N/A"},{"$error":"#N/A"},{"$error":"#N/A"},{"$error":"#N/A"},{"$error":"#N/A"},{"$error":"#N/A"},{"$error":"#N/A"},{"$error":"#N/A"},{"$error":"#N/A"},{"$f":"AVERAGE(OFFSET(H935,0,0,Overview!$C$1))","v":{"$error":"#N/A"}},{"$f":"AVERAGE(OFFSET(H935,0,0,Overview!$C$2))","v":{"$error":"#N/A"}},{"$error":"#N/A"},{"$error":"#N/A"}]
[null,{"$error":"#N/A"},{"$error":"#N/A"},{"$error":"#N/A"},{"$error":"#N/A"},{"$error":"#N/A"},{"$error":"#N/A"},{"$error":"#N/A"},{"$error":"#N/A"},{"$error":"#N/A"},{"$f":"AVERAGE(OFFSET(H936,0,0,Overview!$C$1))","v":{"$error":"#N/A"}},{"$f":"AVERAGE(OFFSET(H936,0,0,Overview!$C$2))","v":{"$error":"#N/A"}},{"$error":"#N/A"},{"$error":"#N/A"}]
[null,{"$error":"#N/A"},{"$error":"#N/A"},{"$error":"#N/A"},{"$error":"#N/A"},{"$error":"#N/A"},{"$error":"#N/A"},{"$error":"#N/A"},{"$error":"#N/A"},{"$error":"#N/A"},{"$f":"AVERAGE(OFFSET(H937,0,0,Overview!$C$1))","v":{"$error":"#N/A"}},{"$f":"AVERAGE(OFFSET(H937,0,0,Overview!$C$2))","v":{"$error":"#N/A"}},{"$error":"#N/A"},{"$error":"#N/A"}]
[null,{"$error":"#N/A"},{"$error":"#N/A"},{"$error":"#N/A"},{"$error":"#N/A"},{"$error":"#N/A"},{"$error":"#N/A"},{"$error":"#N/A"},{"$error":"#N/A"},{"$error":"#N/A"},{"$f":"AVERAGE(OFFSET(H938,0,0,Overview!$C$1))","v":{"$error":"#N/A"}},{"$f":"AVERAGE(OFFSET(H938,0,0,Overview!$C$2))","v":{"$error":"#N/A"}},{"$error":"#N/A"},{"$error":"#N/A"}]
[null,{"$error":"#N/A"},{"$error":"#N/A"},{"$error":"#N/A"},{"$error":"#N/A"},{"$error":"#N/A"},{"$error":"#N/A"},{"$error":"#N/A"},{"$error":"#N/A"},{"$error":"#N/A"},{"$f":"AVERAGE(OFFSET(H939,0,0,Overview!$C$1))","v":{"$error":"#N/A"}},{"$f":"AVERAGE(OFFSET(H939,0,0,Overview!$C$2))","v":{"$error":"#N/A"}},{"$error":"#N/A"},{"$error":"#N/A"}]
[null,{"$error":"#N/A"},{"$error":"#N/A"},{"$error":"#N/A"},{"$error":"#N/A"},{"$error":"#N/A"},{"$error":"#N/A"},{"$error":"#N/A"},{"$error":"#N/A"},{"$error":"#N/A"},{"$f":"AVERAGE(OFFSET(H940,0,0,Overview!$C$1))","v":{"$error":"#N/A"}},{"$f":"AVERAGE(OFFSET(H940,0,0,Overview!$C$2))","v":{"$error":"#N/A"}},{"$error":"#N/A"},{"$error":"#N/A"}]
[null,{"$error":"#N/A"},{"$error":"#N/A"},{"$error":"#N/A"},{"$error":"#N/A"},{"$error":"#N/A"},{"$error":"#N/A"},{"$error":"#N/A"},{"$error":"#N/A"},{"$error":"#N/A"},{"$f":"AVERAGE(OFFSET(H941,0,0,Overview!$C$1))","v":{"$error":"#N/A"}},{"$f":"AVERAGE(OFFSET(H941,0,0,Overview!$C$2))","v":{"$error":"#N/A"}},{"$error":"#N/A"},{"$error":"#N/A"}]
[null,{"$error":"#N/A"},{"$error":"#N/A"},{"$error":"#N/A"},{"$error":"#N/A"},{"$error":"#N/A"},{"$error":"#N/A"},{"$error":"#N/A"},{"$error":"#N/A"},{"$error":"#N/A"},{"$f":"AVERAGE(OFFSET(H942,0,0,Overview!$C$1))","v":{"$error":"#N/A"}},{"$f":"AVERAGE(OFFSET(H942,0,0,Overview!$C$2))","v":{"$error":"#N/A"}},{"$error":"#N/A"},{"$error":"#N/A"}]
[null,{"$error":"#N/A"},{"$error":"#N/A"},{"$error":"#N/A"},{"$error":"#N/A"},{"$error":"#N/A"},{"$error":"#N/A"},{"$error":"#N/A"},{"$error":"#N/A"},{"$error":"#N/A"},{"$f":"AVERAGE(OFFSET(H943,0,0,Overview!$C$1))","v":{"$error":"#N/A"}},{"$f":"AVERAGE(OFFSET(H943,0,0,Overview!$C$2))","v":{"$error":"#N/A"}},{"$error":"#N/A"},{"$error":"#N/A"}]
[null,{"$error":"#N/A"},{"$error":"#N/A"},{"$error":"#N/A"},{"$error":"#N/A"},{"$error":"#N/A"},{"$error":"#N/A"},{"$error":"#N/A"},{"$error":"#N/A"},{"$error":"#N/A"},{"$f":"AVERAGE(OFFSET(H944,0,0,Overview!$C$1))","v":{"$error":"#N/A"}},{"$f":"AVERAGE(OFFSET(H944,0,0,Overview!$C$2))","v":{"$error":"#N/A"}},{"$error":"#N/A"},{"$error":"#N/A"}]
[null,{"$error":"#N/A"},{"$error":"#N/A"},{"$error":"#N/A"},{"$error":"#N/A"},{"$error":"#N/A"},{"$error":"#N/A"},{"$error":"#N/A"},{"$error":"#N/A"},{"$error":"#N/A"},{"$f":"AVERAGE(OFFSET(H945,0,0,Overview!$C$1))","v":{"$error":"#N/A"}},{"$f":"AVERAGE(OFFSET(H945,0,0,Overview!$C$2))","v":{"$error":"#N/A"}},{"$error":"#N/A"},{"$error":"#N/A"}]
[null,{"$error":"#N/A"},{"$error":"#N/A"},{"$error":"#N/A"},{"$error":"#N/A"},{"$error":"#N/A"},{"$error":"#N/A"},{"$error":"#N/A"},{"$error":"#N/A"},{"$error":"#N/A"},{"$f":"AVERAGE(OFFSET(H946,0,0,Overview!$C$1))","v":{"$error":"#N/A"}},{"$f":"AVERAGE(OFFSET(H946,0,0,Overview!$C$2))","v":{"$error":"#N/A"}},{"$error":"#N/A"},{"$error":"#N/A"}]
[null,{"$error":"#N/A"},{"$error":"#N/A"},{"$error":"#N/A"},{"$error":"#N/A"},{"$error":"#N/A"},{"$error":"#N/A"},{"$error":"#N/A"},{"$error":"#N/A"},{"$error":"#N/A"},{"$f":"AVERAGE(OFFSET(H947,0,0,Overview!$C$1))","v":{"$error":"#N/A"}},{"$f":"AVERAGE(OFFSET(H947,0,0,Overview!$C$2))","v":{"$error":"#N/A"}},{"$error":"#N/A"},{"$error":"#N/A"}]
[null,{"$error":"#N/A"},{"$error":"#N/A"},{"$error":"#N/A"},{"$error":"#N/A"},{"$error":"#N/A"},{"$error":"#N/A"},{"$error":"#N/A"},{"$error":"#N/A"},{"$error":"#N/A"},{"$f":"AVERAGE(OFFSET(H948,0,0,Overview!$C$1))","v":{"$error":"#N/A"}},{"$f":"AVERAGE(OFFSET(H948,0,0,Overview!$C$2))","v":{"$error":"#N/A"}},{"$error":"#N/A"},{"$error":"#N/A"}]
[null,{"$error":"#N/A"},{"$error":"#N/A"},{"$error":"#N/A"},{"$error":"#N/A"},{"$error":"#N/A"},{"$error":"#N/A"},{"$error":"#N/A"},{"$error":"#N/A"},{"$error":"#N/A"},{"$f":"AVERAGE(OFFSET(H949,0,0,Overview!$C$1))","v":{"$error":"#N/A"}},{"$f":"AVERAGE(OFFSET(H949,0,0,Overview!$C$2))","v":{"$error":"#N/A"}},{"$error":"#N/A"},{"$error":"#N/A"}]
[null,{"$error":"#N/A"},{"$error":"#N/A"},{"$error":"#N/A"},{"$error":"#N/A"},{"$error":"#N/A"},{"$error":"#N/A"},{"$error":"#N/A"},{"$error":"#N/A"},{"$error":"#N/A"},{"$f":"AVERAGE(OFFSET(H950,0,0,Overview!$C$1))","v":{"$error":"#N/A"}},{"$f":"AVERAGE(OFFSET(H950,0,0,Overview!$C$2))","v":{"$error":"#N/A"}},{"$error":"#N/A"},{"$error":"#N/A"}]
[null,{"$error":"#N/A"},{"$error":"#N/A"},{"$error":"#N/A"},{"$error":"#N/A"},{"$error":"#N/A"},{"$error":"#N/A"},{"$error":"#N/A"},{"$error":"#N/A"},{"$error":"#N/A"},{"$f":"AVERAGE(OFFSET(H951,0,0,Overview!$C$1))","v":{"$error":"#N/A"}},{"$f":"AVERAGE(OFFSET(H951,0,0,Overview!$C$2))","v":{"$error":"#N/A"}},{"$error":"#N/A"},{"$error":"#N/A"}]
[null,{"$error":"#N/A"},{"$error":"#N/A"},{"$error":"#N/A"},{"$error":"#N/A"},{"$error":"#N/A"},{"$error":"#N/A"},{"$error":"#N/A"},{"$error":"#N/A"},{"$error":"#N/A"},{"$f":"AVERAGE(OFFSET(H952,0,0,Overview!$C$1))","v":{"$error":"#N/A"}},{"$f":"AVERAGE(OFFSET(H952,0,0,Overview!$C$2))","v":{"$error":"#N/A"}},{"$error":"#N/A"},{"$error":"#N/A"}]
[null,{"$error":"#N/A"},{"$error":"#N/A"},{"$error":"#N/A"},{"$error":"#N/A"},{"$error":"#N/A"},{"$error":"#N/A"},{"$error":"#N/A"},{"$error":"#N/A"},{"$error":"#N/A"},{"$f":"AVERAGE(OFFSET(H953,0,0,Overview!$C$1))","v":{"$error":"#N/A"}},{"$f":"AVERAGE(OFFSET(H953,0,0,Overview!$C$2))","v":{"$error":"#N/A"}},{"$error":"#N/A"},{"$error":"#N/A"}]
[null,{"$error":"#N/A"},{"$error":"#N/A"},{"$error":"#N/A"},{"$error":"#N/A"},{"$error":"#N/A"},{"$error":"#N/A"},{"$error":"#N/A"},{"$error":"#N/A"},{"$error":"#N/A"},{"$f":"AVERAGE(OFFSET(H954,0,0,Overview!$C$1))","v":{"$error":"#N/A"}},{"$f":"AVERAGE(OFFSET(H954,0,0,Overview!$C$2))","v":{"$error":"#N/A"}},{"$error":"#N/A"},{"$error":"#N/A"}]
[null,{"$error":"#N/A"},{"$error":"#N/A"},{"$error":"#N/A"},{"$error":"#N/A"},{"$error":"#N/A"},{"$error":"#N/A"},{"$error":"#N/A"},{"$error":"#N/A"},{"$error":"#N/A"},{"$f":"AVERAGE(OFFSET(H955,0,0,Overview!$C$1))","v":{"$error":"#N/A"}},{"$f":"AVERAGE(OFFSET(H955,0,0,Overview!$C$2))","v":{"$error":"#N/A"}},{"$error":"#N/A"},{"$error":"#N/A"}]
[null,{"$error":"#N/A"},{"$error":"#N/A"},{"$error":"#N/A"},{"$error":"#N/A"},{"$error":"#N/A"},{"$error":"#N/A"},{"$error":"#N/A"},{"$error":"#N/A"},{"$error":"#N/A"},{"$f":"AVERAGE(OFFSET(H956,0,0,Overview!$C$1))","v":{"$error":"#N/A"}},{"$f":"AVERAGE(OFFSET(H956,0,0,Overview!$C$2))","v":{"$error":"#N/A"}},{"$error":"#N/A"},{"$error":"#N/A"}]
[null,{"$error":"#N/A"},{"$error":"#N/A"},{"$error":"#N/A"},{"$error":"#N/A"},{"$error":"#N/A"},{"$error":"#N/A"},{"$error":"#N/A"},{"$error":"#N/A"},{"$error":"#N/A"},{"$f":"AVERAGE(OFFSET(H957,0,0,Overview!$C$1))","v":{"$error":"#N/A"}},{"$f":"AVERAGE(OFFSET(H957,0,0,Overview!$C$2))","v":{"$error":"#N/A"}},{"$error":"#N/A"},{"$error":"#N/A"}]
[null,{"$error":"#N/A"},{"$error":"#N/A"},{"$error":"#N/A"},{"$error":"#N/A"},{"$error":"#N/A"},{"$error":"#N/A"},{"$error":"#N/A"},{"$error":"#N/A"},{"$error":"#N/A"},{"$f":"AVERAGE(OFFSET(H958,0,0,Overview!$C$1))","v":{"$error":"#N/A"}},{"$f":"AVERAGE(OFFSET(H958,0,0,Overview!$C$2))","v":{"$error":"#N/A"}},{"$error":"#N/A"},{"$error":"#N/A"}]
[null,{"$error":"#N/A"},{"$error":"#N/A"},{"$error":"#N/A"},{"$error":"#N/A"},{"$error":"#N/A"},{"$error":"#N/A"},{"$error":"#N/A"},{"$error":"#N/A"},{"$error":"#N/A"},{"$f":"AVERAGE(OFFSET(H959,0,0,Overview!$C$1))","v":{"$error":"#N/A"}},{"$f":"AVERAGE(OFFSET(H959,0,0,Overview!$C$2))","v":{"$error":"#N/A"}},{"$error":"#N/A"},{"$error":"#N/A"}]
[null,{"$error":"#N/A"},{"$error":"#N/A"},{"$error":"#N/A"},{"$error":"#N/A"},{"$error":"#N/A"},{"$error":"#N/A"},{"$error":"#N/A"},{"$error":"#N/A"},{"$error":"#N/A"},{"$f":"AVERAGE(OFFSET(H960,0,0,Overview!$C$1))","v":{"$error":"#N/A"}},{"$f":"AVERAGE(OFFSET(H960,0,0,Overview!$C$2))","v":{"$error":"#N/A"}},{"$error":"#N/A"},{"$error":"#N/A"}]
[null,{"$error":"#N/A"},{"$error":"#N/A"},{"$error":"#N/A"},{"$error":"#N/A"},{"$error":"#N/A"},{"$error":"#N/A"},{"$error":"#N/A"},{"$error":"#N/A"},{"$error":"#N/A"},{"$f":"AVERAGE(OFFSET(H961,0,0,Overview!$C$1))","v":{"$error":"#N/A"}},{"$f":"AVERAGE(OFFSET(H961,0,0,Overview!$C$2))","v":{"$error":"#N/A"}},{"$error":"#N/A"},{"$error":"#N/A"}]
[null,{"$error":"#N/A"},{"$f":"IF(TEXT(D962,\"MMM\")=TEXT(D963,\"MMM\"),\"\",TEXT(D962,\"MMM\"))","v":{"$error":"#N/A"}},{"$error":"#N/A"},{"$error":"#N/A"},{"$error":"#N/A"},{"$error":"#N/A"},{"$error":"#N/A"},{"$error":"#N/A"},{"$error":"#N/A"},{"$f":"AVERAGE(OFFSET(H962,0,0,Overview!$C$1))","v":{"$error":"#N/A"}},{"$f":"AVERAGE(OFFSET(H962,0,0,Overview!$C$2))","v":{"$error":"#N/A"}},{"$error":"#N/A"},{"$error":"#N/A"}]
[null,{"$error":"#N/A"},{"$error":"#N/A"},{"$error":"#N/A"},{"$error":"#N/A"},{"$error":"#N/A"},{"$error":"#N/A"},{"$error":"#N/A"},{"$error":"#N/A"},{"$error":"#N/A"},{"$f":"AVERAGE(OFFSET(H963,0,0,Overview!$C$1))","v":{"$error":"#N/A"}},{"$f":"AVERAGE(OFFSET(H963,0,0,Overview!$C$2))","v":{"$error":"#N/A"}},{"$f":"IF((L964<K964)*(L963>K963),K963,\"\")","v":{"$error":"#N/A"}},{"$f":"IF((L964>K964)*(L963<K963),K963,\"\")","v":{"$error":"#N/A"}}]
[null,{"$f":"IF(YEAR(D964)=YEAR(D965),\"\",YEAR(D964))","v":{"$error":"#N/A"}},{"$error":"#N/A"},{"$error":"#N/A"},{"$error":"#N/A"},{"$error":"#N/A"},{"$error":"#N/A"},{"$error":"#N/A"},{"$error":"#N/A"},{"$error":"#N/A"},{"$f":"AVERAGE(OFFSET(H964,0,0,Overview!$C$1))","v":{"$error":"#N/A"}},{"$f":"AVERAGE(OFFSET(H964,0,0,Overview!$C$2))","v":{"$error":"#N/A"}},{"$error":"#N/A"},{"$error":"#N/A"}]
[null,{"$error":"#N/A"},{"$error":"#N/A"},{"$error":"#N/A"},{"$error":"#N/A"},{"$error":"#N/A"},{"$error":"#N/A"},{"$error":"#N/A"},{"$error":"#N/A"},{"$error":"#N/A"},{"$f":"AVERAGE(OFFSET(H965,0,0,Overview!$C$1))","v":{"$error":"#N/A"}},{"$f":"AVERAGE(OFFSET(H965,0,0,Overview!$C$2))","v":{"$error":"#N/A"}},{"$error":"#N/A"},{"$error":"#N/A"}]
[null,{"$error":"#N/A"},{"$error":"#N/A"},{"$error":"#N/A"},{"$error":"#N/A"},{"$error":"#N/A"},{"$error":"#N/A"},{"$error":"#N/A"},{"$error":"#N/A"},{"$error":"#N/A"},{"$f":"AVERAGE(OFFSET(H966,0,0,Overview!$C$1))","v":{"$error":"#N/A"}},{"$f":"AVERAGE(OFFSET(H966,0,0,Overview!$C$2))","v":{"$error":"#N/A"}},{"$error":"#N/A"},{"$error":"#N/A"}]
[null,{"$error":"#N/A"},{"$error":"#N/A"},{"$error":"#N/A"},{"$error":"#N/A"},{"$error":"#N/A"},{"$error":"#N/A"},{"$error":"#N/A"},{"$error":"#N/A"},{"$error":"#N/A"},{"$f":"AVERAGE(OFFSET(H967,0,0,Overview!$C$1))","v":{"$error":"#N/A"}},{"$f":"AVERAGE(OFFSET(H967,0,0,Overview!$C$2))","v":{"$error":"#N/A"}},{"$error":"#N/A"},{"$error":"#N/A"}]
[null,{"$error":"#N/A"},{"$error":"#N/A"},{"$error":"#N/A"},{"$error":"#N/A"},{"$error":"#N/A"},{"$error":"#N/A"},{"$error":"#N/A"},{"$error":"#N/A"},{"$error":"#N/A"},{"$f":"AVERAGE(OFFSET(H968,0,0,Overview!$C$1))","v":{"$error":"#N/A"}},{"$f":"AVERAGE(OFFSET(H968,0,0,Overview!$C$2))","v":{"$error":"#N/A"}},{"$error":"#N/A"},{"$error":"#N/A"}]
[null,{"$error":"#N/A"},{"$error":"#N/A"},{"$error":"#N/A"},{"$error":"#N/A"},{"$error":"#N/A"},{"$error":"#N/A"},{"$error":"#N/A"},{"$error":"#N/A"},{"$error":"#N/A"},{"$f":"AVERAGE(OFFSET(H969,0,0,Overview!$C$1))","v":{"$error":"#N/A"}},{"$f":"AVERAGE(OFFSET(H969,0,0,Overview!$C$2))","v":{"$error":"#N/A"}},{"$error":"#N/A"},{"$error":"#N/A"}]
[null,{"$error":"#N/A"},{"$error":"#N/A"},{"$error":"#N/A"},{"$error":"#N/A"},{"$error":"#N/A"},{"$error":"#N/A"},{"$error":"#N/A"},{"$error":"#N/A"},{"$error":"#N/A"},{"$f":"AVERAGE(OFFSET(H970,0,0,Overview!$C$1))","v":{"$error":"#N/A"}},{"$f":"AVERAGE(OFFSET(H970,0,0,Overview!$C$2))","v":{"$error":"#N/A"}},{"$error":"#N/A"},{"$error":"#N/A"}]
[null,{"$error":"#N/A"},{"$error":"#N/A"},{"$error":"#N/A"},{"$error":"#N/A"},{"$error":"#N/A"},{"$error":"#N/A"},{"$error":"#N/A"},{"$error":"#N/A"},{"$error":"#N/A"},{"$f":"AVERAGE(OFFSET(H971,0,0,Overview!$C$1))","v":{"$error":"#N/A"}},{"$f":"AVERAGE(OFFSET(H971,0,0,Overview!$C$2))","v":{"$error":"#N/A"}},{"$error":"#N/A"},{"$error":"#N/A"}]
[null,{"$error":"#N/A"},{"$error":"#N/A"},{"$error":"#N/A"},{"$error":"#N/A"},{"$error":"#N/A"},{"$error":"#N/A"},{"$error":"#N/A"},{"$error":"#N/A"},{"$error":"#N/A"},{"$f":"AVERAGE(OFFSET(H972,0,0,Overview!$C$1))","v":{"$error":"#N/A"}},{"$f":"AVERAGE(OFFSET(H972,0,0,Overview!$C$2))","v":{"$error":"#N/A"}},{"$error":"#N/A"},{"$error":"#N/A"}]
[null,{"$error":"#N/A"},{"$error":"#N/A"},{"$error":"#N/A"},{"$error":"#N/A"},{"$error":"#N/A"},{"$error":"#N/A"},{"$error":"#N/A"},{"$error":"#N/A"},{"$error":"#N/A"},{"$f":"AVERAGE(OFFSET(H973,0,0,Overview!$C$1))","v":{"$error":"#N/A"}},{"$f":"AVERAGE(OFFSET(H973,0,0,Overview!$C$2))","v":{"$error":"#N/A"}},{"$error":"#N/A"},{"$error":"#N/A"}]
[null,{"$error":"#N/A"},{"$error":"#N/A"},{"$error":"#N/A"},{"$error":"#N/A"},{"$error":"#N/A"},{"$error":"#N/A"},{"$error":"#N/A"},{"$error":"#N/A"},{"$error":"#N/A"},{"$f":"AVERAGE(OFFSET(H974,0,0,Overview!$C$1))","v":{"$error":"#N/A"}},{"$f":"AVERAGE(OFFSET(H974,0,0,Overview!$C$2))","v":{"$error":"#N/A"}},{"$error":"#N/A"},{"$error":"#N/A"}]
[null,{"$error":"#N/A"},{"$error":"#N/A"},{"$error":"#N/A"},{"$error":"#N/A"},{"$error":"#N/A"},{"$error":"#N/A"},{"$error":"#N/A"},{"$error":"#N/A"},{"$error":"#N/A"},{"$f":"AVERAGE(OFFSET(H975,0,0,Overview!$C$1))","v":{"$error":"#N/A"}},{"$f":"AVERAGE(OFFSET(H975,0,0,Overview!$C$2))","v":{"$error":"#N/A"}},{"$error":"#N/A"},{"$error":"#N/A"}]
[null,{"$error":"#N/A"},{"$error":"#N/A"},{"$error":"#N/A"},{"$error":"#N/A"},{"$error":"#N/A"},{"$error":"#N/A"},{"$error":"#N/A"},{"$error":"#N/A"},{"$error":"#N/A"},{"$f":"AVERAGE(OFFSET(H976,0,0,Overview!$C$1))","v":{"$error":"#N/A"}},{"$f":"AVERAGE(OFFSET(H976,0,0,Overview!$C$2))","v":{"$error":"#N/A"}},{"$error":"#N/A"},{"$error":"#N/A"}]
[null,{"$error":"#N/A"},{"$error":"#N/A"},{"$error":"#N/A"},{"$error":"#N/A"},{"$error":"#N/A"},{"$error":"#N/A"},{"$error":"#N/A"},{"$error":"#N/A"},{"$error":"#N/A"},{"$f":"AVERAGE(OFFSET(H977,0,0,Overview!$C$1))","v":{"$error":"#N/A"}},{"$f":"AVERAGE(OFFSET(H977,0,0,Overview!$C$2))","v":{"$error":"#N/A"}},{"$error":"#N/A"},{"$error":"#N/A"}]
[null,{"$error":"#N/A"},{"$error":"#N/A"},{"$error":"#N/A"},{"$error":"#N/A"},{"$error":"#N/A"},{"$error":"#N/A"},{"$error":"#N/A"},{"$error":"#N/A"},{"$error":"#N/A"},{"$f":"AVERAGE(OFFSET(H978,0,0,Overview!$C$1))","v":{"$error":"#N/A"}},{"$f":"AVERAGE(OFFSET(H978,0,0,Overview!$C$2))","v":{"$error":"#N/A"}},{"$error":"#N/A"},{"$error":"#N/A"}]
[null,{"$error":"#N/A"},{"$error":"#N/A"},{"$error":"#N/A"},{"$error":"#N/A"},{"$error":"#N/A"},{"$error":"#N/A"},{"$error":"#N/A"},{"$error":"#N/A"},{"$error":"#N/A"},{"$f":"AVERAGE(OFFSET(H979,0,0,Overview!$C$1))","v":{"$error":"#N/A"}},{"$f":"AVERAGE(OFFSET(H979,0,0,Overview!$C$2))","v":{"$error":"#N/A"}},{"$error":"#N/A"},{"$error":"#N/A"}]
[null,{"$error":"#N/A"},{"$error":"#N/A"},{"$error":"#N/A"},{"$error":"#N/A"},{"$error":"#N/A"},{"$error":"#N/A"},{"$error":"#N/A"},{"$error":"#N/A"},{"$error":"#N/A"},{"$f":"AVERAGE(OFFSET(H980,0,0,Overview!$C$1))","v":{"$error":"#N/A"}},{"$f":"AVERAGE(OFFSET(H980,0,0,Overview!$C$2))","v":{"$error":"#N/A"}},{"$error":"#N/A"},{"$error":"#N/A"}]
[null,{"$error":"#N/A"},{"$error":"#N/A"},{"$error":"#N/A"},{"$error":"#N/A"},{"$error":"#N/A"},{"$error":"#N/A"},{"$error":"#N/A"},{"$error":"#N/A"},{"$error":"#N/A"},{"$f":"AVERAGE(OFFSET(H981,0,0,Overview!$C$1))","v":{"$error":"#N/A"}},{"$f":"AVERAGE(OFFSET(H981,0,0,Overview!$C$2))","v":{"$error":"#N/A"}},{"$error":"#N/A"},{"$error":"#N/A"}]
[null,{"$error":"#N/A"},{"$error":"#N/A"},{"$error":"#N/A"},{"$error":"#N/A"},{"$error":"#N/A"},{"$error":"#N/A"},{"$error":"#N/A"},{"$error":"#N/A"},{"$error":"#N/A"},{"$f":"AVERAGE(OFFSET(H982,0,0,Overview!$C$1))","v":{"$error":"#N/A"}},{"$f":"AVERAGE(OFFSET(H982,0,0,Overview!$C$2))","v":{"$error":"#N/A"}},{"$error":"#N/A"},{"$error":"#N/A"}]
[null,{"$error":"#N/A"},{"$error":"#N/A"},{"$error":"#N/A"},{"$error":"#N/A"},{"$error":"#N/A"},{"$error":"#N/A"},{"$error":"#N/A"},{"$error":"#N/A"},{"$error":"#N/A"},{"$f":"AVERAGE(OFFSET(H983,0,0,Overview!$C$1))","v":{"$error":"#N/A"}},{"$f":"AVERAGE(OFFSET(H983,0,0,Overview!$C$2))","v":{"$error":"#N/A"}},{"$error":"#N/A"},{"$error":"#N/A"}]
[null,{"$error":"#N/A"},{"$error":"#N/A"},{"$error":"#N/A"},{"$error":"#N/A"},{"$error":"#N/A"},{"$error":"#N/A"},{"$error":"#N/A"},{"$error":"#N/A"},{"$error":"#N/A"},{"$f":"AVERAGE(OFFSET(H984,0,0,Overview!$C$1))","v":{"$error":"#N/A"}},{"$f":"AVERAGE(OFFSET(H984,0,0,Overview!$C$2))","v":{"$error":"#N/A"}},{"$error":"#N/A"},{"$error":"#N/A"}]
[null,{"$error":"#N/A"},{"$error":"#N/A"},{"$error":"#N/A"},{"$error":"#N/A"},{"$error":"#N/A"},{"$error":"#N/A"},{"$error":"#N/A"},{"$error":"#N/A"},{"$error":"#N/A"},{"$f":"AVERAGE(OFFSET(H985,0,0,Overview!$C$1))","v":{"$error":"#N/A"}},{"$f":"AVERAGE(OFFSET(H985,0,0,Overview!$C$2))","v":{"$error":"#N/A"}},{"$error":"#N/A"},{"$error":"#N/A"}]
[null,{"$error":"#N/A"},{"$error":"#N/A"},{"$error":"#N/A"},{"$error":"#N/A"},{"$error":"#N/A"},{"$error":"#N/A"},{"$error":"#N/A"},{"$error":"#N/A"},{"$error":"#N/A"},{"$f":"AVERAGE(OFFSET(H986,0,0,Overview!$C$1))","v":{"$error":"#N/A"}},{"$f":"AVERAGE(OFFSET(H986,0,0,Overview!$C$2))","v":{"$error":"#N/A"}},{"$error":"#N/A"},{"$error":"#N/A"}]
[null,{"$error":"#N/A"},{"$error":"#N/A"},{"$error":"#N/A"},{"$error":"#N/A"},{"$error":"#N/A"},{"$error":"#N/A"},{"$error":"#N/A"},{"$error":"#N/A"},{"$error":"#N/A"},{"$f":"AVERAGE(OFFSET(H987,0,0,Overview!$C$1))","v":{"$error":"#N/A"}},{"$f":"AVERAGE(OFFSET(H987,0,0,Overview!$C$2))","v":{"$error":"#N/A"}},{"$error":"#N/A"},{"$error":"#N/A"}]
[null,{"$error":"#N/A"},{"$error":"#N/A"},{"$error":"#N/A"},{"$error":"#N/A"},{"$error":"#N/A"},{"$error":"#N/A"},{"$error":"#N/A"},{"$error":"#N/A"},{"$error":"#N/A"},{"$f":"AVERAGE(OFFSET(H988,0,0,Overview!$C$1))","v":{"$error":"#N/A"}},{"$f":"AVERAGE(OFFSET(H988,0,0,Overview!$C$2))","v":{"$error":"#N/A"}},{"$error":"#N/A"},{"$error":"#N/A"}]
[null,{"$error":"#N/A"},{"$error":"#N/A"},{"$error":"#N/A"},{"$error":"#N/A"},{"$error":"#N/A"},{"$error":"#N/A"},{"$error":"#N/A"},{"$error":"#N/A"},{"$error":"#N/A"},{"$f":"AVERAGE(OFFSET(H989,0,0,Overview!$C$1))","v":{"$error":"#N/A"}},{"$f":"AVERAGE(OFFSET(H989,0,0,Overview!$C$2))","v":{"$error":"#N/A"}},{"$error":"#N/A"},{"$error":"#N/A"}]
[null,{"$error":"#N/A"},{"$error":"#N/A"},{"$error":"#N/A"},{"$error":"#N/A"},{"$error":"#N/A"},{"$error":"#N/A"},{"$error":"#N/A"},{"$error":"#N/A"},{"$error":"#N/A"},{"$f":"AVERAGE(OFFSET(H990,0,0,Overview!$C$1))","v":{"$error":"#N/A"}},{"$f":"AVERAGE(OFFSET(H990,0,0,Overview!$C$2))","v":{"$error":"#N/A"}},{"$error":"#N/A"},{"$error":"#N/A"}]
[null,{"$error":"#N/A"},{"$error":"#N/A"},{"$error":"#N/A"},{"$error":"#N/A"},{"$error":"#N/A"},{"$error":"#N/A"},{"$error":"#N/A"},{"$error":"#N/A"},{"$error":"#N/A"},{"$f":"AVERAGE(OFFSET(H991,0,0,Overview!$C$1))","v":{"$error":"#N/A"}},{"$f":"AVERAGE(OFFSET(H991,0,0,Overview!$C$2))","v":{"$error":"#N/A"}},{"$error":"#N/A"},{"$error":"#N/A"}]
[null,{"$error":"#N/A"},{"$error":"#N/A"},{"$error":"#N/A"},{"$error":"#N/A"},{"$error":"#N/A"},{"$error":"#N/A"},{"$error":"#N/A"},{"$error":"#N/A"},{"$error":"#N/A"},{"$f":"AVERAGE(OFFSET(H992,0,0,Overview!$C$1))","v":{"$error":"#N/A"}},{"$f":"AVERAGE(OFFSET(H992,0,0,Overview!$C$2))","v":{"$error":"#N/A"}},{"$error":"#N/A"},{"$error":"#N/A"}]
[null,{"$error":"#N/A"},{"$error":"#N/A"},{"$error":"#N/A"},{"$error":"#N/A"},{"$error":"#N/A"},{"$error":"#N/A"},{"$error":"#N/A"},{"$error":"#N/A"},{"$error":"#N/A"},{"$f":"AVERAGE(OFFSET(H993,0,0,Overview!$C$1))","v":{"$error":"#N/A"}},{"$f":"AVERAGE(OFFSET(H993,0,0,Overview!$C$2))","v":{"$error":"#N/A"}},{"$error":"#N/A"},{"$error":"#N/A"}]
[null,{"$error":"#N/A"},{"$error":"#N/A"},{"$error":"#N/A"},{"$error":"#N/A"},{"$error":"#N/A"},{"$error":"#N/A"},{"$error":"#N/A"},{"$error":"#N/A"},{"$error":"#N/A"},{"$f":"AVERAGE(OFFSET(H994,0,0,Overview!$C$1))","v":{"$error":"#N/A"}},{"$f":"AVERAGE(OFFSET(H994,0,0,Overview!$C$2))","v":{"$error":"#N/A"}},{"$error":"#N/A"},{"$error":"#N/A"}]
[null,{"$error":"#N/A"},{"$error":"#N/A"},{"$error":"#N/A"},{"$error":"#N/A"},{"$error":"#N/A"},{"$error":"#N/A"},{"$error":"#N/A"},{"$error":"#N/A"},{"$error":"#N/A"},{"$f":"AVERAGE(OFFSET(H995,0,0,Overview!$C$1))","v":{"$error":"#N/A"}},{"$f":"AVERAGE(OFFSET(H995,0,0,Overview!$C$2))","v":{"$error":"#N/A"}},{"$error":"#N/A"},{"$error":"#N/A"}]
[null,{"$error":"#N/A"},{"$error":"#N/A"},{"$error":"#N/A"},{"$error":"#N/A"},{"$error":"#N/A"},{"$error":"#N/A"},{"$error":"#N/A"},{"$error":"#N/A"},{"$error":"#N/A"},{"$f":"AVERAGE(OFFSET(H996,0,0,Overview!$C$1))","v":{"$error":"#N/A"}},{"$f":"AVERAGE(OFFSET(H996,0,0,Overview!$C$2))","v":{"$error":"#N/A"}},{"$error":"#N/A"},{"$error":"#N/A"}]
[null,{"$error":"#N/A"},{"$error":"#N/A"},{"$error":"#N/A"},{"$error":"#N/A"},{"$error":"#N/A"},{"$error":"#N/A"},{"$error":"#N/A"},{"$error":"#N/A"},{"$error":"#N/A"},{"$f":"AVERAGE(OFFSET(H997,0,0,Overview!$C$1))","v":{"$error":"#N/A"}},{"$f":"AVERAGE(OFFSET(H997,0,0,Overview!$C$2))","v":{"$error":"#N/A"}},{"$error":"#N/A"},{"$error":"#N/A"}]
[null,{"$error":"#N/A"},{"$error":"#N/A"},{"$error":"#N/A"},{"$error":"#N/A"},{"$error":"#N/A"},{"$error":"#N/A"},{"$error":"#N/A"},{"$error":"#N/A"},{"$error":"#N/A"},{"$f":"AVERAGE(OFFSET(H998,0,0,Overview!$C$1))","v":{"$error":"#N/A"}},{"$f":"AVERAGE(OFFSET(H998,0,0,Overview!$C$2))","v":{"$error":"#N/A"}},{"$error":"#N/A"},{"$error":"#N/A"}]
[null,{"$error":"#N/A"},{"$error":"#N/A"},{"$error":"#N/A"},{"$error":"#N/A"},{"$error":"#N/A"},{"$error":"#N/A"},{"$error":"#N/A"},{"$error":"#N/A"},{"$error":"#N/A"},{"$f":"AVERAGE(OFFSET(H999,0,0,Overview!$C$1))","v":{"$error":"#N/A"}},{"$f":"AVERAGE(OFFSET(H999,0,0,Overview!$C$2))","v":{"$error":"#N/A"}},{"$error":"#N/A"},{"$error":"#N/A"}]
[null,{"$error":"#N/A"},{"$error":"#N/A"},{"$error":"#N/A"},{"$error":"#N/A"},{"$error":"#N/A"},{"$error":"#N/A"},{"$error":"#N/A"},{"$error":"#N/A"},{"$error":"#N/A"},{"$f":"AVERAGE(OFFSET(H1000,0,0,Overview!$C$1))","v":{"$error":"#N/A"}},{"$f":"AVERAGE(OFFSET(H1000,0,0,Overview!$C$2))","v":{"$error":"#N/A"}},{"$error":"#N/A"},{"$error":"#N/A"}]