{"text_format":"1","workbook":"xlsx","n_sheets":4,"sheets":["Addition +","Subtraction -","Multiplication","Division "],"not_rendered":{"charts":0,"images":0,"macros":1,"external_links":0,"defined_names":0,"comments":0,"pivot_tables":0},"unopened":[],"bounds":{"document_bytes":16777216,"sheet_cells":100000,"rows_first":2000,"rows_last":500,"rows_between":2000,"halvings":0,"cell_chars":16384,"cell_head_chars":4096},"cells_cut":0,"cells_raw":0,"read":"whole","date_system":"1900"}

{"sheet":"Addition +","index":0,"n_rows":20,"n_cols":7,"rows_kept":20,"cut":false,"hidden":false,"merged":[]}
[]
[null,{"$f":"RandomBetween($C$20,$E$20)","v":8},"+",{"$f":"RandomBetween($C$20,$E$20)","v":3},"=",null,{"$f":"IF(F2=\"\",\"\",IF(F2=(B2+D2), \"Good!\", \"Try again!\"))","v":""}]
[]
[null,{"$f":"RandomBetween($C$20,$E$20)","v":7},"+",{"$f":"RandomBetween($C$20,$E$20)","v":6},"=",null,{"$f":"IF(F4=\"\",\"\",IF(F4=(B4+D4), \"Good!\", \"Try again!\"))","v":""}]
[]
[null,{"$f":"RandomBetween($C$20,$E$20)","v":7},"+",{"$f":"RandomBetween($C$20,$E$20)","v":10},"=",null,{"$f":"IF(F6=\"\",\"\",IF(F6=(B6+D6), \"Good!\", \"Try again!\"))","v":""}]
[]
[null,{"$f":"RandomBetween($C$20,$E$20)","v":9},"+",{"$f":"RandomBetween($C$20,$E$20)","v":9},"=",null,{"$f":"IF(F8=\"\",\"\",IF(F8=(B8+D8), \"Good!\", \"Try again!\"))","v":""}]
[]
[null,{"$f":"RandomBetween($C$20,$E$20)","v":9},"+",{"$f":"RandomBetween($C$20,$E$20)","v":10},"=",null,{"$f":"IF(F10=\"\",\"\",IF(F10=(B10+D10), \"Good!\", \"Try again!\"))","v":""}]
[]
[null,{"$f":"RandomBetween($C$20,$E$20)","v":4},"+",{"$f":"RandomBetween($C$20,$E$20)","v":6},"=",null,{"$f":"IF(F12=\"\",\"\",IF(F12=(B12+D12), \"Good!\", \"Try again!\"))","v":""}]
[]
[null,{"$f":"RandomBetween($C$20,$E$20)","v":4},"+",{"$f":"RandomBetween($C$20,$E$20)","v":9},"=",null,{"$f":"IF(F14=\"\",\"\",IF(F14=(B14+D14), \"Good!\", \"Try again!\"))","v":""}]
[]
[null,{"$f":"RandomBetween($C$20,$E$20)","v":8},"+",{"$f":"RandomBetween($C$20,$E$20)","v":2},"=",null,{"$f":"IF(F16=\"\",\"\",IF(F16=(B16+D16), \"Good!\", \"Try again!\"))","v":""}]
[]
[null,{"$f":"RandomBetween($C$20,$E$20)","v":9},"+",{"$f":"RandomBetween($C$20,$E$20)","v":3},"=",null,{"$f":"IF(F18=\"\",\"\",IF(F18=(B18+D18), \"Good!\", \"Try again!\"))","v":""}]
[]
[null,"From:",1,"To:",10]

{"sheet":"Subtraction -","index":1,"n_rows":20,"n_cols":7,"rows_kept":20,"cut":false,"hidden":false,"merged":[]}
[]
[null,{"$f":"RandomBetween($C$20,$E$20)","v":2},"-",{"$f":"RandomBetween($C$20,B2)","v":2},"=",null,{"$f":"IF(F2=\"\",\"\",IF(F2=(B2-D2), \"Good!\", \"Try again!\"))","v":""}]
[]
[null,{"$f":"RandomBetween($C$20,$E$20)","v":5},"-",{"$f":"RandomBetween($C$20,B4)","v":5},"=",null,{"$f":"IF(F4=\"\",\"\",IF(F4=(B4-D4), \"Good!\", \"Try again!\"))","v":""}]
[]
[null,{"$f":"RandomBetween($C$20,$E$20)","v":20},"-",{"$f":"RandomBetween($C$20,B6)","v":15},"=",null,{"$f":"IF(F6=\"\",\"\",IF(F6=(B6-D6), \"Good!\", \"Try again!\"))","v":""}]
[]
[null,{"$f":"RandomBetween($C$20,$E$20)","v":13},"-",{"$f":"RandomBetween($C$20,B8)","v":3},"=",null,{"$f":"IF(F8=\"\",\"\",IF(F8=(B8-D8), \"Good!\", \"Try again!\"))","v":""}]
[]
[null,{"$f":"RandomBetween($C$20,$E$20)","v":19},"-",{"$f":"RandomBetween($C$20,B10)","v":9},"=",null,{"$f":"IF(F10=\"\",\"\",IF(F10=(B10-D10), \"Good!\", \"Try again!\"))","v":""}]
[]
[null,{"$f":"RandomBetween($C$20,$E$20)","v":20},"-",{"$f":"RandomBetween($C$20,B12)","v":17},"=",null,{"$f":"IF(F12=\"\",\"\",IF(F12=(B12-D12), \"Good!\", \"Try again!\"))","v":""}]
[]
[null,{"$f":"RandomBetween($C$20,$E$20)","v":11},"-",{"$f":"RandomBetween($C$20,B14)","v":7},"=",null,{"$f":"IF(F14=\"\",\"\",IF(F14=(B14-D14), \"Good!\", \"Try again!\"))","v":""}]
[]
[null,{"$f":"RandomBetween($C$20,$E$20)","v":20},"-",{"$f":"RandomBetween($C$20,B16)","v":4},"=",null,{"$f":"IF(F16=\"\",\"\",IF(F16=(B16-D16), \"Good!\", \"Try again!\"))","v":""}]
[]
[null,{"$f":"RandomBetween($C$20,$E$20)","v":1},"-",{"$f":"RandomBetween($C$20,B18)","v":1},"=",null,{"$f":"IF(F18=\"\",\"\",IF(F18=(B18-D18), \"Good!\", \"Try again!\"))","v":""}]
[]
[null,"From:",1,"To:",20]

{"sheet":"Multiplication","index":2,"n_rows":20,"n_cols":7,"rows_kept":20,"cut":false,"hidden":false,"merged":[]}
[]
[null,{"$f":"RandomBetween($C$20,$E$20)","v":5},"*",{"$f":"RandomBetween($C$20,$E$20)","v":10},"=",null,{"$f":"IF(F2=\"\",\"\",IF(F2=(B2*D2), \"Good!\", \"Try again!\"))","v":""}]
[]
[null,{"$f":"RandomBetween($C$20,$E$20)","v":5},"*",{"$f":"RandomBetween($C$20,$E$20)","v":7},"=",null,{"$f":"IF(F4=\"\",\"\",IF(F4=(B4*D4), \"Good!\", \"Try again!\"))","v":""}]
[]
[null,{"$f":"RandomBetween($C$20,$E$20)","v":7},"*",{"$f":"RandomBetween($C$20,$E$20)","v":8},"=",null,{"$f":"IF(F6=\"\",\"\",IF(F6=(B6*D6), \"Good!\", \"Try again!\"))","v":""}]
[]
[null,{"$f":"RandomBetween($C$20,$E$20)","v":8},"*",{"$f":"RandomBetween($C$20,$E$20)","v":7},"=",null,{"$f":"IF(F8=\"\",\"\",IF(F8=(B8*D8), \"Good!\", \"Try again!\"))","v":""}]
[]
[null,{"$f":"RandomBetween($C$20,$E$20)","v":1},"*",{"$f":"RandomBetween($C$20,$E$20)","v":3},"=",null,{"$f":"IF(F10=\"\",\"\",IF(F10=(B10*D10), \"Good!\", \"Try again!\"))","v":""}]
[]
[null,{"$f":"RandomBetween($C$20,$E$20)","v":5},"*",{"$f":"RandomBetween($C$20,$E$20)","v":7},"=",null,{"$f":"IF(F12=\"\",\"\",IF(F12=(B12*D12), \"Good!\", \"Try again!\"))","v":""}]
[]
[null,{"$f":"RandomBetween($C$20,$E$20)","v":4},"*",{"$f":"RandomBetween($C$20,$E$20)","v":2},"=",null,{"$f":"IF(F14=\"\",\"\",IF(F14=(B14*D14), \"Good!\", \"Try again!\"))","v":""}]
[]
[null,{"$f":"RandomBetween($C$20,$E$20)","v":3},"*",{"$f":"RandomBetween($C$20,$E$20)","v":5},"=",null,{"$f":"IF(F16=\"\",\"\",IF(F16=(B16*D16), \"Good!\", \"Try again!\"))","v":""}]
[]
[null,{"$f":"RandomBetween($C$20,$E$20)","v":2},"*",{"$f":"RandomBetween($C$20,$E$20)","v":5},"=",null,{"$f":"IF(F18=\"\",\"\",IF(F18=(B18*D18), \"Good!\", \"Try again!\"))","v":""}]
[]
[null,"From:",1,"To:",10]

{"sheet":"Division ","index":3,"n_rows":20,"n_cols":7,"rows_kept":20,"cut":false,"hidden":false,"merged":[]}
[]
[null,{"$f":"RandomBetweenDivison($C$20,$E$20)","v":21},"/",{"$f":"RandomBetweenDivison($C$20,$E$20,B2)","v":3},"=",null,{"$f":"IF(F2=\"\",\"\",IF(F2=(B2/D2), \"Good!\", \"Try again!\"))","v":""}]
[]
[null,{"$f":"RandomBetweenDivison($C$20,$E$20)","v":10},"/",{"$f":"RandomBetweenDivison($C$20,$E$20,B4)","v":10},"=",null,{"$f":"IF(F4=\"\",\"\",IF(F4=(B4/D4), \"Good!\", \"Try again!\"))","v":""}]
[]
[null,{"$f":"RandomBetweenDivison($C$20,$E$20)","v":9},"/",{"$f":"RandomBetweenDivison($C$20,$E$20,B6)","v":3},"=",null,{"$f":"IF(F6=\"\",\"\",IF(F6=(B6/D6), \"Good!\", \"Try again!\"))","v":""}]
[]
[null,{"$f":"RandomBetweenDivison($C$20,$E$20)","v":36},"/",{"$f":"RandomBetweenDivison($C$20,$E$20,B8)","v":12},"=",null,{"$f":"IF(F8=\"\",\"\",IF(F8=(B8/D8), \"Good!\", \"Try again!\"))","v":""}]
[]
[null,{"$f":"RandomBetweenDivison($C$20,$E$20)","v":10},"/",{"$f":"RandomBetweenDivison($C$20,$E$20,B10)","v":10},"=",null,{"$f":"IF(F10=\"\",\"\",IF(F10=(B10/D10), \"Good!\", \"Try again!\"))","v":""}]
[]
[null,{"$f":"RandomBetweenDivison($C$20,$E$20)","v":25},"/",{"$f":"RandomBetweenDivison($C$20,$E$20,B12)","v":25},"=",null,{"$f":"IF(F12=\"\",\"\",IF(F12=(B12/D12), \"Good!\", \"Try again!\"))","v":""}]
[]
[null,{"$f":"RandomBetweenDivison($C$20,$E$20)","v":7},"/",{"$f":"RandomBetweenDivison($C$20,$E$20,B14)","v":7},"=",null,{"$f":"IF(F14=\"\",\"\",IF(F14=(B14/D14), \"Good!\", \"Try again!\"))","v":""}]
[]
[null,{"$f":"RandomBetweenDivison($C$20,$E$20)","v":21},"/",{"$f":"RandomBetweenDivison($C$20,$E$20,B16)","v":21},"=",null,{"$f":"IF(F16=\"\",\"\",IF(F16=(B16/D16), \"Good!\", \"Try again!\"))","v":""}]
[]
[null,{"$f":"RandomBetweenDivison($C$20,$E$20)","v":30},"/",{"$f":"RandomBetweenDivison($C$20,$E$20,B18)","v":30},"=",null,{"$f":"IF(F18=\"\",\"\",IF(F18=(B18/D18), \"Good!\", \"Try again!\"))","v":""}]
[]
[null,"From:",1,"To:",7]